Workbook

Sheet Program
A2: Uge 1 - Mandag | O2: Uge 1 - Fredag
A4: Squat / Front squat | O4: Squat / Front squat
A5: 2*3 | E5: =(70/100*'Max løft'!D5) -> 70 | F5: kg | O5: 2*3 | S5: =(70/100*'Max løft'!D5) -> 70 | T5: kg
A6: 6*3 | E6: =(80/100*'Max løft'!D5) -> 80 | F6: kg | O6: 5*3 | S6: =(80/100*'Max løft'!D5) -> 80 | T6: kg
A8: Bb bench press | O8: Bb bench press
A9: 5*5 | E9: =(77.5/100*'Max løft'!D1) -> 77.5 | F9: kg | O9: 8*3 | S9: =(70/100*'Max løft'!D1) -> 70 | T9: kg
A11: Squat / Front squat | O11: Db incline flyers
A12: 5*3 | E12: =(75/100*'Max løft'!D5) -> 75 | F12: kg | O12: 4*8 | T12: kg
A14: Bb incline bench press | O14: Dips
A15: 5*3 | E15: =(75/100*'Max løft'!D2) -> 75 | F15: kg | O15: 5*6 | T15: kg
A17: Dips | O17: Squat / Front squat
A18: 5*6 | F18: kg | O18: 4*4 | S18: =(70/100*'Max løft'!D5) -> 70 | T18: kg
A20: Smith standing calf raise | O20: Smith standing calf raise
A21: 4*8 | F21: kg | O21: 4*8 | T21: kg
A27: Uge 1 - Onsdag | O27: Uge 1 - Lørdag
A29: Deadlift / Rack pulls | O29: Bb push press
A30: 5*5 | E30: =(75/100*'Max løft'!D4) -> 75 | F30: kg | O30: 5*5 | S30: =(75/100*'Max løft'!D3) -> 75 | T30: kg
A32: Bb push press | O32: Deadlift / Rack pulls
A33: 8*3 | E33: =(70/100*'Max løft'!D3) -> 70 | F33: kg | O33: 8*3 | S33: =(70/100*'Max løft'!D4) -> 70 | T33: kg
A35: Db lateral raise | O35: Db lateral raise
A36: 4*8 | F36: kg | O36: 4*8 | T36: kg
A38: Db bent over lateral raise | O38: Db bent over lateral raise
A39: 4*8 | F39: kg | O39: 4*8 | T39: kg
A41: Pull ups | O41: Pull ups
A42: 4*6-8 | F42: kg | O42: 4*6-8 | T42: kg
A44: Leg curl | O44: Leg curl
A45: 4*6 | F45: kg | O45: 4*6 | T45: kg
A47: Smith seated calf raise
A48: 4*8 | F48: kg
A52: Uge 2 - Mandag | O52: Uge 2 - Fredag
A54: Squat / Front squat | O54: Squat / Front squat
A55: 2*3 | E55: =(70/100*'Max løft'!D5) -> 70 | F55: kg | O55: 5*5 | S55: =(70/100*'Max løft'!D5) -> 70 | T55: kg
A56: 2*2 | E56: =(80/100*'Max løft'!D5) -> 80 | F56: kg
A57: 3*1 | E57: =(90/100*'Max løft'!D5) -> 90 | F57: kg | O57: Bb bench press
O58: 8*3 | S58: =(70/100*'Max løft'!D1) -> 70 | T58: kg
A59: Bb bench press
A60: 5*3 | E60: =(85/100*'Max løft'!D1) -> 85 | F60: kg | O60: Dips
O61: 5*6 | T61: kg
A62: Squat / Front squat
A63: 2*3 | E63: =(70/100*'Max løft'!D5) -> 70 | F63: kg | O63: Db incline flyers
...

Sheet Max løft
A1: Barbell bench press | D1: 100 | F1: kg
A2: Barbell incline bench press | D2: 100 | F2: kg
A3: Barbell push press | D3: 100 | F3: kg
A4: Deadlift / Rack pulls | D4: 100 | F4: kg
A5: Squat / Front squat | D5: 100 | F5: kg

Sheet Ark3
