Workbook

Sheet Program
A2: Uge 1 - Mandag | O2: Uge 1 - Fredag
A4: Squat / Front squat | O4: Squat / Front squat
A5: 2*3 | E5: =(70/100*'Max løft'!D5) -> 70 | F5: kg | O5: 2*3 | S5: =(70/100*'Max løft'!D5) -> 70 | T5: kg
A6: 6*3 | E6: =(80/100*'Max løft'!D5) -> 80 | F6: kg | O6: 5*3 | S6: =(80/100*'Max løft'!D5) -> 80 | T6: kg
A8: Bb bench press | O8: Bb bench press
A9: 5*5 | E9: =(77.5/100*'Max løft'!D1) -> 77.5 | F9: kg | O9: 8*3 | S9: =(70/100*'Max løft'!D1) -> 70 | T9: kg
A11: Squat / Front squat | O11: Db incline flyers
A12: 5*3 | E12: =(75/100*'Max løft'!D5) -> 75 | F12: kg | O12: 4*8 | T12: kg
A14: Bb incline bench press | O14: Dips
A15: 5*3 | E15: =(75/100*'Max løft'!D2) -> 75 | F15: kg | O15: 5*6 | T15: kg
A17: Dips | O17: Squat / Front squat
A18: 5*6 | F18: kg | O18: 4*4 | S18: =(70/100*'Max løft'!D5) -> 70 | T18: kg
A20: Smith standing calf raise | O20: Smith standing calf raise
A21: 4*8 | F21: kg | O21: 4*8 | T21: kg
A27: Uge 1 - Onsdag | O27: Uge 1 - Lørdag
A29: Deadlift / Rack pulls | O29: Bb push press
A30: 5*5 | E30: =(75/100*'Max løft'!D4) -> 75 | F30: kg | O30: 5*5 | S30: =(75/100*'Max løft'!D3) -> 75 | T30: kg
A32: Bb push press | O32: Deadlift / Rack pulls
A33: 8*3 | E33: =(70/100*'Max løft'!D3) -> 70 | F33: kg | O33: 8*3 | S33: =(70/100*'Max løft'!D4) -> 70 | T33: kg
A35: Db lateral raise | O35: Db lateral raise
A36: 4*8 | F36: kg | O36: 4*8 | T36: kg
A38: Db bent over lateral raise | O38: Db bent over lateral raise
A39: 4*8 | F39: kg | O39: 4*8 | T39: kg
A41: Pull ups | O41: Pull ups
A42: 4*6-8 | F42: kg | O42: 4*6-8 | T42: kg
A44: Leg curl | O44: Leg curl
A45: 4*6 | F45: kg | O45: 4*6 | T45: kg
A47: Smith seated calf raise
A48: 4*8 | F48: kg
A52: Uge 2 - Mandag | O52: Uge 2 - Fredag
A54: Squat / Front squat | O54: Squat / Front squat
A55: 2*3 | E55: =(70/100*'Max løft'!D5) -> 70 | F55: kg | O55: 5*5 | S55: =(70/100*'Max løft'!D5) -> 70 | T55: kg
A56: 2*2 | E56: =(80/100*'Max løft'!D5) -> 80 | F56: kg
A57: 3*1 | E57: =(90/100*'Max løft'!D5) -> 90 | F57: kg | O57: Bb bench press
O58: 8*3 | S58: =(70/100*'Max løft'!D1) -> 70 | T58: kg
A59: Bb bench press
A60: 5*3 | E60: =(85/100*'Max løft'!D1) -> 85 | F60: kg | O60: Dips
O61: 5*6 | T61: kg
A62: Squat / Front squat
A63: 2*3 | E63: =(70/100*'Max løft'!D5) -> 70 | F63: kg | O63: Db incline flyers
A64: 4*2 | E64: =(80/100*'Max løft'!D5) -> 80 | F64: kg | O64: 4*8 | T64: kg
A66: Bb incline bench press | O66: Smith standing calf raise
A67: 5*3 | E67: =(75/100*'Max løft'!D2+2.5) -> 77.5 | F67: kg | O67: 4*8 | T67: kg
A69: Dips
A70: 5*6 | F70: kg
A72: Smith standing calf raise
A73: 4*8 | F73: kg
A76: Uge 2 - Onsdag | O76: Uge 2 - Lørdag
A78: Deadlift / Rack pulls | O78: Bb push press
A79: 5*3 | E79: =(80/100*'Max løft'!D4) -> 80 | F79: kg | O79: 5*3 | S79: =(80/100*'Max løft'!D3) -> 80 | T79: kg
A81: Bb push press | O81: Deadlift / Rack pulls
A82: 8*3 | E82: =(70/100*'Max løft'!D3) -> 70 | F82: kg | O82: 8*3 | S82: =(70/100*'Max løft'!D4) -> 70 | T82: kg
A84: Db lateral raise | O84: Db lateral raise
A85: 4*8 | F85: kg | O85: 4*8 | T85: kg
A87: Db bent over lateral raise | O87: Db bent over lateral raise
A88: 4*8 | F88: kg | O88: 4*8 | T88: kg
A90: Pull ups | O90: Pull ups
A91: 4*6-8 | F91: kg | O91: 4*6-8 | T91: kg
A93: Leg curl | O93: Leg curl
A94: 4*6 | F94: kg | O94: 4*6 | T94: kg
A96: Smith seated calf raise
A97: 4*8 | F97: kg
A102: Uge 3 - Mandag | O102: Uge 3 - Fredag
A104: Squat / Front squat | O104: Squat / Front squat
A105: 2*3 | E105: =(70/100*'Max løft'!D5) -> 70 | F105: kg | O105: 2*3 | S105: =(70/100*'Max løft'!D5) -> 70 | T105: kg
A106: 5*3 | E106: =(80/100*'Max løft'!D5) -> 80 | F106: kg | O106: 2*3 | S106: =(80/100*'Max løft'!D5) -> 80 | T106: kg
O107: 3*2 | S107: =(85/100*'Max løft'!D5) -> 85 | T107: kg
A108: Bb bench press | O108: 3*3 | S108: =(80/100*'Max løft'!D5) -> 80 | T108: kg
A109: 5*5 | E109: =(80/100*'Max løft'!D1) -> 80 | F109: kg
O110: Bb bench press
A111: Squat / Front squat | O111: 8*3 | S111: =(70/100*'Max løft'!D1) -> 70 | T111: kg
A112: 4*6 | E112: =(65/100*'Max løft'!D5) -> 65 | F112: kg
O113: Dips
A114: Bb incline bench press | O114: 5*6 | T114: kg
A115: 5*3 | E115: =(75/100*'Max løft'!D2+5) -> 80 | F115: kg
O116: Db incline flyers
A117: Dips | O117: 4*8 | T117: kg
A118: 5*6 | F118: kg
O119: Smith standing calf raise
A120: Smith standing calf raise | O120: 4*8 | T120: kg
A121: 4*8 | F121: kg
A126: Uge 3 - Onsdag | O126: Uge 3 - Lørdag
A128: Deadlift / Rack pulls | O128: Bb push press
A129: 5*5 | E129: =(77.5/100*'Max løft'!D4) -> 77.5 | F129: kg | O129: 5*5 | S129: =(80/100*'Max løft'!D3) -> 80 | T129: kg
A131: Bb push press | O131: Deadlift / Rack pulls
A132: 8*3 | E132: =(70/100*'Max løft'!D3) -> 70 | F132: kg | O132: 8*3 | S132: =(70/100*'Max løft'!D4) -> 70 | T132: kg
A134: Db lateral raise | O134: Db lateral raise
A135: 4*8 | F135: kg | O135: 4*8 | T135: kg
A137: Db bent over lateral raise | O137: Db bent over lateral raise
A138: 4*8 | F138: kg | O138: 4*8 | T138: kg
A140: Pull ups | O140: Pull ups
A141: 4*6-8 | F141: kg | O141: 4*6-8 | T141: kg
A143: Leg curl | O143: Leg curl
A144: 4*6 | F144: kg | O144: 4*6 | T144: kg
A146: Smith seated calf raise
A147: 4*8 | F147: kg
A152: Uge 4 - Mandag | O152: Uge 4 - Fredag
A154: Squat / Front squat | O154: Squat / Front squat
A155: 2*3 | E155: =(70/100*'Max løft'!D5) -> 70 | F155: kg | O155: 2*3 | S155: =(70/100*'Max løft'!D5) -> 70 | T155: kg
A156: 2*3 | E156: =(80/100*'Max løft'!D5) -> 80 | F156: kg | O156: 7*3 | S156: =(80/100*'Max løft'!D5) -> 80 | T156: kg
...

Sheet Max løft
A1: Barbell bench press | D1: 100 | F1: kg
A2: Barbell incline bench press | D2: 100 | F2: kg
A3: Barbell push press | D3: 100 | F3: kg
A4: Deadlift / Rack pulls | D4: 100 | F4: kg
A5: Squat / Front squat | D5: 100 | F5: kg

Sheet Ark3
