Workbook

Sheet Kun til beregning
A4: Complex | B4: Træning | C4: Vægtreduktion | D4: Pause | E4: Series | F4: Reps | G4: Serie 1 | H4: Serie 2 | I4: Serie 3 | J4: Single
A5: 1 | B5: 1 | C5: 10 | D5: 3 | E5: 3 | F5: 3,5,3 | G5: =IF(E5=1,J5-C5,IF(E5=2,J5-2*C5,IF(E5=3,J5-3*C5,0))) -> 100 | H5: =IF(E5=2,J5-C5,IF(E5=3,J5-2*C5,0)) -> 110 | I5: =IF(E5=3,J5-C5,0) -> 120 | J5: ='Indtast dit nær maks'!$B$1 -> 130 | K5: x
A6: 1 | B6: 2 | C6: 5 | D6: 5 | E6: 1 | F6: 2,3,2 | G6: =IF(E6=1,J6-C6,IF(E6=2,J6-2*C6,IF(E6=3,J6-3*C6,0))) -> 125 | H6: =IF(E6=2,J6-C6,IF(E6=3,J6-2*C6,0)) -> 0 | I6: =IF(E6=3,J6-C6,0) -> 0 | J6: ='Indtast dit nær maks'!$B$1 -> 130 | K6: x
A7: 1 | B7: 3 | C7: 7.5 | D7: 3 | E7: 2 | F7: 3,5,3 | G7: =IF(E7=1,J7-C7,IF(E7=2,J7-2*C7,IF(E7=3,J7-3*C7,0))) -> 115 | H7: =IF(E7=2,J7-C7,IF(E7=3,J7-2*C7,0)) -> 122.5 | I7: =IF(E7=3,J7-C7,0) -> 0 | J7: ='Indtast dit nær maks'!$B$1 -> 130 | K7: x
A8: 1 | B8: 4 | C8: 7.5 | D8: 5 | E8: 2 | F8: 2,3,2 | G8: =IF(E8=1,J8-C8,IF(E8=2,J8-2*C8,IF(E8=3,J8-3*C8,0))) -> 115 | H8: =IF(E8=2,J8-C8,IF(E8=3,J8-2*C8,0)) -> 122.5 | I8: =IF(E8=3,J8-C8,0) -> 0 | J8: ='Indtast dit nær maks'!$B$1 -> 130 | K8: x
A9: 1 | B9: 5 | C9: 5 | D9: 2 | E9: 1 | F9: 3,5,3 | G9: =IF(E9=1,J9-C9,IF(E9=2,J9-2*C9,IF(E9=3,J9-3*C9,0))) -> 125 | H9: =IF(E9=2,J9-C9,IF(E9=3,J9-2*C9,0)) -> 0 | I9: =IF(E9=3,J9-C9,0) -> 0 | J9: ='Indtast dit nær maks'!$B$1 -> 130 | K9: x
A10: 1 | B10: 6 | C10: 10 | D10: 5 | E10: 3 | F10: 2,3,2 | G10: =IF(E10=1,J10-C10,IF(E10=2,J10-2*C10,IF(E10=3,J10-3*C10,0))) -> 100 | H10: =IF(E10=2,J10-C10,IF(E10=3,J10-2*C10,0)) -> 110 | I10: =IF(E10=3,J10-C10,0) -> 120 | J10: ='Indtast dit nær maks'!$B$1 -> 130 | K10: x
A11: 1 | B11: 7 | C11: 10 | D11: 3 | E11: 3 | F11: 2,3,2 | G11: =IF(E11=1,J11-C11,IF(E11=2,J11-2*C11,IF(E11=3,J11-3*C11,0))) -> 100 | H11: =IF(E11=2,J11-C11,IF(E11=3,J11-2*C11,0)) -> 110 | I11: =IF(E11=3,J11-C11,0) -> 120 | J11: ='Indtast dit nær maks'!$B$1 -> 130 | K11: x
A12: 1 | B12: 8 | C12: 5 | D12: 5 | E12: 1 | F12: 3,5,3 | G12: =IF(E12=1,J12-C12,IF(E12=2,J12-2*C12,IF(E12=3,J12-3*C12,0))) -> 125 | H12: =IF(E12=2,J12-C12,IF(E12=3,J12-2*C12,0)) -> 0 | I12: =IF(E12=3,J12-C12,0) -> 0 | J12: ='Indtast dit nær maks'!$B$1 -> 130 | K12: x
A13: 1 | B13: 9 | C13: 7.5 | D13: 3 | E13: 2 | F13: 2,3,2 | G13: =IF(E13=1,J13-C13,IF(E13=2,J13-2*C13,IF(E13=3,J13-3*C13,0))) -> 115 | H13: =IF(E13=2,J13-C13,IF(E13=3,J13-2*C13,0)) -> 122.5 | I13: =IF(E13=3,J13-C13,0) -> 0 | J13: ='Indtast dit nær maks'!$B$1 -> 130 | K13: x
A14: 1 | B14: 10 | C14: 7.5 | D14: 5 | E14: 2 | F14: 3,5,3 | G14: =IF(E14=1,J14-C14,IF(E14=2,J14-2*C14,IF(E14=3,J14-3*C14,0))) -> 115 | H14: =IF(E14=2,J14-C14,IF(E14=3,J14-2*C14,0)) -> 122.5 | I14: =IF(E14=3,J14-C14,0) -> 0 | J14: ='Indtast dit nær maks'!$B$1 -> 130 | K14: x
A15: 1 | B15: 11 | C15: 5 | D15: 3 | E15: 1 | F15: 2,3,2 | G15: =IF(E15=1,J15-C15,IF(E15=2,J15-2*C15,IF(E15=3,J15-3*C15,0))) -> 125 | H15: =IF(E15=2,J15-C15,IF(E15=3,J15-2*C15,0)) -> 0 | I15: =IF(E15=3,J15-C15,0) -> 0 | J15: ='Indtast dit nær maks'!$B$1 -> 130 | K15: x
A16: 1 | B16: 12 | C16: 10 | D16: 5 | E16: 3 | F16: 3,5,3 | G16: =IF(E16=1,J16-C16,IF(E16=2,J16-2*C16,IF(E16=3,J16-3*C16,0))) -> 100 | H16: =IF(E16=2,J16-C16,IF(E16=3,J16-2*C16,0)) -> 110 | I16: =IF(E16=3,J16-C16,0) -> 120 | J16: ='Indtast dit nær maks'!$B$1 -> 130 | K16: x
A17: 2 | B17: 13 | C17: 10 | D17: 2 | E17: 2 | F17: ,3,3 | G17: =IF(E17=1,J17-C17,IF(E17=2,J17-2*C17,IF(E17=3,J17-3*C17,0))) -> 112.5 | H17: =IF(E17=2,J17-C17,IF(E17=3,J17-2*C17,0)) -> 122.5 | I17: =IF(E17=3,J17-C17,0) -> 0 | J17: ='Indtast dit nær maks'!$B$1+'Indtast dit nær maks'!$E$1 -> 132.5 | K17: x
A18: 2 | B18: 14 | C18: 7.5 | D18: 3 | E18: 3 | F18: 2,2,2 | G18: =IF(E18=1,J18-C18,IF(E18=2,J18-2*C18,IF(E18=3,J18-3*C18,0))) -> 110 | H18: =IF(E18=2,J18-C18,IF(E18=3,J18-2*C18,0)) -> 117.5 | I18: =IF(E18=3,J18-C18,0) -> 125 | J18: ='Indtast dit nær maks'!$B$1+'Indtast dit nær maks'!$E$1 -> 132.5 | K18: x
A19: 2 | B19: 15 | C19: 7.5 | D19: 3 | E19: 1 | F19: 3,3,3 | G19: =IF(E19=1,J19-C19,IF(E19=2,J19-2*C19,IF(E19=3,J19-3*C19,0))) -> 125 | H19: =IF(E19=2,J19-C19,IF(E19=3,J19-2*C19,0)) -> 0 | I19: =IF(E19=3,J19-C19,0) -> 0 | J19: ='Indtast dit nær maks'!$B$1+'Indtast dit nær maks'!$E$1 -> 132.5 | K19: x
A20: 2 | B20: 16 | C20: 10 | D20: 3 | E20: 2 | F20: ,2,2 | G20: =IF(E20=1,J20-C20,IF(E20=2,J20-2*C20,IF(E20=3,J20-3*C20,0))) -> 112.5 | H20: =IF(E20=2,J20-C20,IF(E20=3,J20-2*C20,0)) -> 122.5 | I20: =IF(E20=3,J20-C20,0) -> 0 | J20: ='Indtast dit nær maks'!$B$1+'Indtast dit nær maks'!$E$1 -> 132.5 | K20: x
A21: 2 | B21: 17 | C21: 10 | D21: 2 | E21: 2 | F21: ,2,2 | G21: =IF(E21=1,J21-C21,IF(E21=2,J21-2*C21,IF(E21=3,J21-3*C21,0))) -> 112.5 | H21: =IF(E21=2,J21-C21,IF(E21=3,J21-2*C21,0)) -> 122.5 | I21: =IF(E21=3,J21-C21,0) -> 0 | J21: ='Indtast dit nær maks'!$B$1+'Indtast dit nær maks'!$E$1 -> 132.5 | K21: x
A22: 2 | B22: 18 | C22: 7.5 | D22: 1 | E22: 1 | F22: 3,3,3 | G22: =IF(E22=1,J22-C22,IF(E22=2,J22-2*C22,IF(E22=3,J22-3*C22,0))) -> 125 | H22: =IF(E22=2,J22-C22,IF(E22=3,J22-2*C22,0)) -> 0 | I22: =IF(E22=3,J22-C22,0) -> 0 | J22: ='Indtast dit nær maks'!$B$1+'Indtast dit nær maks'!$E$1 -> 132.5 | K22: x
A23: 2 | B23: 19 | C23: 7.5 | D23: 2 | E23: 1 | F23: 2,2,2 | G23: =IF(E23=1,J23-C23,IF(E23=2,J23-2*C23,IF(E23=3,J23-3*C23,0))) -> 125 | H23: =IF(E23=2,J23-C23,IF(E23=3,J23-2*C23,0)) -> 0 | I23: =IF(E23=3,J23-C23,0) -> 0 | J23: ='Indtast dit nær maks'!$B$1+'Indtast dit nær maks'!$E$1 -> 132.5 | K23: x
A24: 2 | B24: 20 | C24: 10 | D24: 3 | E24: 2 | F24: ,3,3 | G24: =IF(E24=1,J24-C24,IF(E24=2,J24-2*C24,IF(E24=3,J24-3*C24,0))) -> 112.5 | H24: =IF(E24=2,J24-C24,IF(E24=3,J24-2*C24,0)) -> 122.5 | I24: =IF(E24=3,J24-C24,0) -> 0 | J24: ='Indtast dit nær maks'!$B$1+'Indtast dit nær maks'!$E$1 -> 132.5 | K24: x
A25: 3 | B25: 21 | C25: 10 | D25: 3 | E25: 3 | F25: 3,3,3 | G25: =IF(E25=1,J25-C25,IF(E25=2,J25-2*C25,IF(E25=3,J25-3*C25,0))) -> 105 | H25: =IF(E25=2,J25-C25,IF(E25=3,J25-2*C25,0)) -> 115 | I25: =IF(E25=3,J25-C25,0) -> 125 | J25: ='Indtast dit nær maks'!$B$1+'Indtast dit nær maks'!$E$1*2 -> 135 | K25: x
A26: 3 | B26: 22 | C26: 5 | D26: 5 | E26: 1 | F26: 2,2,2,2 | G26: =IF(E26=1,J26-C26,IF(E26=2,J26-2*C26,IF(E26=3,J26-3*C26,0))) -> 130 | H26: =IF(E26=2,J26-C26,IF(E26=3,J26-2*C26,0)) -> 0 | I26: =IF(E26=3,J26-C26,0) -> 0 | J26: ='Indtast dit nær maks'!$B$1+'Indtast dit nær maks'!$E$1*2 -> 135 | K26: x
A27: 3 | B27: 23 | C27: 7.5 | D27: 3 | E27: 3 | F27: ,3,3 | G27: =IF(E27=1,J27-C27,IF(E27=2,J27-2*C27,IF(E27=3,J27-3*C27,0))) -> 112.5 | H27: =IF(E27=2,J27-C27,IF(E27=3,J27-2*C27,0)) -> 120 | I27: =IF(E27=3,J27-C27,0) -> 127.5 | J27: ='Indtast dit nær maks'!$B$1+'Indtast dit nær maks'!$E$1*2 -> 135 | K27: x
A28: 3 | B28: 24 | C28: 7.5 | D28: 5 | E28: 3 | F28: ,2,2 | G28: =IF(E28=1,J28-C28,IF(E28=2,J28-2*C28,IF(E28=3,J28-3*C28,0))) -> 112.5 | H28: =IF(E28=2,J28-C28,IF(E28=3,J28-2*C28,0)) -> 120 | I28: =IF(E28=3,J28-C28,0) -> 127.5 | J28: ='Indtast dit nær maks'!$B$1+'Indtast dit nær maks'!$E$1*2 -> 135 | K28: x
A29: 3 | B29: 25 | C29: 5 | D29: 3 | E29: 1 | F29: ,3,3,3,3 | G29: =IF(E29=1,J29-C29,IF(E29=2,J29-2*C29,IF(E29=3,J29-3*C29,0))) -> 130 | H29: =IF(E29=2,J29-C29,IF(E29=3,J29-2*C29,0)) -> 0 | I29: =IF(E29=3,J29-C29,0) -> 0 | J29: ='Indtast dit nær maks'!$B$1+'Indtast dit nær maks'!$E$1*2 -> 135 | K29: x
A30: 3 | B30: 26 | C30: 10 | D30: 5 | E30: 3 | F30: ,2,2,2 | G30: =IF(E30=1,J30-C30,IF(E30=2,J30-2*C30,IF(E30=3,J30-3*C30,0))) -> 105 | H30: =IF(E30=2,J30-C30,IF(E30=3,J30-2*C30,0)) -> 115 | I30: =IF(E30=3,J30-C30,0) -> 125 | J30: ='Indtast dit nær maks'!$B$1+'Indtast dit nær maks'!$E$1*2 -> 135 | K30: x
A31: 3 | B31: 27 | C31: 10 | D31: 3 | E31: 3 | F31: ,2,2,2 | G31: =IF(E31=1,J31-C31,IF(E31=2,J31-2*C31,IF(E31=3,J31-3*C31,0))) -> 105 | H31: =IF(E31=2,J31-C31,IF(E31=3,J31-2*C31,0)) -> 115 | I31: =IF(E31=3,J31-C31,0) -> 125 | J31: ='Indtast dit nær maks'!$B$1+'Indtast dit nær maks'!$E$1*2 -> 135 | K31: x
A32: 3 | B32: 28 | C32: 5 | D32: 5 | E32: 1 | F32: 3,3,3,3 | G32: =IF(E32=1,J32-C32,IF(E32=2,J32-2*C32,IF(E32=3,J32-3*C32,0))) -> 130 | H32: =IF(E32=2,J32-C32,IF(E32=3,J32-2*C32,0)) -> 0 | I32: =IF(E32=3,J32-C32,0) -> 0 | J32: ='Indtast dit nær maks'!$B$1+'Indtast dit nær maks'!$E$1*2 -> 135 | K32: x
A33: 3 | B33: 29 | C33: 7.5 | D33: 3 | E33: 3 | F33: ,2,2 | G33: =IF(E33=1,J33-C33,IF(E33=2,J33-2*C33,IF(E33=3,J33-3*C33,0))) -> 112.5 | H33: =IF(E33=2,J33-C33,IF(E33=3,J33-2*C33,0)) -> 120 | I33: =IF(E33=3,J33-C33,0) -> 127.5 | J33: ='Indtast dit nær maks'!$B$1+'Indtast dit nær maks'!$E$1*2 -> 135 | K33: x
A34: 3 | B34: 30 | C34: 7.5 | D34: 5 | E34: 3 | F34: ,3,3 | G34: =IF(E34=1,J34-C34,IF(E34=2,J34-2*C34,IF(E34=3,J34-3*C34,0))) -> 112.5 | H34: =IF(E34=2,J34-C34,IF(E34=3,J34-2*C34,0)) -> 120 | I34: =IF(E34=3,J34-C34,0) -> 127.5 | J34: ='Indtast dit nær maks'!$B$1+'Indtast dit nær maks'!$E$1*2 -> 135 | K34: x
A35: 3 | B35: 31 | C35: 5 | D35: 3 | E35: 1 | F35: 2,2,2,2 | G35: =IF(E35=1,J35-C35,IF(E35=2,J35-2*C35,IF(E35=3,J35-3*C35,0))) -> 130 | H35: =IF(E35=2,J35-C35,IF(E35=3,J35-2*C35,0)) -> 0 | I35: =IF(E35=3,J35-C35,0) -> 0 | J35: ='Indtast dit nær maks'!$B$1+'Indtast dit nær maks'!$E$1*2 -> 135 | K35: x
A36: 3 | B36: 32 | C36: 10 | D36: 5 | E36: 3 | F36: 3,3,3 | G36: =IF(E36=1,J36-C36,IF(E36=2,J36-2*C36,IF(E36=3,J36-3*C36,0))) -> 105 | H36: =IF(E36=2,J36-C36,IF(E36=3,J36-2*C36,0)) -> 115 | I36: =IF(E36=3,J36-C36,0) -> 125 | J36: ='Indtast dit nær maks'!$B$1+'Indtast dit nær maks'!$E$1*2 -> 135 | K36: x
A37: 4 | B37: 33 | C37: 10 | D37: 2 | E37: 2 | F37: 3,5,3 | G37: =IF(E37=1,J37-C37,IF(E37=2,J37-2*C37,IF(E37=3,J37-3*C37,0))) -> 117.5 | H37: =IF(E37=2,J37-C37,IF(E37=3,J37-2*C37,0)) -> 127.5 | I37: =IF(E37=3,J37-C37,0) -> 0 | J37: ='Indtast dit nær maks'!$B$1+'Indtast dit nær maks'!$E$1*3 -> 137.5 | K37: x
A38: 4 | B38: 34 | C38: 7.5 | D38: 3 | E38: 1 | F38: 2,2,2 | G38: =IF(E38=1,J38-C38,IF(E38=2,J38-2*C38,IF(E38=3,J38-3*C38,0))) -> 130 | H38: =IF(E38=2,J38-C38,IF(E38=3,J38-2*C38,0)) -> 0 | I38: =IF(E38=3,J38-C38,0) -> 0 | J38: ='Indtast dit nær maks'!$B$1+'Indtast dit nær maks'!$E$1*3 -> 137.5 | K38: x
A39: 4 | B39: 35 | C39: 7.5 | D39: 2 | E39: 1 | F39: 3,5,3 | G39: =IF(E39=1,J39-C39,IF(E39=2,J39-2*C39,IF(E39=3,J39-3*C39,0))) -> 130 | H39: =IF(E39=2,J39-C39,IF(E39=3,J39-2*C39,0)) -> 0 | I39: =IF(E39=3,J39-C39,0) -> 0 | J39: ='Indtast dit nær maks'!$B$1+'Indtast dit nær maks'!$E$1*3 -> 137.5 | K39: x
A40: 4 | B40: 36 | C40: 10 | D40: 3 | E40: 2 | F40: 2,3,2 | G40: =IF(E40=1,J40-C40,IF(E40=2,J40-2*C40,IF(E40=3,J40-3*C40,0))) -> 117.5 | H40: =IF(E40=2,J40-C40,IF(E40=3,J40-2*C40,0)) -> 127.5 | I40: =IF(E40=3,J40-C40,0) -> 0 | J40: ='Indtast dit nær maks'!$B$1+'Indtast dit nær maks'!$E$1*3 -> 137.5 | K40: x
A41: 4 | B41: 37 | C41: 10 | D41: 3 | E41: 2 | F41: 2,3,2 | G41: =IF(E41=1,J41-C41,IF(E41=2,J41-2*C41,IF(E41=3,J41-3*C41,0))) -> 117.5 | H41: =IF(E41=2,J41-C41,IF(E41=3,J41-2*C41,0)) -> 127.5 | I41: =IF(E41=3,J41-C41,0) -> 0 | J41: ='Indtast dit nær maks'!$B$1+'Indtast dit nær maks'!$E$1*3 -> 137.5 | K41: x
A42: 4 | B42: 38 | C42: 10 | D42: 3 | E42: 2 | F42: 3,5,3 | G42: =IF(E42=1,J42-C42,IF(E42=2,J42-2*C42,IF(E42=3,J42-3*C42,0))) -> 117.5 | H42: =IF(E42=2,J42-C42,IF(E42=3,J42-2*C42,0)) -> 127.5 | I42: =IF(E42=3,J42-C42,0) -> 0 | J42: ='Indtast dit nær maks'!$B$1+'Indtast dit nær maks'!$E$1*3 -> 137.5 | K42: x
A43: 4 | B43: 39 | C43: 7.5 | D43: 2 | E43: 1 | F43: 2,3,2 | G43: =IF(E43=1,J43-C43,IF(E43=2,J43-2*C43,IF(E43=3,J43-3*C43,0))) -> 130 | H43: =IF(E43=2,J43-C43,IF(E43=3,J43-2*C43,0)) -> 0 | I43: =IF(E43=3,J43-C43,0) -> 0 | J43: ='Indtast dit nær maks'!$B$1+'Indtast dit nær maks'!$E$1*3 -> 137.5
...

Sheet Indtast dit nær maks
A1: Dit sikre nær max | B1: 130 | D1: Forhøjelse efter hver complex | E1: 2.5

Sheet Træningerne
A1: COMPLEX 1
A3: Træning | B3: 1
A5: Reps | B5: Vægt | C5: Pause
A6: 10 | B6: ='Indtast dit nær maks'!$B$1*0.5 -> 65 | C6: 1
A7: 7 | B7: ='Indtast dit nær maks'!$B$1*0.6 -> 78 | C7: 1
A8: 3 | B8: ='Kun til beregning'!$G$5 -> 100 | C8: ='Kun til beregning'!D5 -> 3
A9: 5 | B9: ='Kun til beregning'!$G$5 -> 100 | C9: =C8 -> 3
A10: 3 | B10: ='Kun til beregning'!$G$5 -> 100 | C10: =C9 -> 3
A11: 3 | B11: ='Kun til beregning'!$H$5 -> 110 | C11: =C10 -> 3
A12: 5 | B12: ='Kun til beregning'!$H$5 -> 110 | C12: =C11 -> 3
A13: 3 | B13: ='Kun til beregning'!$H$5 -> 110 | C13: =C12 -> 3
A14: 3 | B14: ='Kun til beregning'!$I$5 -> 120 | C14: =C13 -> 3
A15: 5 | B15: ='Kun til beregning'!$I$5 -> 120 | C15: =C14 -> 3
A16: 3 | B16: ='Kun til beregning'!$I$5 -> 120 | C16: =C15 -> 3
A17: 1 | B17: ='Kun til beregning'!$J$5 -> 130 | C17: 1
A20: Træning | B20: 2
A22: Reps | B22: Vægt | C22: Pause
A23: 10 | B23: ='Indtast dit nær maks'!$B$1*0.5 -> 65 | C23: 1
A24: 7 | B24: ='Indtast dit nær maks'!$B$1*0.6 -> 78 | C24: 1
A25: 2 | B25: =B26-'Kun til beregning'!C6 -> 115 | C25: ='Kun til beregning'!D6 -> 5
A26: 3 | B26: =B27-'Kun til beregning'!C6 -> 120 | C26: =C25 -> 5
A27: 2 | B27: ='Kun til beregning'!G6 -> 125 | C27: =C26 -> 5
A28: 1 | B28: ='Kun til beregning'!J6 -> 130 | C28: 1
A31: Træning | B31: 3
A33: Reps | B33: Vægt | C33: Pause
A34: 10 | B34: ='Indtast dit nær maks'!$B$1*0.5 -> 65 | C34: 1
A35: 7 | B35: ='Indtast dit nær maks'!$B$1*0.6 -> 78 | C35: 1
A36: 3 | B36: ='Kun til beregning'!G7 -> 115 | C36: ='Kun til beregning'!D7 -> 3
A37: 5 | B37: =B36 -> 115 | C37: =C36 -> 3
A38: 3 | B38: =B37 -> 115 | C38: =C37 -> 3
A39: 3 | B39: ='Kun til beregning'!H7 -> 122.5 | C39: =C38 -> 3
A40: 5 | B40: =B39 -> 122.5 | C40: =C39 -> 3
A41: 3 | B41: =B40 -> 122.5 | C41: =C40 -> 3
A42: 1 | B42: ='Kun til beregning'!J7 -> 130 | C42: 1
A45: Træning | B45: 4
A47: Reps | B47: Vægt | C47: Pause
A48: 10 | B48: ='Indtast dit nær maks'!$B$1*0.5 -> 65 | C48: 1
A49: 7 | B49: ='Indtast dit nær maks'!$B$1*0.6 -> 78 | C49: 1
A50: 2 | B50: ='Kun til beregning'!G8 -> 115 | C50: ='Kun til beregning'!D8 -> 5
A51: 3 | B51: =B50 -> 115 | C51: =C50 -> 5
...
