Workbook

Sheet Diæt program
B1: Ernærings program | G1: 37077
B2: Vælg fødevare og mængde [g ell stk.] | E2: Beregnede værdier
B3: Fødevarer | D3: Mængde | E3: Prot. [g] | F3: Kul. [g] | G3: Fedt [g] | H3: Kcal
B4: ky | C4: Skummetmælk | D4: 130 | E4: =IF($C4="","",LOOKUP($C4,'Fødevaretabel '!$B$3:$D$759)*$D4/LOOKUP($C4,'Fødevaretabel '!$B$3:$C$759)) -> 4.55 | F4: =IF($C4="","",LOOKUP($C4,'Fødevaretabel '!$B$3:$E$759)*$D4/LOOKUP($C4,'Fødevaretabel '!$B$3:$C$759)) -> 6.24 | G4: =IF($C4="","",LOOKUP($C4,'Fødevaretabel '!$B$3:$F$759)*$D4/LOOKUP($C4,'Fødevaretabel '!$B$3:$C$759)) -> 0.13 | H4: =IF(C4="","",SUM(E4*4+F4*4+G4*9)) -> 44.33
C5: Havregryn | D5: 50 | E5: =IF($C5="","",LOOKUP($C5,'Fødevaretabel '!$B$3:$D$759)*$D5/LOOKUP($C5,'Fødevaretabel '!$B$3:$C$759)) -> 6.6 | F5: =IF($C5="","",LOOKUP($C5,'Fødevaretabel '!$B$3:$E$759)*$D5/LOOKUP($C5,'Fødevaretabel '!$B$3:$C$759)) -> 34.1 | G5: =IF($C5="","",LOOKUP($C5,'Fødevaretabel '!$B$3:$F$759)*$D5/LOOKUP($C5,'Fødevaretabel '!$B$3:$C$759)) -> 3.25 | H5: =IF(C5="","",SUM(E5*4+F5*4+G5*9)) -> 192.05
C6: Æble 1stk. | D6: 1 | E6: =IF($C6="","",LOOKUP($C6,'Fødevaretabel '!$B$3:$D$759)*$D6/LOOKUP($C6,'Fødevaretabel '!$B$3:$C$759)) -> 0.5 | F6: =IF($C6="","",LOOKUP($C6,'Fødevaretabel '!$B$3:$E$759)*$D6/LOOKUP($C6,'Fødevaretabel '!$B$3:$C$759)) -> 20 | G6: =IF($C6="","",LOOKUP($C6,'Fødevaretabel '!$B$3:$F$759)*$D6/LOOKUP($C6,'Fødevaretabel '!$B$3:$C$759)) -> 0.5 | H6: =IF(C6="","",SUM(E6*4+F6*4+G6*9)) -> 86.5 | L6: =SUM('Diet log'!#REF!) -> #REF! | N6: =+'Diet log'!#REF! -> #REF!
C7: BE STRONG - WHEY PRO | D7: 40 | E7: =IF($C7="","",LOOKUP($C7,'Fødevaretabel '!$B$3:$D$759)*$D7/LOOKUP($C7,'Fødevaretabel '!$B$3:$C$759)) -> 33.2 | F7: =IF($C7="","",LOOKUP($C7,'Fødevaretabel '!$B$3:$E$759)*$D7/LOOKUP($C7,'Fødevaretabel '!$B$3:$C$759)) -> 0.64 | G7: =IF($C7="","",LOOKUP($C7,'Fødevaretabel '!$B$3:$F$759)*$D7/LOOKUP($C7,'Fødevaretabel '!$B$3:$C$759)) -> 2.4 | H7: =IF(C7="","",SUM(E7*4+F7*4+G7*9)) -> 156.96
E8: =IF($C8="","",LOOKUP($C8,'Fødevaretabel '!$B$3:$D$759)*$D8/LOOKUP($C8,'Fødevaretabel '!$B$3:$C$759)) | F8: =IF($C8="","",LOOKUP($C8,'Fødevaretabel '!$B$3:$E$759)*$D8/LOOKUP($C8,'Fødevaretabel '!$B$3:$C$759)) | G8: =IF($C8="","",LOOKUP($C8,'Fødevaretabel '!$B$3:$F$759)*$D8/LOOKUP($C8,'Fødevaretabel '!$B$3:$C$759)) | H8: =IF(C8="","",SUM(E8*4+F8*4+G8*9))
B9: Sum for måltid 1 | E9: =SUM(E4:E8) -> 44.85 | F9: =SUM(F4:F8) -> 60.98 | G9: =SUM(G4:G8) -> 6.28 | H9: =SUM(E9*4+F9*4+G9*9) -> 479.84 | J9: =+('Diæt program'!E9*4)/('Diæt program'!$H9/100) -> 37.387462 | K9: =+('Diæt program'!F9*4)/('Diæt program'!$H9/100) -> 50.833611 | L9: =+('Diæt program'!G9*9)/('Diæt program'!$H9/100) -> 11.778926 | M9: Måltid 1
C10: Banan 1 stk. | D10: 1 | E10: =IF($C10="","",LOOKUP($C10,'Fødevaretabel '!$B$3:$D$759)*$D10/LOOKUP($C10,'Fødevaretabel '!$B$3:$C$759)) -> 2 | F10: =IF($C10="","",LOOKUP($C10,'Fødevaretabel '!$B$3:$E$759)*$D10/LOOKUP($C10,'Fødevaretabel '!$B$3:$C$759)) -> 31 | G10: =IF($C10="","",LOOKUP($C10,'Fødevaretabel '!$B$3:$F$759)*$D10/LOOKUP($C10,'Fødevaretabel '!$B$3:$C$759)) -> 0.5 | H10: =IF(C10="","",SUM(E10*4+F10*4+G10*9)) -> 136.5
C11: Agurk | D11: 100 | E11: =IF($C11="","",LOOKUP($C11,'Fødevaretabel '!$B$3:$D$759)*$D11/LOOKUP($C11,'Fødevaretabel '!$B$3:$C$759)) -> 0.7 | F11: =IF($C11="","",LOOKUP($C11,'Fødevaretabel '!$B$3:$E$759)*$D11/LOOKUP($C11,'Fødevaretabel '!$B$3:$C$759)) -> 2.1 | G11: =IF($C11="","",LOOKUP($C11,'Fødevaretabel '!$B$3:$F$759)*$D11/LOOKUP($C11,'Fødevaretabel '!$B$3:$C$759)) -> 0.1 | H11: =IF(C11="","",SUM(E11*4+F11*4+G11*9)) -> 12.1
E12: =IF($C12="","",LOOKUP($C12,'Fødevaretabel '!$B$3:$D$759)*$D12/LOOKUP($C12,'Fødevaretabel '!$B$3:$C$759)) | F12: =IF($C12="","",LOOKUP($C12,'Fødevaretabel '!$B$3:$E$759)*$D12/LOOKUP($C12,'Fødevaretabel '!$B$3:$C$759)) | G12: =IF($C12="","",LOOKUP($C12,'Fødevaretabel '!$B$3:$F$759)*$D12/LOOKUP($C12,'Fødevaretabel '!$B$3:$C$759)) | H12: =IF(C12="","",SUM(E12*4+F12*4+G12*9))
C13: Rugbrød, kerne skive a ca. 50g - stk. | D13: 2 | E13: =IF($C13="","",LOOKUP($C13,'Fødevaretabel '!$B$3:$D$759)*$D13/LOOKUP($C13,'Fødevaretabel '!$B$3:$C$759)) -> 6 | F13: =IF($C13="","",LOOKUP($C13,'Fødevaretabel '!$B$3:$E$759)*$D13/LOOKUP($C13,'Fødevaretabel '!$B$3:$C$759)) -> 36 | G13: =IF($C13="","",LOOKUP($C13,'Fødevaretabel '!$B$3:$F$759)*$D13/LOOKUP($C13,'Fødevaretabel '!$B$3:$C$759)) -> 6 | H13: =IF(C13="","",SUM(E13*4+F13*4+G13*9)) -> 222
E14: =IF($C14="","",LOOKUP($C14,'Fødevaretabel '!$B$3:$D$759)*$D14/LOOKUP($C14,'Fødevaretabel '!$B$3:$C$759)) | F14: =IF($C14="","",LOOKUP($C14,'Fødevaretabel '!$B$3:$E$759)*$D14/LOOKUP($C14,'Fødevaretabel '!$B$3:$C$759)) | G14: =IF($C14="","",LOOKUP($C14,'Fødevaretabel '!$B$3:$F$759)*$D14/LOOKUP($C14,'Fødevaretabel '!$B$3:$C$759)) | H14: =IF(C14="","",SUM(E14*4+F14*4+G14*9))
B15: Sum for måltid 2 | E15: =SUM(E10:E14) -> 8.7 | F15: =SUM(F10:F14) -> 69.1 | G15: =SUM(G10:G14) -> 6.6 | H15: =SUM(E15*4+F15*4+G15*9) -> 370.6 | J15: =+('Diæt program'!E15*4)/('Diæt program'!$H15/100) -> 9.3901781 | K15: =+('Diæt program'!F15*4)/('Diæt program'!$H15/100) -> 74.581759 | L15: =+('Diæt program'!G15*9)/('Diæt program'!$H15/100) -> 16.028063 | M15: Måltid 2
C16: Agurk | D16: 20 | E16: =IF($C16="","",LOOKUP($C16,'Fødevaretabel '!$B$3:$D$759)*$D16/LOOKUP($C16,'Fødevaretabel '!$B$3:$C$759)) -> 0.14 | F16: =IF($C16="","",LOOKUP($C16,'Fødevaretabel '!$B$3:$E$759)*$D16/LOOKUP($C16,'Fødevaretabel '!$B$3:$C$759)) -> 0.42 | G16: =IF($C16="","",LOOKUP($C16,'Fødevaretabel '!$B$3:$F$759)*$D16/LOOKUP($C16,'Fødevaretabel '!$B$3:$C$759)) -> 0.02 | H16: =IF(C16="","",SUM(E16*4+F16*4+G16*9)) -> 2.42
C17: Salat | D17: 50 | E17: =IF($C17="","",LOOKUP($C17,'Fødevaretabel '!$B$3:$D$759)*$D17/LOOKUP($C17,'Fødevaretabel '!$B$3:$C$759)) -> 0.65 | F17: =IF($C17="","",LOOKUP($C17,'Fødevaretabel '!$B$3:$E$759)*$D17/LOOKUP($C17,'Fødevaretabel '!$B$3:$C$759)) -> 2 | G17: =IF($C17="","",LOOKUP($C17,'Fødevaretabel '!$B$3:$F$759)*$D17/LOOKUP($C17,'Fødevaretabel '!$B$3:$C$759)) -> 0.2 | H17: =IF(C17="","",SUM(E17*4+F17*4+G17*9)) -> 12.4
C18: Ærter, fine dybfrost | D18: 20 | E18: =IF($C18="","",LOOKUP($C18,'Fødevaretabel '!$B$3:$D$759)*$D18/LOOKUP($C18,'Fødevaretabel '!$B$3:$C$759)) -> 1.22 | F18: =IF($C18="","",LOOKUP($C18,'Fødevaretabel '!$B$3:$E$759)*$D18/LOOKUP($C18,'Fødevaretabel '!$B$3:$C$759)) -> 2.54 | G18: =IF($C18="","",LOOKUP($C18,'Fødevaretabel '!$B$3:$F$759)*$D18/LOOKUP($C18,'Fødevaretabel '!$B$3:$C$759)) -> 0.14 | H18: =IF(C18="","",SUM(E18*4+F18*4+G18*9)) -> 16.3
C19: Majs frosne ell. Dåse | D19: 20 | E19: =IF($C19="","",LOOKUP($C19,'Fødevaretabel '!$B$3:$D$759)*$D19/LOOKUP($C19,'Fødevaretabel '!$B$3:$C$759)) -> 0.7 | F19: =IF($C19="","",LOOKUP($C19,'Fødevaretabel '!$B$3:$E$759)*$D19/LOOKUP($C19,'Fødevaretabel '!$B$3:$C$759)) -> 3.8 | G19: =IF($C19="","",LOOKUP($C19,'Fødevaretabel '!$B$3:$F$759)*$D19/LOOKUP($C19,'Fødevaretabel '!$B$3:$C$759)) -> 0.2 | H19: =IF(C19="","",SUM(E19*4+F19*4+G19*9)) -> 19.8
C20: Tomat 1stk. | D20: 1 | E20: =IF($C20="","",LOOKUP($C20,'Fødevaretabel '!$B$3:$D$759)*$D20/LOOKUP($C20,'Fødevaretabel '!$B$3:$C$759)) -> 0.7 | F20: =IF($C20="","",LOOKUP($C20,'Fødevaretabel '!$B$3:$E$759)*$D20/LOOKUP($C20,'Fødevaretabel '!$B$3:$C$759)) -> 5.7 | G20: =IF($C20="","",LOOKUP($C20,'Fødevaretabel '!$B$3:$F$759)*$D20/LOOKUP($C20,'Fødevaretabel '!$B$3:$C$759)) -> 0.3 | H20: =IF(C20="","",SUM(E20*4+F20*4+G20*9)) -> 28.3
B21: Sum for måltid 3 | E21: =SUM(E16:E20) -> 3.41 | F21: =SUM(F16:F20) -> 14.46 | G21: =SUM(G16:G20) -> 0.86 | H21: =SUM(E21*4+F21*4+G21*9) -> 79.22 | J21: =+('Diæt program'!E21*4)/('Diæt program'!$H21/100) -> 17.217874 | K21: =+('Diæt program'!F21*4)/('Diæt program'!$H21/100) -> 73.011866 | L21: =+('Diæt program'!G21*9)/('Diæt program'!$H21/100) -> 9.77026 | M21: Måltid 3
C22: BE STRONG - WHEY PRO | D22: 50 | E22: =IF($C22="","",LOOKUP($C22,'Fødevaretabel '!$B$3:$D$759)*$D22/LOOKUP($C22,'Fødevaretabel '!$B$3:$C$759)) -> 41.5 | F22: =IF($C22="","",LOOKUP($C22,'Fødevaretabel '!$B$3:$E$759)*$D22/LOOKUP($C22,'Fødevaretabel '!$B$3:$C$759)) -> 0.8 | G22: =IF($C22="","",LOOKUP($C22,'Fødevaretabel '!$B$3:$F$759)*$D22/LOOKUP($C22,'Fødevaretabel '!$B$3:$C$759)) -> 3 | H22: =IF(C22="","",SUM(E22*4+F22*4+G22*9)) -> 196.2
C23: Banan 1 stk. | D23: 1 | E23: =IF($C23="","",LOOKUP($C23,'Fødevaretabel '!$B$3:$D$759)*$D23/LOOKUP($C23,'Fødevaretabel '!$B$3:$C$759)) -> 2 | F23: =IF($C23="","",LOOKUP($C23,'Fødevaretabel '!$B$3:$E$759)*$D23/LOOKUP($C23,'Fødevaretabel '!$B$3:$C$759)) -> 31 | G23: =IF($C23="","",LOOKUP($C23,'Fødevaretabel '!$B$3:$F$759)*$D23/LOOKUP($C23,'Fødevaretabel '!$B$3:$C$759)) -> 0.5 | H23: =IF(C23="","",SUM(E23*4+F23*4+G23*9)) -> 136.5
C24: Æble 1stk. | D24: 1 | E24: =IF($C24="","",LOOKUP($C24,'Fødevaretabel '!$B$3:$D$759)*$D24/LOOKUP($C24,'Fødevaretabel '!$B$3:$C$759)) -> 0.5 | F24: =IF($C24="","",LOOKUP($C24,'Fødevaretabel '!$B$3:$E$759)*$D24/LOOKUP($C24,'Fødevaretabel '!$B$3:$C$759)) -> 20 | G24: =IF($C24="","",LOOKUP($C24,'Fødevaretabel '!$B$3:$F$759)*$D24/LOOKUP($C24,'Fødevaretabel '!$B$3:$C$759)) -> 0.5 | H24: =IF(C24="","",SUM(E24*4+F24*4+G24*9)) -> 86.5
C25: Skummetmælk | D25: 500 | E25: =IF($C25="","",LOOKUP($C25,'Fødevaretabel '!$B$3:$D$759)*$D25/LOOKUP($C25,'Fødevaretabel '!$B$3:$C$759)) -> 17.5 | F25: =IF($C25="","",LOOKUP($C25,'Fødevaretabel '!$B$3:$E$759)*$D25/LOOKUP($C25,'Fødevaretabel '!$B$3:$C$759)) -> 24 | G25: =IF($C25="","",LOOKUP($C25,'Fødevaretabel '!$B$3:$F$759)*$D25/LOOKUP($C25,'Fødevaretabel '!$B$3:$C$759)) -> 0.5 | H25: =IF(C25="","",SUM(E25*4+F25*4+G25*9)) -> 170.5
E26: =IF($C26="","",LOOKUP($C26,'Fødevaretabel '!$B$3:$D$759)*$D26/LOOKUP($C26,'Fødevaretabel '!$B$3:$C$759)) | F26: =IF($C26="","",LOOKUP($C26,'Fødevaretabel '!$B$3:$E$759)*$D26/LOOKUP($C26,'Fødevaretabel '!$B$3:$C$759)) | G26: =IF($C26="","",LOOKUP($C26,'Fødevaretabel '!$B$3:$F$759)*$D26/LOOKUP($C26,'Fødevaretabel '!$B$3:$C$759)) | H26: =IF(C26="","",SUM(E26*4+F26*4+G26*9))
B27: Sum for måltid 4 | E27: =SUM(E22:E26) -> 61.5 | F27: =SUM(F22:F26) -> 75.8 | G27: =SUM(G22:G26) -> 4.5 | H27: =SUM(E27*4+F27*4+G27*9) -> 589.7 | J27: =+('Diæt program'!E27*4)/('Diæt program'!$H27/100) -> 41.716127 | K27: =+('Diæt program'!F27*4)/('Diæt program'!$H27/100) -> 51.415974 | L27: =+('Diæt program'!G27*9)/('Diæt program'!$H27/100) -> 6.8678989 | M27: Måltid 4
C28: Pasta kogt | D28: 100 | E28: =IF($C28="","",LOOKUP($C28,'Fødevaretabel '!$B$3:$D$759)*$D28/LOOKUP($C28,'Fødevaretabel '!$B$3:$C$759)) -> 4.4 | F28: =IF($C28="","",LOOKUP($C28,'Fødevaretabel '!$B$3:$E$759)*$D28/LOOKUP($C28,'Fødevaretabel '!$B$3:$C$759)) -> 25.6 | G28: =IF($C28="","",LOOKUP($C28,'Fødevaretabel '!$B$3:$F$759)*$D28/LOOKUP($C28,'Fødevaretabel '!$B$3:$C$759)) -> 0.4 | H28: =IF(C28="","",SUM(E28*4+F28*4+G28*9)) -> 123.6
C29: Ketchup, tomat | D29: 35 | E29: =IF($C29="","",LOOKUP($C29,'Fødevaretabel '!$B$3:$D$759)*$D29/LOOKUP($C29,'Fødevaretabel '!$B$3:$C$759)) -> 0.35 | F29: =IF($C29="","",LOOKUP($C29,'Fødevaretabel '!$B$3:$E$759)*$D29/LOOKUP($C29,'Fødevaretabel '!$B$3:$C$759)) -> 5.6 | G29: =IF($C29="","",LOOKUP($C29,'Fødevaretabel '!$B$3:$F$759)*$D29/LOOKUP($C29,'Fødevaretabel '!$B$3:$C$759)) -> 0.35 | H29: =IF(C29="","",SUM(E29*4+F29*4+G29*9)) -> 26.95
C30: Ærter, fine dybfrost | D30: 20 | E30: =IF($C30="","",LOOKUP($C30,'Fødevaretabel '!$B$3:$D$759)*$D30/LOOKUP($C30,'Fødevaretabel '!$B$3:$C$759)) -> 1.22 | F30: =IF($C30="","",LOOKUP($C30,'Fødevaretabel '!$B$3:$E$759)*$D30/LOOKUP($C30,'Fødevaretabel '!$B$3:$C$759)) -> 2.54 | G30: =IF($C30="","",LOOKUP($C30,'Fødevaretabel '!$B$3:$F$759)*$D30/LOOKUP($C30,'Fødevaretabel '!$B$3:$C$759)) -> 0.14 | H30: =IF(C30="","",SUM(E30*4+F30*4+G30*9)) -> 16.3
C31: Kylling filet | D31: 100 | E31: =IF($C31="","",LOOKUP($C31,'Fødevaretabel '!$B$3:$D$759)*$D31/LOOKUP($C31,'Fødevaretabel '!$B$3:$C$759)) -> 23 | F31: =IF($C31="","",LOOKUP($C31,'Fødevaretabel '!$B$3:$E$759)*$D31/LOOKUP($C31,'Fødevaretabel '!$B$3:$C$759)) -> 0 | G31: =IF($C31="","",LOOKUP($C31,'Fødevaretabel '!$B$3:$F$759)*$D31/LOOKUP($C31,'Fødevaretabel '!$B$3:$C$759)) -> 3 | H31: =IF(C31="","",SUM(E31*4+F31*4+G31*9)) -> 119
E32: =IF($C32="","",LOOKUP($C32,'Fødevaretabel '!$B$3:$D$759)*$D32/LOOKUP($C32,'Fødevaretabel '!$B$3:$C$759)) | F32: =IF($C32="","",LOOKUP($C32,'Fødevaretabel '!$B$3:$E$759)*$D32/LOOKUP($C32,'Fødevaretabel '!$B$3:$C$759)) | G32: =IF($C32="","",LOOKUP($C32,'Fødevaretabel '!$B$3:$F$759)*$D32/LOOKUP($C32,'Fødevaretabel '!$B$3:$C$759)) | H32: =IF(C32="","",SUM(E32*4+F32*4+G32*9))
B33: Sum for måltid 5 | E33: =SUM(E28:E32) -> 28.97 | F33: =SUM(F28:F32) -> 33.74 | G33: =SUM(G28:G32) -> 3.89 | H33: =SUM(E33*4+F33*4+G33*9) -> 285.85 | J33: =+('Diæt program'!E33*4)/('Diæt program'!$H33/100) -> 40.538744 | K33: =+('Diæt program'!F33*4)/('Diæt program'!$H33/100) -> 47.213574 | L33: =+('Diæt program'!G33*9)/('Diæt program'!$H33/100) -> 12.247682 | M33: Måltid 5
C34: Æble 1stk. | D34: 1 | E34: =IF($C34="","",LOOKUP($C34,'Fødevaretabel '!$B$3:$D$759)*$D34/LOOKUP($C34,'Fødevaretabel '!$B$3:$C$759)) -> 0.5 | F34: =IF($C34="","",LOOKUP($C34,'Fødevaretabel '!$B$3:$E$759)*$D34/LOOKUP($C34,'Fødevaretabel '!$B$3:$C$759)) -> 20 | G34: =IF($C34="","",LOOKUP($C34,'Fødevaretabel '!$B$3:$F$759)*$D34/LOOKUP($C34,'Fødevaretabel '!$B$3:$C$759)) -> 0.5 | H34: =IF(C34="","",SUM(E34*4+F34*4+G34*9)) -> 86.5
C35: Pære - stk. | D35: 1 | E35: =IF($C35="","",LOOKUP($C35,'Fødevaretabel '!$B$3:$D$759)*$D35/LOOKUP($C35,'Fødevaretabel '!$B$3:$C$759)) -> 0.5 | F35: =IF($C35="","",LOOKUP($C35,'Fødevaretabel '!$B$3:$E$759)*$D35/LOOKUP($C35,'Fødevaretabel '!$B$3:$C$759)) -> 21 | G35: =IF($C35="","",LOOKUP($C35,'Fødevaretabel '!$B$3:$F$759)*$D35/LOOKUP($C35,'Fødevaretabel '!$B$3:$C$759)) -> 0.5 | H35: =IF(C35="","",SUM(E35*4+F35*4+G35*9)) -> 90.5
E36: =IF($C36="","",LOOKUP($C36,'Fødevaretabel '!$B$3:$D$759)*$D36/LOOKUP($C36,'Fødevaretabel '!$B$3:$C$759)) | F36: =IF($C36="","",LOOKUP($C36,'Fødevaretabel '!$B$3:$E$759)*$D36/LOOKUP($C36,'Fødevaretabel '!$B$3:$C$759)) | G36: =IF($C36="","",LOOKUP($C36,'Fødevaretabel '!$B$3:$F$759)*$D36/LOOKUP($C36,'Fødevaretabel '!$B$3:$C$759)) | H36: =IF(C36="","",SUM(E36*4+F36*4+G36*9))
E37: =IF($C37="","",LOOKUP($C37,'Fødevaretabel '!$B$3:$D$759)*$D37/LOOKUP($C37,'Fødevaretabel '!$B$3:$C$759)) | F37: =IF($C37="","",LOOKUP($C37,'Fødevaretabel '!$B$3:$E$759)*$D37/LOOKUP($C37,'Fødevaretabel '!$B$3:$C$759)) | G37: =IF($C37="","",LOOKUP($C37,'Fødevaretabel '!$B$3:$F$759)*$D37/LOOKUP($C37,'Fødevaretabel '!$B$3:$C$759)) | H37: =IF(C37="","",SUM(E37*4+F37*4+G37*9))
E38: =IF($C38="","",LOOKUP($C38,'Fødevaretabel '!$B$3:$D$759)*$D38/LOOKUP($C38,'Fødevaretabel '!$B$3:$C$759)) | F38: =IF($C38="","",LOOKUP($C38,'Fødevaretabel '!$B$3:$E$759)*$D38/LOOKUP($C38,'Fødevaretabel '!$B$3:$C$759)) | G38: =IF($C38="","",LOOKUP($C38,'Fødevaretabel '!$B$3:$F$759)*$D38/LOOKUP($C38,'Fødevaretabel '!$B$3:$C$759)) | H38: =IF(C38="","",SUM(E38*4+F38*4+G38*9))
B39: Sum for måltid 6 | E39: =SUM(E34:E38) -> 1 | F39: =SUM(F34:F38) -> 41 | G39: =SUM(G34:G38) -> 1 | H39: =SUM(E39*4+F39*4+G39*9) -> 177 | J39: =+('Diæt program'!E39*4)/('Diæt program'!$H39/100) -> 2.259887 | K39: =+('Diæt program'!F39*4)/('Diæt program'!$H39/100) -> 92.655367 | L39: =+('Diæt program'!G39*9)/('Diæt program'!$H39/100) -> 5.0847458 | M39: Måltid 6
C40: Skummetmælk | D40: 250 | E40: =IF($C40="","",LOOKUP($C40,'Fødevaretabel '!$B$3:$D$759)*$D40/LOOKUP($C40,'Fødevaretabel '!$B$3:$C$759)) -> 8.75 | F40: =IF($C40="","",LOOKUP($C40,'Fødevaretabel '!$B$3:$E$759)*$D40/LOOKUP($C40,'Fødevaretabel '!$B$3:$C$759)) -> 12 | G40: =IF($C40="","",LOOKUP($C40,'Fødevaretabel '!$B$3:$F$759)*$D40/LOOKUP($C40,'Fødevaretabel '!$B$3:$C$759)) -> 0.25 | H40: =IF(C40="","",SUM(E40*4+F40*4+G40*9)) -> 85.25
E41: =IF($C41="","",LOOKUP($C41,'Fødevaretabel '!$B$3:$D$759)*$D41/LOOKUP($C41,'Fødevaretabel '!$B$3:$C$759)) | F41: =IF($C41="","",LOOKUP($C41,'Fødevaretabel '!$B$3:$E$759)*$D41/LOOKUP($C41,'Fødevaretabel '!$B$3:$C$759)) | G41: =IF($C41="","",LOOKUP($C41,'Fødevaretabel '!$B$3:$F$759)*$D41/LOOKUP($C41,'Fødevaretabel '!$B$3:$C$759)) | H41: =IF(C41="","",SUM(E41*4+F41*4+G41*9))
E42: =IF($C42="","",LOOKUP($C42,'Fødevaretabel '!$B$3:$D$759)*$D42/LOOKUP($C42,'Fødevaretabel '!$B$3:$C$759)) | F42: =IF($C42="","",LOOKUP($C42,'Fødevaretabel '!$B$3:$E$759)*$D42/LOOKUP($C42,'Fødevaretabel '!$B$3:$C$759)) | G42: =IF($C42="","",LOOKUP($C42,'Fødevaretabel '!$B$3:$F$759)*$D42/LOOKUP($C42,'Fødevaretabel '!$B$3:$C$759)) | H42: =IF(C42="","",SUM(E42*4+F42*4+G42*9))
E43: =IF($C43="","",LOOKUP($C43,'Fødevaretabel '!$B$3:$D$759)*$D43/LOOKUP($C43,'Fødevaretabel '!$B$3:$C$759)) | F43: =IF($C43="","",LOOKUP($C43,'Fødevaretabel '!$B$3:$E$759)*$D43/LOOKUP($C43,'Fødevaretabel '!$B$3:$C$759)) | G43: =IF($C43="","",LOOKUP($C43,'Fødevaretabel '!$B$3:$F$759)*$D43/LOOKUP($C43,'Fødevaretabel '!$B$3:$C$759)) | H43: =IF(C43="","",SUM(E43*4+F43*4+G43*9))
E44: =IF($C44="","",LOOKUP($C44,'Fødevaretabel '!$B$3:$D$759)*$D44/LOOKUP($C44,'Fødevaretabel '!$B$3:$C$759)) | F44: =IF($C44="","",LOOKUP($C44,'Fødevaretabel '!$B$3:$E$759)*$D44/LOOKUP($C44,'Fødevaretabel '!$B$3:$C$759)) | G44: =IF($C44="","",LOOKUP($C44,'Fødevaretabel '!$B$3:$F$759)*$D44/LOOKUP($C44,'Fødevaretabel '!$B$3:$C$759)) | H44: =IF(C44="","",SUM(E44*4+F44*4+G44*9))
B45: Sum for måltid 7 | E45: =SUM(E40:E44) -> 8.75 | F45: =SUM(F40:F44) -> 12 | G45: =SUM(G40:G44) -> 0.25 | H45: =SUM(E45*4+F45*4+G45*9) -> 85.25 | J45: =+('Diæt program'!E45*4)/('Diæt program'!$H45/100) -> 41.055718 | K45: =+('Diæt program'!F45*4)/('Diæt program'!$H45/100) -> 56.304985 | L45: =+('Diæt program'!G45*9)/('Diæt program'!$H45/100) -> 2.6392962 | M45: Måltid 7
B46: Daglig total: [g] , [g] , [g] and [Kcal.] | E46: =+E9+E15+E21+E27+E33+E39+E45 -> 157.18 | F46: =+F9+F15+F21+F27+F33+F39+F45 -> 307.08 | G46: =+G9+G15+G21+G27+G33+G39+G45 -> 23.38 | H46: =+H9+H15+H21+H27+H33+H39+H45 -> 2067.46
B47: Energifordeling [%] | E47: =IF(E46=0,"0",(E46*4)/($H$46/100)) -> 30.410262 | F47: =IF(F46=0,"0",(F46*4)/($H$46/100)) -> 59.412032 | G47: =IF(G46=0,"0",(G46*9)/($H$46/100)) -> 10.177706 | H47: =IF(H46=0,"0",E47+F47+G47) -> 100
C50: WHEY PRO
C51: SLIM PRO
C52: RECOVER CREATINE

Sheet Kroppens udvikling
B1: Krop udvikling | C1: 37189
B2: Noter vægt og mål
B3: Vægt
B4: FFM | C4: =C3-(C3/100)*C5 -> 0
B5: Fedt %
B6: Bryst
B7: Tajle
B8: Hofte
B9: Ben
B10: Arm
B11: Læg
B14: OMEGA 369
B15: BESTRONG WHEY
B16: PROTEIN BAR
B17: BESTRONG CREATINE POWER
B18: RECOVER & GAIN
B19: BESTRONG PRO 82

Sheet Fødevaretabel 
A1: Kosttabel
A2: ID | B2: Fødevare | C2: Per 100g eller per stk. | D2: Protein | E2: Kulhydrat | F2: Fedt
B3: A-38 | C3: 100 | D3: 3.7 | E3: 4.7 | F3: 3.5
B4: A38 Cheasy 0,1 | C4: 100 | D4: 4.3 | E4: 3.8 | F4: 0.1
B5: Aborre | C5: 100 | D5: 18.1 | E5: 0 | F5: 1.3
B6: Abrikos, rå | C6: 100 | D6: 0.8 | E6: 9.4 | F6: 0.3
B7: Abrikos, tørret | C7: 100 | D7: 2.9 | E7: 66.5 | F7: 1.7
B8: Acidophilus | C8: 100 | D8: 3.5 | E8: 13 | F8: 2.9
B9: Agurk | C9: 100 | D9: 0.7 | E9: 2.1 | F9: 0.1
B10: Agurker, syltede | C10: 100 | D10: 1.2 | E10: 3.4 | F10: 0.1
B11: Ananas | C11: 100 | D11: 0.5 | E11: 13 | F11: 0.4
B12: And, brystkød | C12: 100 | D12: 19.9 | E12: 0 | F12: 4.3
B13: Andelever | C13: 100 | D13: 18.7 | E13: 3.5 | F13: 4.6
B14: Appelsin | C14: 100 | D14: 0.9 | E14: 11.5 | F14: 0.6
... B524: Ål, røget | C524: 100 | D524: 19.4 | E524: 0 | F524: 27.8

Sheet Diet log
A1: Dato | B1: E% Protein | C1: E% Kulhydrat | D1: E% Fedt | E1: Kcal | G1: 2
A3: 37077 | B3: 30.410262 | C3: 59.412032 | D3: 10.177706 | E3: 2067.46
A4: 37077 | B4: 30.410262 | C4: 59.412032 | D4: 10.177706 | E4: 2067.46
A5: 37077 | B5: 30.410262 | C5: 59.412032 | D5: 10.177706 | E5: 2067.46
A6: 37077 | B6: 30.410262 | C6: 59.412032 | D6: 10.177706 | E6: 2067.46
A7: 37077 | B7: 30.410262 | C7: 59.412032 | D7: 10.177706 | E7: 2067.46
A8: 37077 | B8: 30.410262 | C8: 59.412032 | D8: 10.177706 | E8: 2067.46
G54: 4
G55: 5
S146: 36526
S147: 36527
S148: 36528
S149: 36529
S150: 36530
S151: 36531
S152: 36532
S153: 36533
S154: 36534
S155: 36535
S156: 36536
S157: 36537
... S380: 36760

Sheet Krop Log
A1: Log tabel for krop
A2: Dato | B2: Vægt kg | C2: FFM | D2: Fedt % | E2: Bryst | F2: Talje | G2: Hofte | H2: Ben | I2: Arm | J2: Læg

Sheet Brugervejledning
B2: Brugervejledning til Diæt delen af programmet
B3: Husk at gemme orginalen af programmet på din hardisk et sted som sikkerhedkopi.
B4: Det meste af programmet er beskyttet for at man ikke skal komme til at ødelægge funktionerne. har man alligevel lyst til at modificere på
B5: programmet er pasword'et til at fjerne bestyttelsen : amanda
A8: 1
J9: Indtast dato for dag som skal beregnes/logges
J10: Her feks. den 27 april 2001
A17: 2
J18: Klik på piletaster yderst til venstre og vælg
J19: dine fødevarer
A29: 3
J30: Indtast mængden af pågældende fødevaren
J31: Her f.eks 70 gram havkat
J33: Resten af dagen føres herefter ind under de forskellige
J34: måltider, fra måltid 1 og op til måltid 7
A40: 4
J41: Herefter kan man så se en kurve over enten energi
J42: fordelingen hen over dagen, eller fordelingen i gram
J43: protein, kulhydrat og fedt.
J45: Klik på enten % eller gram.
J47: Som udgangspunkt kan vi generelt anbefale en daglig
J48: energifordeling som ser således ud:
J50: Ved ønske om vægttab:
J51: 40% protein, 45% kulhydrat, 15% fedt
J53: Ved ønske om vægtforøgelse:
J54: 20% protein, 55% kulhydrat, 25% fedt
A57: 5
J58: Næste kurve viser kalorie indtagelse fordelt over
J59: dagen, fra måltid 1 til måltid 7
J61: Såfremt man ønsker et vægttab, kan det anbefales
J62: at fordele kalorierne med flest kalorier først
J63: på dagen, og færrest senere på dagen.
J65: Ønsker man at øge vægten skal der indtages mange
J66: kalorier, fordelt over hele dagen.
A70: 6
J71: Denne kurve, afspejler energifordelingen over
J72: en længevarende periode
J74: Dette kan f. eks være meget nyttigt hvis man har
J75: lavet ændringer i kostsammensætningen
J76: og ønsker at se resultaterne af dette.
J78: Denne kurve kan sammenholdes med de oplysninger
J79: som du kan indtaste i delen om kroppens udvikling.
A86: 7
J87: Kurven her viser kalorieindtaget over en
J88: længerevarende periode.
J90: Ligesom ved kurven over energifordelingen
J91: er dette nyttigt, hvis man har lavet ændringer
J92: i kostsammensætningen.
J94: NB! det skal bemærkes at såfremt du har indtastet
J95: mange dage, vil programmet sammentrække
J96: disse oplysninger og vise et udpluk af disse dage.
A100: 8
J101: Alle dine indtastede data, bliver overført til diæt log.
J103: Hvis du vil starte på en ny periode, og ikke ønsker
J104: at gemme dine gamle data, klik på diæt log.
A112: 9
J113: Benyt nedenstående fremgangsmåde til at slette data
J114: 1. Marker kun rækker med data i
J115: 2. tryk Ctrl - og klik på entire row (hel række)
J116: 3 tryk ok
J117: 4. nu vil din graf i sheet'et diæt program være tomt
J119: Samme fremgangsmåde kan anvendes i Kroppens
J120: udviklings sheet'et
A128: 10
I129: Såfremt du ønsker at gemme dine data, kan du
I130: oprette en ny mappe i programmet Stifinder, og
I131: kopiere det originale program dertil.
I133: NB det er vigtigtat du bibeholder navnet KropKostHK.
A141: 11
I142: I fødevaretabellen findes næsten 500 fødevarer.
I144: Såfremt du ønsker at tilføje fødevarer eller retter til
I145: tabellen, går du ind i fødevaretabel.
A152: 12
I153: Kør ned i bunden af sheet'et med feks. PageDown knap
I154: eller med pile tasterne.
A164: 13
I165: Til venstre skriver du navnet på den komplette ret eller
I166: den nye fødevare du vil lægge ind i databasen.
I168: Herefter skriver du antal stk. eller mængden per 100gr.
I169: Protein, kulhydrat og fedt indtastes herefter i samme
I170: måleenhed.
A173: 14
I174: Slut af med at køre op i toppen af sheet'et ved PageUp
I175: og klik på knappen"Sorter kosttabel alfabetisk".
I177: Du kan nu finde dine nye fødevarer / retter
I178: i diæt programmet.
