Workbook

Sheet Udfyld
A1: Hej
A2: Efter som der er rigtig mange, som ikke ved hvordan man sætter et SDH program op, har jeg lavet et excel ark så alle nu kan være med!
A3: Hvis du blot følger nedenstående instruktioner vil du have et færdigt program på blot 5 min. (ALLE GRØNNE FÆLTER SKAL UDFYLDES)
A5: SDH kræver at du træner 5 gange om ugen i 3 uger, disse 5 dage behøver dog ikke at være de samme hver uge, men for at tage et udgangspunk skal du nu vælge 5 dage.
A6: Dag 1 | B6: Dag 2 | C6: Dag 3 | D6: Dag 4 | E6: Dag 5
A7: Mandag | B7: Tirsdag | C7: Onsdag | D7: Torsdag | E7: Fredag
A9: For hvert træningspas, kan du vælge en øvelse fra hver af nedenstående lister. Uanset øvelser du vælger, vil du fortsætte med at bruge de samme øvelser i tre uger.
A11: Flat bench press
A12: Bent-over row supinated grip
A13: Standing military press
A14: Pull-up pronated grip
A15: Back squat
A16: Deadlift sumo
A18: Bemærk: Du må ikke vælge både dødløft og sqaut
A20: Nederst på siden er "Dit træningsskema", klik på det.

Sheet Dit træningsskema
A1: =Udfyld!A7 -> Mandag | C1: =Udfyld!B7 -> Tirsdag | E1: =Udfyld!C7 -> Onsdag | G1: =Udfyld!D7 -> Torsdag | I1: =Udfyld!E7 -> Fredag
A3: =Udfyld!A11 -> Flat bench press | B3: 5x5 | C3: =Udfyld!A11 -> Flat bench press | D3: 4x10 | E3: =Udfyld!A11 -> Flat bench press | F3: 5x5 | G3: =Udfyld!A11 -> Flat bench press | H3: 4x10 | I3: =Udfyld!A11 -> Flat bench press | J3: 5x5
A4: =Udfyld!A12 -> Bent-over row supinated grip | B4: 5x5 | C4: =Udfyld!A12 -> Bent-over row supinated grip | D4: 4x10 | E4: =Udfyld!A12 -> Bent-over row supinated grip | F4: 5x5 | G4: =Udfyld!A12 -> Bent-over row supinated grip | H4: 4x10 | I4: =Udfyld!A12 -> Bent-over row supinated grip | J4: 5x5
A5: =Udfyld!A15 -> Back squat | B5: 5x5 | C5: =Udfyld!A15 -> Back squat | D5: 4x10 | E5: =Udfyld!A15 -> Back squat | F5: 5x5 | G5: =Udfyld!A15 -> Back squat | H5: 4x10 | I5: =Udfyld!A15 -> Back squat | J5: 5x5
A7: =Udfyld!A13 -> Standing military press | B7: 4x10 | C7: =Udfyld!A13 -> Standing military press | D7: 5x5 | E7: =Udfyld!A13 -> Standing military press | F7: 4x10 | G7: =Udfyld!A13 -> Standing military press | H7: 5x5 | I7: =Udfyld!A13 -> Standing military press | J7: 4x10
A8: =Udfyld!A14 -> Pull-up pronated grip | B8: 4x10 | C8: =Udfyld!A14 -> Pull-up pronated grip | D8: 5x5 | E8: =Udfyld!A14 -> Pull-up pronated grip | F8: 4x10 | G8: =Udfyld!A14 -> Pull-up pronated grip | H8: 5x5 | I8: =Udfyld!A14 -> Pull-up pronated grip | J8: 4x10
A9: =Udfyld!A16 -> Deadlift sumo | B9: 4x10 | C9: =Udfyld!A16 -> Deadlift sumo | D9: 5x5 | E9: =Udfyld!A16 -> Deadlift sumo | F9: 4x10 | G9: =Udfyld!A16 -> Deadlift sumo | H9: 5x5 | I9: =Udfyld!A16 -> Deadlift sumo | J9: 4x10
A11: Så er det bare at komme i gang ;)

Sheet Data
A1: Upper body horizontal push | B1: Upper body horizontal pull | C1: Upper body vertical push | D1: Upper body vertical pull | E1: Quad-dominant lower body | F1: Hip-dominant lower body | G1: Mandag
A2: Flat bench press | B2: Bent-over row supinated grip | C2: Standing military press | D2: Pull-up pronated grip | E2: Back squat | F2: Deadlift sumo | G2: Tirsdag
A3: Incline bench press | B3: Bent-over row pronated grip | C3: Push press | D3: Pull-up supinated grip | E3: Front squat | F3: Deadlift conventional | G3: Onsdag
A4: Decline barbell bench press | B4: One-arm dumbbell row | C4: Push jerk | D4: Pull-up semi-supinated grip | E4: Hack squat | F4: Romanian deadlift | G4: Torsdag
A5: Dumbbell bench press | B5: Seated row triangle handle | C5: Dip | D5: Pulldown pronated | E5: Lunge | F5: Sumo squat | G5: Fredag
A6: Close-grip bench press | B6: Seated row straight bar | C6: Wide-grip dip | D6: Pulldown supinated | E6: Leg press | F6: Good morning | G6: Lørdag
A7: Iso-ballistic push-up | B7: Seated row double-D bar handle | C7: Close-grip triceps push press | D7: Pulldown semi-supinated grip | E7: Duck deadlift | F7: One-leg back extension
D8: Pulldown wide pronated grip | F8: Glute-ham raise
D9: Pulldown double-D bar handle | F9: Dumbbell swing
F10: One-arm dumbbell snatch
