Workbook

Sheet Side1
A1: Georgies Macho Program
A3: Skriv nedenfor i hver rubrik hvor meget du maksimalt tage, men min. 1 kg
D5: Øvelse | E5: Kg
D6: Benchpress | E6: 25
D7: Military Press | E7: 30
D8: Squad | E8: 60
D9: Curls | E9: 16
D10: Dip | E10: 10
D11: Lying Triceps Extensions | E11: 15
D12: Bent-over Rows | E12: 30
D13: Pull-ups | E13: 2.5
D14: Hyperextensions | E14: 25
D15: Pullovers | E15: 20
D16: Lateral raise | E16: 5
D17: Sidebends | E17: 25
D18: Sit-ups | E18: 10

Sheet Stigende vægt, faldende reps
A1: Uge 1 | B1: 1. sæt 12 gentagelser | C1: 2. sæt 10 gentagelser | D1: 3. sæt 8 gentagelser
A2: Benchpress | B2: =ROUND((0.65*Side1!E6)/2.5,0)*2.5 -> 17.5 | C2: =ROUND((B2*1.25)/2.5,0)*2.5 -> 22.5 | D2: =ROUND((C2*1.25)/2.5,0)*2.5 -> 27.5
A3: MilitaryPress | B3: =ROUND((0.65*Side1!E7)/2.5,0)*2.5 -> 20 | C3: =ROUND((B3*1.25)/2.5,0)*2.5 -> 25 | D3: =ROUND((C3*1.25)/2.5,0)*2.5 -> 32.5
A4: Squad | B4: =ROUND((0.65*Side1!E8)/2.5,0)*2.5 -> 40 | C4: =ROUND((B4*1.25)/2.5,0)*2.5 -> 50 | D4: =ROUND((C4*1.25)/2.5,0)*2.5 -> 62.5
A5: Curls | B5: =ROUND((0.65*Side1!E9)/2.5,0)*2.5 -> 10 | C5: =ROUND((B5*1.25)/2.5,0)*2.5 -> 12.5 | D5: =ROUND((C5*1.25)/2.5,0)*2.5 -> 15
A6: Dip | B6: =ROUND((0.65*Side1!E10)/1.25,0)*1.25 -> 6.25 | C6: =ROUND((B6*1.25)/1.25,0)*1.25 -> 7.5 | D6: =ROUND((C6*1.25)/1.25,0)*1.25 -> 10
A7: Lying riceps Extensions | B7: =ROUND((0.65*Side1!E11)/2.5,0)*2.5 -> 10 | C7: =ROUND((B7*1.25)/2.5,0)*2.5 -> 12.5 | D7: =ROUND((C7*1.25)/2.5,0)*2.5 -> 15
A8: Bent-over Rows | B8: =ROUND((0.65*Side1!E12)/2.5,0)*2.5 -> 20 | C8: =ROUND((B8*1.25)/2.5,0)*2.5 -> 25 | D8: =ROUND((C8*1.25)/2.5,0)*2.5 -> 32.5
A9: Pull-ups | B9: =ROUND((0.65*Side1!E13)/1.25,0)*1.25 -> 1.25 | C9: =ROUND((B9*1.25)/1.25,0)*1.25 -> 1.25 | D9: =ROUND((C9*1.25)/1.25,0)*1.25 -> 1.25
A10: Hyperextension | B10: =ROUND((0.65*Side1!E14)/2.5,0)*2.5 -> 17.5 | C10: =ROUND((B10*1.25)/2.5,0)*2.5 -> 22.5 | D10: =ROUND((C10*1.25)/2.5,0)*2.5 -> 27.5
A11: Pullovers | B11: =ROUND((0.65*Side1!E15)/2.5,0)*2.5 -> 12.5 | C11: =ROUND((B11*1.25)/2.5,0)*2.5 -> 15 | D11: =ROUND((C11*1.25)/2.5,0)*2.5 -> 20
A12: Lateral Raise | B12: =ROUND((0.65*Side1!E16)/2.5,0)*2.5 -> 2.5 | C12: =ROUND((B12*1.25)/2.5,0)*2.5 -> 2.5 | D12: =ROUND((C12*1.25)/2.5,0)*2.5 -> 2.5
A13: Sidebends | B13: =ROUND((0.65*Side1!E17)/2.5,0)*2.5 -> 17.5 | C13: =ROUND((B13*1.25)/2.5,0)*2.5 -> 22.5 | D13: =ROUND((C13*1.25)/2.5,0)*2.5 -> 27.5
A14: Sit-ups | B14: =ROUND((0.65*Side1!E18)/1.25,0)*1.25 -> 6.25 | C14: =ROUND((B14*1.25)/1.25,0)*1.25 -> 7.5 | D14: =ROUND((C14*1.25)/1.25,0)*1.25 -> 10
A17: Uge 2 | B17: 1. sæt 12 gentagelser | C17: 2. sæt 10 gentagelser | D17: 3. sæt 8 gentagelser
A18: Benchpress | B18: =ROUND((0.7*Side1!E6)/2.5,0)*2.5 -> 17.5 | C18: =ROUND((B18*1.25)/2.5,0)*2.5 -> 22.5 | D18: =ROUND((C18*1.25)/2.5,0)*2.5 -> 27.5
A19: MilitaryPress | B19: =ROUND((0.7*Side1!E7)/2.5,0)*2.5 -> 20 | C19: =ROUND((B19*1.25)/2.5,0)*2.5 -> 25 | D19: =ROUND((C19*1.25)/2.5,0)*2.5 -> 32.5
A20: Squad | B20: =ROUND((0.7*Side1!E8)/2.5,0)*2.5 -> 42.5 | C20: =ROUND((B20*1.25)/2.5,0)*2.5 -> 52.5 | D20: =ROUND((C20*1.25)/2.5,0)*2.5 -> 65
A21: Curls | B21: =ROUND((0.7*Side1!E9)/2.5,0)*2.5 -> 10 | C21: =ROUND((B21*1.25)/2.5,0)*2.5 -> 12.5 | D21: =ROUND((C21*1.25)/2.5,0)*2.5 -> 15
A22: Dip | B22: =ROUND((0.7*Side1!E10)/1.25,0)*1.25 -> 7.5 | C22: =ROUND((B22*1.25)/1.25,0)*1.25 -> 10 | D22: =ROUND((C22*1.25)/2.5,0)*2.5 -> 12.5
A23: Lying riceps Extensions | B23: =ROUND((0.7*Side1!E11)/2.5,0)*2.5 -> 10 | C23: =ROUND((B23*1.25)/2.5,0)*2.5 -> 12.5 | D23: =ROUND((C23*1.25)/1.25,0)*1.25 -> 16.25
A24: Bent-over Rows | B24: =ROUND((0.7*Side1!E12)/2.5,0)*2.5 -> 20 | C24: =ROUND((B24*1.25)/2.5,0)*2.5 -> 25 | D24: =ROUND((C24*1.25)/2.5,0)*2.5 -> 32.5
A25: Pull-ups | B25: =ROUND((0.7*Side1!E13)/1.25,0)*1.25 -> 1.25 | C25: =ROUND((B25*1.25)/1.25,0)*1.25 -> 1.25 | D25: =ROUND((C25*1.25)/1.25,0)*1.25 -> 1.25
A26: Hyperextension | B26: =ROUND((0.7*Side1!E14)/2.5,0)*2.5 -> 17.5 | C26: =ROUND((B26*1.25)/2.5,0)*2.5 -> 22.5 | D26: =ROUND((C26*1.25)/2.5,0)*2.5 -> 27.5
A27: Pullovers | B27: =ROUND((0.7*Side1!E15)/2.5,0)*2.5 -> 15 | C27: =ROUND((B27*1.25)/2.5,0)*2.5 -> 20 | D27: =ROUND((C27*1.25)/2.5,0)*2.5 -> 25
A28: Lateral Raise | B28: =ROUND((0.7*Side1!E16)/2.5,0)*2.5 -> 2.5 | C28: =ROUND((B28*1.25)/2.5,0)*2.5 -> 2.5 | D28: =ROUND((C28*1.25)/2.5,0)*2.5 -> 2.5
A29: Sidebends | B29: =ROUND((0.7*Side1!E17)/2.5,0)*2.5 -> 17.5 | C29: =ROUND((B29*1.25)/2.5,0)*2.5 -> 22.5 | D29: =ROUND((C29*1.25)/2.5,0)*2.5 -> 27.5
A30: Sit-ups | B30: =ROUND((0.7*Side1!E18)/1.25,0)*1.25 -> 7.5 | C30: =ROUND((B30*1.25)/1.25,0)*1.25 -> 10 | D30: =ROUND((C30*1.25)/1.25,0)*1.25 -> 12.5
A33: Uge 3 | B33: 1. sæt 12 gentagelser | C33: 2. sæt 10 gentagelser | D33: 3. sæt 8 gentagelser
A34: Benchpress | B34: =ROUND((0.75*Side1!E6)/2.5,0)*2.5 -> 20 | C34: =ROUND((B34*1.25)/2.5,0)*2.5 -> 25 | D34: =ROUND((C34*1.25)/2.5,0)*2.5 -> 32.5
A35: MilitaryPress | B35: =ROUND((0.75*Side1!E7)/2.5,0)*2.5 -> 22.5 | C35: =ROUND((B35*1.25)/2.5,0)*2.5 -> 27.5 | D35: =ROUND((C35*1.25)/2.5,0)*2.5 -> 35
A36: Squad | B36: =ROUND((0.75*Side1!E8)/2.5,0)*2.5 -> 45 | C36: =ROUND((B36*1.25)/2.5,0)*2.5 -> 57.5 | D36: =ROUND((C36*1.25)/2.5,0)*2.5 -> 72.5
A37: Curls | B37: =ROUND((0.75*Side1!E9)/2.5,0)*2.5 -> 12.5 | C37: =ROUND((B37*1.25)/2.5,0)*2.5 -> 15 | D37: =ROUND((C37*1.25)/2.5,0)*2.5 -> 20
A38: Dip | B38: =ROUND((0.75*Side1!E10)/1.25,0)*1.25 -> 7.5 | C38: =ROUND((B38*1.25)/1.25,0)*1.25 -> 10 | D38: =ROUND((C38*1.25)/1.25,0)*1.25 -> 12.5
A39: Lying riceps Extensions | B39: =ROUND((0.75*Side1!E11)/2.5,0)*2.5 -> 12.5 | C39: =ROUND((B39*1.25)/2.5,0)*2.5 -> 15 | D39: =ROUND((C39*1.25)/2.5,0)*2.5 -> 20
A40: Bent-over Rows | B40: =ROUND((0.75*Side1!E12)/2.5,0)*2.5 -> 22.5 | C40: =ROUND((B40*1.25)/2.5,0)*2.5 -> 27.5 | D40: =ROUND((C40*1.25)/2.5,0)*2.5 -> 35
A41: Pull-ups | B41: =ROUND((0.75*Side1!E13)/1.25,0)*1.25 -> 2.5 | C41: =ROUND((B41*1.25)/1.25,0)*1.25 -> 3.75 | D41: =ROUND((C41*1.25)/1.25,0)*1.25 -> 5
A42: Hyperextension | B42: =ROUND((0.75*Side1!E14)/2.5,0)*2.5 -> 20 | C42: =ROUND((B42*1.25)/2.5,0)*2.5 -> 25 | D42: =ROUND((C42*1.25)/2.5,0)*2.5 -> 32.5
A43: Pullovers | B43: =ROUND((0.75*Side1!E15)/2.5,0)*2.5 -> 15 | C43: =ROUND((B43*1.25)/2.5,0)*2.5 -> 20 | D43: =ROUND((C43*1.25)/2.5,0)*2.5 -> 25
A44: Lateral Raise | B44: =ROUND((0.75*Side1!E16)/2.5,0)*2.5 -> 5 | C44: =ROUND((B44*1.25)/2.5,0)*2.5 -> 7.5 | D44: =ROUND((C44*1.25)/2.5,0)*2.5 -> 10
...

Sheet Ark3
