Workbook

Sheet Side1
A1: Georgies Macho Program
A3: Skriv nedenfor i hver rubrik hvor meget du maksimalt tage, men min. 1 kg
D5: Øvelse | E5: Kg
D6: Benchpress | E6: 25
D7: Military Press | E7: 30
D8: Squad | E8: 60
D9: Curls | E9: 16
D10: Dip | E10: 10
D11: Lying Triceps Extensions | E11: 15
D12: Bent-over Rows | E12: 30
D13: Pull-ups | E13: 2.5
D14: Hyperextensions | E14: 25
D15: Pullovers | E15: 20
D16: Lateral raise | E16: 5
D17: Sidebends | E17: 25
D18: Sit-ups | E18: 10

Sheet Stigende vægt, faldende reps
A1: Uge 1 | B1: 1. sæt 12 gentagelser | C1: 2. sæt 10 gentagelser | D1: 3. sæt 8 gentagelser
A2: Benchpress | B2: =ROUND((0.65*Side1!E6)/2.5,0)*2.5 -> 17.5 | C2: =ROUND((B2*1.25)/2.5,0)*2.5 -> 22.5 | D2: =ROUND((C2*1.25)/2.5,0)*2.5 -> 27.5
A3: MilitaryPress | B3: =ROUND((0.65*Side1!E7)/2.5,0)*2.5 -> 20 | C3: =ROUND((B3*1.25)/2.5,0)*2.5 -> 25 | D3: =ROUND((C3*1.25)/2.5,0)*2.5 -> 32.5
A4: Squad | B4: =ROUND((0.65*Side1!E8)/2.5,0)*2.5 -> 40 | C4: =ROUND((B4*1.25)/2.5,0)*2.5 -> 50 | D4: =ROUND((C4*1.25)/2.5,0)*2.5 -> 62.5
A5: Curls | B5: =ROUND((0.65*Side1!E9)/2.5,0)*2.5 -> 10 | C5: =ROUND((B5*1.25)/2.5,0)*2.5 -> 12.5 | D5: =ROUND((C5*1.25)/2.5,0)*2.5 -> 15
A6: Dip | B6: =ROUND((0.65*Side1!E10)/1.25,0)*1.25 -> 6.25 | C6: =ROUND((B6*1.25)/1.25,0)*1.25 -> 7.5 | D6: =ROUND((C6*1.25)/1.25,0)*1.25 -> 10
A7: Lying riceps Extensions | B7: =ROUND((0.65*Side1!E11)/2.5,0)*2.5 -> 10 | C7: =ROUND((B7*1.25)/2.5,0)*2.5 -> 12.5 | D7: =ROUND((C7*1.25)/2.5,0)*2.5 -> 15
A8: Bent-over Rows | B8: =ROUND((0.65*Side1!E12)/2.5,0)*2.5 -> 20 | C8: =ROUND((B8*1.25)/2.5,0)*2.5 -> 25 | D8: =ROUND((C8*1.25)/2.5,0)*2.5 -> 32.5
A9: Pull-ups | B9: =ROUND((0.65*Side1!E13)/1.25,0)*1.25 -> 1.25 | C9: =ROUND((B9*1.25)/1.25,0)*1.25 -> 1.25 | D9: =ROUND((C9*1.25)/1.25,0)*1.25 -> 1.25
A10: Hyperextension | B10: =ROUND((0.65*Side1!E14)/2.5,0)*2.5 -> 17.5 | C10: =ROUND((B10*1.25)/2.5,0)*2.5 -> 22.5 | D10: =ROUND((C10*1.25)/2.5,0)*2.5 -> 27.5
A11: Pullovers | B11: =ROUND((0.65*Side1!E15)/2.5,0)*2.5 -> 12.5 | C11: =ROUND((B11*1.25)/2.5,0)*2.5 -> 15 | D11: =ROUND((C11*1.25)/2.5,0)*2.5 -> 20
A12: Lateral Raise | B12: =ROUND((0.65*Side1!E16)/2.5,0)*2.5 -> 2.5 | C12: =ROUND((B12*1.25)/2.5,0)*2.5 -> 2.5 | D12: =ROUND((C12*1.25)/2.5,0)*2.5 -> 2.5
A13: Sidebends | B13: =ROUND((0.65*Side1!E17)/2.5,0)*2.5 -> 17.5 | C13: =ROUND((B13*1.25)/2.5,0)*2.5 -> 22.5 | D13: =ROUND((C13*1.25)/2.5,0)*2.5 -> 27.5
A14: Sit-ups | B14: =ROUND((0.65*Side1!E18)/1.25,0)*1.25 -> 6.25 | C14: =ROUND((B14*1.25)/1.25,0)*1.25 -> 7.5 | D14: =ROUND((C14*1.25)/1.25,0)*1.25 -> 10
A17: Uge 2 | B17: 1. sæt 12 gentagelser | C17: 2. sæt 10 gentagelser | D17: 3. sæt 8 gentagelser
A18: Benchpress | B18: =ROUND((0.7*Side1!E6)/2.5,0)*2.5 -> 17.5 | C18: =ROUND((B18*1.25)/2.5,0)*2.5 -> 22.5 | D18: =ROUND((C18*1.25)/2.5,0)*2.5 -> 27.5
A19: MilitaryPress | B19: =ROUND((0.7*Side1!E7)/2.5,0)*2.5 -> 20 | C19: =ROUND((B19*1.25)/2.5,0)*2.5 -> 25 | D19: =ROUND((C19*1.25)/2.5,0)*2.5 -> 32.5
A20: Squad | B20: =ROUND((0.7*Side1!E8)/2.5,0)*2.5 -> 42.5 | C20: =ROUND((B20*1.25)/2.5,0)*2.5 -> 52.5 | D20: =ROUND((C20*1.25)/2.5,0)*2.5 -> 65
A21: Curls | B21: =ROUND((0.7*Side1!E9)/2.5,0)*2.5 -> 10 | C21: =ROUND((B21*1.25)/2.5,0)*2.5 -> 12.5 | D21: =ROUND((C21*1.25)/2.5,0)*2.5 -> 15
A22: Dip | B22: =ROUND((0.7*Side1!E10)/1.25,0)*1.25 -> 7.5 | C22: =ROUND((B22*1.25)/1.25,0)*1.25 -> 10 | D22: =ROUND((C22*1.25)/2.5,0)*2.5 -> 12.5
A23: Lying riceps Extensions | B23: =ROUND((0.7*Side1!E11)/2.5,0)*2.5 -> 10 | C23: =ROUND((B23*1.25)/2.5,0)*2.5 -> 12.5 | D23: =ROUND((C23*1.25)/1.25,0)*1.25 -> 16.25
A24: Bent-over Rows | B24: =ROUND((0.7*Side1!E12)/2.5,0)*2.5 -> 20 | C24: =ROUND((B24*1.25)/2.5,0)*2.5 -> 25 | D24: =ROUND((C24*1.25)/2.5,0)*2.5 -> 32.5
A25: Pull-ups | B25: =ROUND((0.7*Side1!E13)/1.25,0)*1.25 -> 1.25 | C25: =ROUND((B25*1.25)/1.25,0)*1.25 -> 1.25 | D25: =ROUND((C25*1.25)/1.25,0)*1.25 -> 1.25
A26: Hyperextension | B26: =ROUND((0.7*Side1!E14)/2.5,0)*2.5 -> 17.5 | C26: =ROUND((B26*1.25)/2.5,0)*2.5 -> 22.5 | D26: =ROUND((C26*1.25)/2.5,0)*2.5 -> 27.5
A27: Pullovers | B27: =ROUND((0.7*Side1!E15)/2.5,0)*2.5 -> 15 | C27: =ROUND((B27*1.25)/2.5,0)*2.5 -> 20 | D27: =ROUND((C27*1.25)/2.5,0)*2.5 -> 25
A28: Lateral Raise | B28: =ROUND((0.7*Side1!E16)/2.5,0)*2.5 -> 2.5 | C28: =ROUND((B28*1.25)/2.5,0)*2.5 -> 2.5 | D28: =ROUND((C28*1.25)/2.5,0)*2.5 -> 2.5
A29: Sidebends | B29: =ROUND((0.7*Side1!E17)/2.5,0)*2.5 -> 17.5 | C29: =ROUND((B29*1.25)/2.5,0)*2.5 -> 22.5 | D29: =ROUND((C29*1.25)/2.5,0)*2.5 -> 27.5
A30: Sit-ups | B30: =ROUND((0.7*Side1!E18)/1.25,0)*1.25 -> 7.5 | C30: =ROUND((B30*1.25)/1.25,0)*1.25 -> 10 | D30: =ROUND((C30*1.25)/1.25,0)*1.25 -> 12.5
A33: Uge 3 | B33: 1. sæt 12 gentagelser | C33: 2. sæt 10 gentagelser | D33: 3. sæt 8 gentagelser
A34: Benchpress | B34: =ROUND((0.75*Side1!E6)/2.5,0)*2.5 -> 20 | C34: =ROUND((B34*1.25)/2.5,0)*2.5 -> 25 | D34: =ROUND((C34*1.25)/2.5,0)*2.5 -> 32.5
A35: MilitaryPress | B35: =ROUND((0.75*Side1!E7)/2.5,0)*2.5 -> 22.5 | C35: =ROUND((B35*1.25)/2.5,0)*2.5 -> 27.5 | D35: =ROUND((C35*1.25)/2.5,0)*2.5 -> 35
A36: Squad | B36: =ROUND((0.75*Side1!E8)/2.5,0)*2.5 -> 45 | C36: =ROUND((B36*1.25)/2.5,0)*2.5 -> 57.5 | D36: =ROUND((C36*1.25)/2.5,0)*2.5 -> 72.5
A37: Curls | B37: =ROUND((0.75*Side1!E9)/2.5,0)*2.5 -> 12.5 | C37: =ROUND((B37*1.25)/2.5,0)*2.5 -> 15 | D37: =ROUND((C37*1.25)/2.5,0)*2.5 -> 20
A38: Dip | B38: =ROUND((0.75*Side1!E10)/1.25,0)*1.25 -> 7.5 | C38: =ROUND((B38*1.25)/1.25,0)*1.25 -> 10 | D38: =ROUND((C38*1.25)/1.25,0)*1.25 -> 12.5
A39: Lying riceps Extensions | B39: =ROUND((0.75*Side1!E11)/2.5,0)*2.5 -> 12.5 | C39: =ROUND((B39*1.25)/2.5,0)*2.5 -> 15 | D39: =ROUND((C39*1.25)/2.5,0)*2.5 -> 20
A40: Bent-over Rows | B40: =ROUND((0.75*Side1!E12)/2.5,0)*2.5 -> 22.5 | C40: =ROUND((B40*1.25)/2.5,0)*2.5 -> 27.5 | D40: =ROUND((C40*1.25)/2.5,0)*2.5 -> 35
A41: Pull-ups | B41: =ROUND((0.75*Side1!E13)/1.25,0)*1.25 -> 2.5 | C41: =ROUND((B41*1.25)/1.25,0)*1.25 -> 3.75 | D41: =ROUND((C41*1.25)/1.25,0)*1.25 -> 5
A42: Hyperextension | B42: =ROUND((0.75*Side1!E14)/2.5,0)*2.5 -> 20 | C42: =ROUND((B42*1.25)/2.5,0)*2.5 -> 25 | D42: =ROUND((C42*1.25)/2.5,0)*2.5 -> 32.5
A43: Pullovers | B43: =ROUND((0.75*Side1!E15)/2.5,0)*2.5 -> 15 | C43: =ROUND((B43*1.25)/2.5,0)*2.5 -> 20 | D43: =ROUND((C43*1.25)/2.5,0)*2.5 -> 25
A44: Lateral Raise | B44: =ROUND((0.75*Side1!E16)/2.5,0)*2.5 -> 5 | C44: =ROUND((B44*1.25)/2.5,0)*2.5 -> 7.5 | D44: =ROUND((C44*1.25)/2.5,0)*2.5 -> 10
A45: Sidebends | B45: =ROUND((0.75*Side1!E17)/2.5,0)*2.5 -> 20 | C45: =ROUND((B45*1.25)/2.5,0)*2.5 -> 25 | D45: =ROUND((C45*1.25)/2.5,0)*2.5 -> 32.5
A46: Sit-ups | B46: =ROUND((0.75*Side1!E18)/1.25,0)*1.25 -> 7.5 | C46: =ROUND((B46*1.25)/1.25,0)*1.25 -> 10 | D46: =ROUND((C46*1.25)/1.25,0)*1.25 -> 12.5
A49: Uge 4 | B49: 1. sæt 12 gentagelser | C49: 2. sæt 10 gentagelser | D49: 3. sæt 8 gentagelser
A50: Benchpress | B50: =ROUND((0.8*Side1!E6)/2.5,0)*2.5 -> 20 | C50: =ROUND((B50*1.25)/2.5,0)*2.5 -> 25 | D50: =ROUND((C50*1.25)/2.5,0)*2.5 -> 32.5
A51: MilitaryPress | B51: =ROUND((0.8*Side1!E7)/2.5,0)*2.5 -> 25 | C51: =ROUND((B51*1.25)/2.5,0)*2.5 -> 32.5 | D51: =ROUND((C51*1.25)/2.5,0)*2.5 -> 40
A52: Squad | B52: =ROUND((0.8*Side1!E8)/2.5,0)*2.5 -> 47.5 | C52: =ROUND((B52*1.25)/2.5,0)*2.5 -> 60 | D52: =ROUND((C52*1.25)/2.5,0)*2.5 -> 75
A53: Curls | B53: =ROUND((0.8*Side1!E9)/2.5,0)*2.5 -> 12.5 | C53: =ROUND((B53*1.25)/2.5,0)*2.5 -> 15 | D53: =ROUND((C53*1.25)/2.5,0)*2.5 -> 20
A54: Dip | B54: =ROUND((0.8*Side1!E10)/1.25,0)*1.25 -> 7.5 | C54: =ROUND((B54*1.25)/1.25,0)*1.25 -> 10 | D54: =ROUND((C54*1.25)/1.25,0)*1.25 -> 12.5
A55: Lying riceps Extensions | B55: =ROUND((0.8*Side1!E11)/2.5,0)*2.5 -> 12.5 | C55: =ROUND((B55*1.25)/2.5,0)*2.5 -> 15 | D55: =ROUND((C55*1.25)/2.5,0)*2.5 -> 20
A56: Bent-over Rows | B56: =ROUND((0.8*Side1!E12)/2.5,0)*2.5 -> 25 | C56: =ROUND((B56*1.25)/2.5,0)*2.5 -> 32.5 | D56: =ROUND((C56*1.25)/2.5,0)*2.5 -> 40
A57: Pull-ups | B57: =ROUND((0.8*Side1!E13)/1.25,0)*1.25 -> 2.5 | C57: =ROUND((B57*1.25)/1.25,0)*1.25 -> 3.75 | D57: =ROUND((C57*1.25)/1.25,0)*1.25 -> 5
A58: Hyperextension | B58: =ROUND((0.8*Side1!E14)/2.5,0)*2.5 -> 20 | C58: =ROUND((B58*1.25)/2.5,0)*2.5 -> 25 | D58: =ROUND((C58*1.25)/2.5,0)*2.5 -> 32.5
A59: Pullovers | B59: =ROUND((0.8*Side1!E15)/2.5,0)*2.5 -> 15 | C59: =ROUND((B59*1.25)/2.5,0)*2.5 -> 20 | D59: =ROUND((C59*1.25)/2.5,0)*2.5 -> 25
A60: Lateral Raise | B60: =ROUND((0.8*Side1!E16)/2.5,0)*2.5 -> 5 | C60: =ROUND((B60*1.25)/2.5,0)*2.5 -> 7.5 | D60: =ROUND((C60*1.25)/2.5,0)*2.5 -> 10
A61: Sidebends | B61: =ROUND((0.8*Side1!E17)/2.5,0)*2.5 -> 20 | C61: =ROUND((B61*1.25)/2.5,0)*2.5 -> 25 | D61: =ROUND((C61*1.25)/2.5,0)*2.5 -> 32.5
A62: Sit-ups | B62: =ROUND((0.8*Side1!E18)/1.25,0)*1.25 -> 7.5 | C62: =ROUND((B62*1.25)/1.25,0)*1.25 -> 10 | D62: =ROUND((C62*1.25)/1.25,0)*1.25 -> 12.5
A65: Uge 5 | B65: 1. sæt 12 gentagelser | C65: 2. sæt 10 gentagelser | D65: 3. sæt 8 gentagelser
A66: Benchpress | B66: =ROUND((0.85*Side1!E6)/2.5,0)*2.5 -> 22.5 | C66: =ROUND((B66*1.25)/2.5,0)*2.5 -> 27.5 | D66: =ROUND((C66*1.25)/2.5,0)*2.5 -> 35
A67: MilitaryPress | B67: =ROUND((0.85*Side1!E7)/2.5,0)*2.5 -> 25 | C67: =ROUND((B67*1.25)/2.5,0)*2.5 -> 32.5 | D67: =ROUND((C67*1.25)/2.5,0)*2.5 -> 40
A68: Squad | B68: =ROUND((0.85*Side1!E8)/2.5,0)*2.5 -> 50 | C68: =ROUND((B68*1.25)/2.5,0)*2.5 -> 62.5 | D68: =ROUND((C68*1.25)/2.5,0)*2.5 -> 77.5
A69: Curls | B69: =ROUND((0.85*Side1!E9)/2.5,0)*2.5 -> 12.5 | C69: =ROUND((B69*1.25)/2.5,0)*2.5 -> 15 | D69: =ROUND((C69*1.25)/2.5,0)*2.5 -> 20
A70: Dip | B70: =ROUND((0.85*Side1!E10)/1.25,0)*1.25 -> 8.75 | C70: =ROUND((B70*1.25)/1.25,0)*1.25 -> 11.25 | D70: =ROUND((C70*1.25)/1.25,0)*1.25 -> 13.75
A71: Lying riceps Extensions | B71: =ROUND((0.85*Side1!E11)/2.5,0)*2.5 -> 12.5 | C71: =ROUND((B71*1.25)/2.5,0)*2.5 -> 15 | D71: =ROUND((C71*1.25)/2.5,0)*2.5 -> 20
A72: Bent-over Rows | B72: =ROUND((0.85*Side1!E12)/2.5,0)*2.5 -> 25 | C72: =ROUND((B72*1.25)/2.5,0)*2.5 -> 32.5 | D72: =ROUND((C72*1.25)/2.5,0)*2.5 -> 40
A73: Pull-ups | B73: =ROUND((0.85*Side1!E13)/1.25,0)*1.25 -> 2.5 | C73: =ROUND((B73*1.25)/1.25,0)*1.25 -> 3.75 | D73: =ROUND((C73*1.25)/1.25,0)*1.25 -> 5
A74: Hyperextension | B74: =ROUND((0.85*Side1!E14)/2.5,0)*2.5 -> 22.5 | C74: =ROUND((B74*1.25)/2.5,0)*2.5 -> 27.5 | D74: =ROUND((C74*1.25)/2.5,0)*2.5 -> 35
A75: Pullovers | B75: =ROUND((0.85*Side1!E15)/2.5,0)*2.5 -> 17.5 | C75: =ROUND((B75*1.25)/2.5,0)*2.5 -> 22.5 | D75: =ROUND((C75*1.25)/2.5,0)*2.5 -> 27.5
A76: Lateral Raise | B76: =ROUND((0.85*Side1!E16)/2.5,0)*2.5 -> 5 | C76: =ROUND((B76*1.25)/2.5,0)*2.5 -> 7.5 | D76: =ROUND((C76*1.25)/2.5,0)*2.5 -> 10
A77: Sidebends | B77: =ROUND((0.85*Side1!E17)/2.5,0)*2.5 -> 22.5 | C77: =ROUND((B77*1.25)/2.5,0)*2.5 -> 27.5 | D77: =ROUND((C77*1.25)/2.5,0)*2.5 -> 35
A78: Sit-ups | B78: =ROUND((0.85*Side1!E18)/1.25,0)*1.25 -> 8.75 | C78: =ROUND((B78*1.25)/1.25,0)*1.25 -> 11.25 | D78: =ROUND((C78*1.25)/1.25,0)*1.25 -> 13.75
A81: Uge 6 | B81: 1. sæt 12 gentagelser | C81: 2. sæt 10 gentagelser | D81: 3. sæt 8 gentagelser
A82: Benchpress | B82: =ROUND((0.9*Side1!E6)/2.5,0)*2.5 -> 22.5 | C82: =ROUND((B82*1.25)/2.5,0)*2.5 -> 27.5 | D82: =ROUND((C82*1.25)/2.5,0)*2.5 -> 35
A83: MilitaryPress | B83: =ROUND((0.9*Side1!E7)/2.5,0)*2.5 -> 27.5 | C83: =ROUND((B83*1.25)/2.5,0)*2.5 -> 35 | D83: =ROUND((C83*1.25)/2.5,0)*2.5 -> 45
A84: Squad | B84: =ROUND((0.9*Side1!E8)/2.5,0)*2.5 -> 55 | C84: =ROUND((B84*1.25)/2.5,0)*2.5 -> 70 | D84: =ROUND((C84*1.25)/2.5,0)*2.5 -> 87.5
A85: Curls | B85: =ROUND((0.9*Side1!E9)/2.5,0)*2.5 -> 15 | C85: =ROUND((B85*1.25)/2.5,0)*2.5 -> 20 | D85: =ROUND((C85*1.25)/2.5,0)*2.5 -> 25
A86: Dip | B86: =ROUND((0.9*Side1!E10)/1.25,0)*1.25 -> 8.75 | C86: =ROUND((B86*1.25)/1.25,0)*1.25 -> 11.25 | D86: =ROUND((C86*1.25)/1.25,0)*1.25 -> 13.75
A87: Lying riceps Extensions | B87: =ROUND((0.9*Side1!E11)/2.5,0)*2.5 -> 12.5 | C87: =ROUND((B87*1.25)/2.5,0)*2.5 -> 15 | D87: =ROUND((C87*1.25)/2.5,0)*2.5 -> 20
A88: Bent-over Rows | B88: =ROUND((0.9*Side1!E12)/2.5,0)*2.5 -> 27.5 | C88: =ROUND((B88*1.25)/2.5,0)*2.5 -> 35 | D88: =ROUND((C88*1.25)/2.5,0)*2.5 -> 45
A89: Pull-ups | B89: =ROUND((0.9*Side1!E13)/1.25,0)*1.25 -> 2.5 | C89: =ROUND((B89*1.25)/1.25,0)*1.25 -> 3.75 | D89: =ROUND((C89*1.25)/1.25,0)*1.25 -> 5
A90: Hyperextension | B90: =ROUND((0.9*Side1!E14)/2.5,0)*2.5 -> 22.5 | C90: =ROUND((B90*1.25)/2.5,0)*2.5 -> 27.5 | D90: =ROUND((C90*1.25)/2.5,0)*2.5 -> 35
A91: Pullovers | B91: =ROUND((0.9*Side1!E15)/2.5,0)*2.5 -> 17.5 | C91: =ROUND((B91*1.25)/2.5,0)*2.5 -> 22.5 | D91: =ROUND((C91*1.25)/2.5,0)*2.5 -> 27.5
A92: Lateral Raise | B92: =ROUND((0.9*Side1!E16)/2.5,0)*2.5 -> 5 | C92: =ROUND((B92*1.25)/2.5,0)*2.5 -> 7.5 | D92: =ROUND((C92*1.25)/2.5,0)*2.5 -> 10
A93: Sidebends | B93: =ROUND((0.9*Side1!E17)/2.5,0)*2.5 -> 22.5 | C93: =ROUND((B93*1.25)/2.5,0)*2.5 -> 27.5 | D93: =ROUND((C93*1.25)/2.5,0)*2.5 -> 35
A94: Sit-ups | B94: =ROUND((0.9*Side1!E18)/1.25,0)*1.25 -> 8.75 | C94: =ROUND((B94*1.25)/1.25,0)*1.25 -> 11.25 | D94: =ROUND((C94*1.25)/1.25,0)*1.25 -> 13.75
A97: Uge 7 | B97: 1. sæt 12 gentagelser | C97: 2. sæt 10 gentagelser | D97: 3. sæt 8 gentagelser
A98: Benchpress | B98: =ROUND((0.95*Side1!E6)/2.5,0)*2.5 -> 25 | C98: =ROUND((B98*1.25)/2.5,0)*2.5 -> 32.5 | D98: =ROUND((C98*1.25)/2.5,0)*2.5 -> 40
A99: MilitaryPress | B99: =ROUND((0.95*Side1!E7)/2.5,0)*2.5 -> 27.5 | C99: =ROUND((B99*1.25)/2.5,0)*2.5 -> 35 | D99: =ROUND((C99*1.25)/2.5,0)*2.5 -> 45
A100: Squad | B100: =ROUND((0.95*Side1!E8)/2.5,0)*2.5 -> 57.5 | C100: =ROUND((B100*1.25)/2.5,0)*2.5 -> 72.5 | D100: =ROUND((C100*1.25)/2.5,0)*2.5 -> 90
A101: Curls | B101: =ROUND((0.95*Side1!E9)/2.5,0)*2.5 -> 15 | C101: =ROUND((B101*1.25)/2.5,0)*2.5 -> 20 | D101: =ROUND((C101*1.25)/2.5,0)*2.5 -> 25
A102: Dip | B102: =ROUND((0.95*Side1!E10)/1.25,0)*1.25 -> 10 | C102: =ROUND((B102*1.25)/1.25,0)*1.25 -> 12.5 | D102: =ROUND((C102*1.25)/1.25,0)*1.25 -> 16.25
A103: Lying riceps Extensions | B103: =ROUND((0.95*Side1!E11)/2.5,0)*2.5 -> 15 | C103: =ROUND((B103*1.25)/2.5,0)*2.5 -> 20 | D103: =ROUND((C103*1.25)/2.5,0)*2.5 -> 25
A104: Bent-over Rows | B104: =ROUND((0.95*Side1!E12)/2.5,0)*2.5 -> 27.5 | C104: =ROUND((B104*1.25)/2.5,0)*2.5 -> 35 | D104: =ROUND((C104*1.25)/2.5,0)*2.5 -> 45
A105: Pull-ups | B105: =ROUND((0.95*Side1!E13)/1.25,0)*1.25 -> 2.5 | C105: =ROUND((B105*1.25)/1.25,0)*1.25 -> 3.75 | D105: =ROUND((C105*1.25)/1.25,0)*1.25 -> 5
A106: Hyperextension | B106: =ROUND((0.95*Side1!E14)/2.5,0)*2.5 -> 25 | C106: =ROUND((B106*1.25)/2.5,0)*2.5 -> 32.5 | D106: =ROUND((C106*1.25)/2.5,0)*2.5 -> 40
A107: Pullovers | B107: =ROUND((0.95*Side1!E15)/2.5,0)*2.5 -> 20 | C107: =ROUND((B107*1.25)/2.5,0)*2.5 -> 25 | D107: =ROUND((C107*1.25)/2.5,0)*2.5 -> 32.5
A108: Lateral Raise | B108: =ROUND((0.95*Side1!E16)/2.5,0)*2.5 -> 5 | C108: =ROUND((B108*1.25)/2.5,0)*2.5 -> 7.5 | D108: =ROUND((C108*1.25)/2.5,0)*2.5 -> 10
A109: Sidebends | B109: =ROUND((0.95*Side1!E17)/2.5,0)*2.5 -> 25 | C109: =ROUND((B109*1.25)/2.5,0)*2.5 -> 32.5 | D109: =ROUND((C109*1.25)/2.5,0)*2.5 -> 40
A110: Sit-ups | B110: =ROUND((0.95*Side1!E18)/1.25,0)*1.25 -> 10 | C110: =ROUND((B110*1.25)/1.25,0)*1.25 -> 12.5 | D110: =ROUND((C110*1.25)/1.25,0)*1.25 -> 16.25
A113: Uge 8 | B113: 1. sæt 12 gentagelser | C113: 2. sæt 10 gentagelser | D113: 3. sæt 8 gentagelser
A114: Benchpress | B114: =ROUND((1*Side1!E6)/2.5,0)*2.5 -> 25 | C114: =ROUND((B114*1.25)/2.5,0)*2.5 -> 32.5 | D114: =ROUND((C114*1.25)/2.5,0)*2.5 -> 40
...

Sheet Ark3
