Workbook
Name Exercises: lifts!$A$1:$A$20

Sheet p1
A1: Sheiko
A2: Monthly training plan #1 of Candidates to MS and CMS in preparation period
A4: week 1
A5: 1 day (monday) | B5: reps | C5: sets | D5: % | E5: weight
A6: Squat | B6: 5 | C6: 1 | D6: 0.5 | E6: =mround(IF((A6=""),(D6*(E5/D5)),(D6*VLOOKUP(A6,lifts!$A:$B,2,FALSE))),settings!$B$1) -> 62.5
B7: 4 | C7: 2 | D7: 0.6 | E7: =mround(IF((A7=""),(D7*(E6/D6)),(D7*VLOOKUP(A7,lifts!$A:$B,2,FALSE))),settings!$B$1) -> 75
B8: 3 | C8: 2 | D8: 0.7 | E8: =mround(IF((A8=""),(D8*(E7/D7)),(D8*VLOOKUP(A8,lifts!$A:$B,2,FALSE))),settings!$B$1) -> 87.5
B9: 2 | C9: 5 | D9: 0.8 | E9: =mround(IF((A9=""),(D9*(E8/D8)),(D9*VLOOKUP(A9,lifts!$A:$B,2,FALSE))),settings!$B$1) -> 100
A10: Push press | B10: 5 | C10: 1 | D10: 0.5 | E10: =mround(IF((A10=""),(D10*(E9/D9)),(D10*VLOOKUP(A10,lifts!$A:$B,2,FALSE))),settings!$B$1) -> 32.5
B11: 4 | C11: 1 | D11: 0.6 | E11: =mround(IF((A11=""),(D11*(E10/D10)),(D11*VLOOKUP(A11,lifts!$A:$B,2,FALSE))),settings!$B$1) -> 40
B12: 3 | C12: 2 | D12: 0.7 | E12: =mround(IF((A12=""),(D12*(E11/D11)),(D12*VLOOKUP(A12,lifts!$A:$B,2,FALSE))),settings!$B$1) -> 47.5
B13: 3 | C13: 6 | D13: 0.8 | E13: =mround(IF((A13=""),(D13*(E12/D12)),(D13*VLOOKUP(A13,lifts!$A:$B,2,FALSE))),settings!$B$1) -> 55
A14: Front squat | B14: 5 | C14: 1 | D14: 0.5 | E14: =mround(IF((A14=""),(D14*(E13/D13)),(D14*VLOOKUP(A14,lifts!$A:$B,2,FALSE))),settings!$B$1) -> 52.5
B15: 5 | C15: 1 | D15: 0.6 | E15: =mround(IF((A15=""),(D15*(E14/D14)),(D15*VLOOKUP(A15,lifts!$A:$B,2,FALSE))),settings!$B$1) -> 62.5
B16: 4 | C16: 5 | D16: 0.7 | E16: =mround(IF((A16=""),(D16*(E15/D15)),(D16*VLOOKUP(A16,lifts!$A:$B,2,FALSE))),settings!$B$1) -> 72.5
A17: Press | B17: 5 | C17: 1 | D17: 0.55 | E17: =mround(IF((A17=""),(D17*(E16/D16)),(D17*VLOOKUP(A17,lifts!$A:$B,2,FALSE))),settings!$B$1) -> 25
B18: 4 | C18: 1 | D18: 0.65 | E18: =mround(IF((A18=""),(D18*(E17/D17)),(D18*VLOOKUP(A18,lifts!$A:$B,2,FALSE))),settings!$B$1) -> 30
B19: 3 | C19: 5 | D19: 0.75 | E19: =mround(IF((A19=""),(D19*(E18/D18)),(D19*VLOOKUP(A19,lifts!$A:$B,2,FALSE))),settings!$B$1) -> 35
A21: 5 day (friday) | B21: reps | C21: sets | D21: % | E21: weight
A22: Front squat | B22: 5 | C22: 1 | D22: 0.5 | E22: =mround(IF((A22=""),(D22*(E21/D21)),(D22*VLOOKUP(A22,lifts!$A:$B,2,FALSE))),settings!$B$1) -> 52.5
B23: 4 | C23: 1 | D23: 0.6 | E23: =mround(IF((A23=""),(D23*(E22/D22)),(D23*VLOOKUP(A23,lifts!$A:$B,2,FALSE))),settings!$B$1) -> 62.5
B24: 3 | C24: 2 | D24: 0.7 | E24: =mround(IF((A24=""),(D24*(E23/D23)),(D24*VLOOKUP(A24,lifts!$A:$B,2,FALSE))),settings!$B$1) -> 72.5
B25: 3 | C25: 6 | D25: 0.8 | E25: =mround(IF((A25=""),(D25*(E24/D24)),(D25*VLOOKUP(A25,lifts!$A:$B,2,FALSE))),settings!$B$1) -> 82.5
A26: Press | B26: 5 | C26: 1 | D26: 0.5 | E26: =mround(IF((A26=""),(D26*(E25/D25)),(D26*VLOOKUP(A26,lifts!$A:$B,2,FALSE))),settings!$B$1) -> 22.5
B27: 4 | C27: 1 | D27: 0.6 | E27: =mround(IF((A27=""),(D27*(E26/D26)),(D27*VLOOKUP(A27,lifts!$A:$B,2,FALSE))),settings!$B$1) -> 27.5
B28: 3 | C28: 2 | D28: 0.7 | E28: =mround(IF((A28=""),(D28*(E27/D27)),(D28*VLOOKUP(A28,lifts!$A:$B,2,FALSE))),settings!$B$1) -> 32.5
B29: 3 | C29: 5 | D29: 0.8 | E29: =mround(IF((A29=""),(D29*(E28/D28)),(D29*VLOOKUP(A29,lifts!$A:$B,2,FALSE))),settings!$B$1) -> 37.5
A30: Squat | B30: 5 | C30: 1 | D30: 0.5 | E30: =mround(IF((A30=""),(D30*(E29/D29)),(D30*VLOOKUP(A30,lifts!$A:$B,2,FALSE))),settings!$B$1) -> 62.5
B31: 5 | C31: 1 | D31: 0.6 | E31: =mround(IF((A31=""),(D31*(E30/D30)),(D31*VLOOKUP(A31,lifts!$A:$B,2,FALSE))),settings!$B$1) -> 75
B32: 4 | C32: 5 | D32: 0.7 | E32: =mround(IF((A32=""),(D32*(E31/D31)),(D32*VLOOKUP(A32,lifts!$A:$B,2,FALSE))),settings!$B$1) -> 87.5
A33: Push press | B33: 5 | C33: 1 | D33: 0.55 | E33: =mround(IF((A33=""),(D33*(E32/D32)),(D33*VLOOKUP(A33,lifts!$A:$B,2,FALSE))),settings!$B$1) -> 35
B34: 4 | C34: 1 | D34: 0.65 | E34: =mround(IF((A34=""),(D34*(E33/D33)),(D34*VLOOKUP(A34,lifts!$A:$B,2,FALSE))),settings!$B$1) -> 42.5
B35: 3 | C35: 5 | D35: 0.75 | E35: =mround(IF((A35=""),(D35*(E34/D34)),(D35*VLOOKUP(A35,lifts!$A:$B,2,FALSE))),settings!$B$1) -> 50

Sheet p2
A1: week 2
A2: 1 day (monday) | B2: reps | C2: sets | D2: % | E2: weight
A3: Squat | B3: 5 | C3: 1 | D3: 0.5 | E3: =mround(IF((A3=""),(D3*(E2/D2)),(D3*VLOOKUP(A3,lifts!$A:$B,2,FALSE))),settings!$B$1) -> 62.5
B4: 4 | C4: 1 | D4: 0.6 | E4: =mround(IF((A4=""),(D4*(E3/D3)),(D4*VLOOKUP(A4,lifts!$A:$B,2,FALSE))),settings!$B$1) -> 75
B5: 3 | C5: 2 | D5: 0.7 | E5: =mround(IF((A5=""),(D5*(E4/D4)),(D5*VLOOKUP(A5,lifts!$A:$B,2,FALSE))),settings!$B$1) -> 87.5
B6: 3 | C6: 5 | D6: 0.8 | E6: 96
A7: Push press | B7: 5 | C7: 1 | D7: 0.5 | E7: =mround(IF((A7=""),(D7*(E6/D6)),(D7*VLOOKUP(A7,lifts!$A:$B,2,FALSE))),settings!$B$1) -> 32.5
B8: 4 | C8: 1 | D8: 0.6 | E8: =mround(IF((A8=""),(D8*(E7/D7)),(D8*VLOOKUP(A8,lifts!$A:$B,2,FALSE))),settings!$B$1) -> 40
B9: 3 | C9: 2 | D9: 0.7 | E9: =mround(IF((A9=""),(D9*(E8/D8)),(D9*VLOOKUP(A9,lifts!$A:$B,2,FALSE))),settings!$B$1) -> 47.5
B10: 3 | C10: 3 | D10: 0.8 | E10: =mround(IF((A10=""),(D10*(E9/D9)),(D10*VLOOKUP(A10,lifts!$A:$B,2,FALSE))),settings!$B$1) -> 55
B11: 2 | C11: 3 | D11: 0.85 | E11: =mround(IF((A11=""),(D11*(E10/D10)),(D11*VLOOKUP(A11,lifts!$A:$B,2,FALSE))),settings!$B$1) -> 57.5
A12: Front squat | B12: 5 | C12: 1 | D12: 0.5 | E12: =mround(IF((A12=""),(D12*(E11/D11)),(D12*VLOOKUP(A12,lifts!$A:$B,2,FALSE))),settings!$B$1) -> 52.5
B13: 5 | C13: 1 | D13: 0.6 | E13: =mround(IF((A13=""),(D13*(E12/D12)),(D13*VLOOKUP(A13,lifts!$A:$B,2,FALSE))),settings!$B$1) -> 62.5
B14: 4 | C14: 4 | D14: 0.7 | E14: =mround(IF((A14=""),(D14*(E13/D13)),(D14*VLOOKUP(A14,lifts!$A:$B,2,FALSE))),settings!$B$1) -> 72.5
A15: Push press | B15: 4 | C15: 1 | D15: 0.55 | E15: =mround(IF((A15=""),(D15*(E14/D14)),(D15*VLOOKUP(A15,lifts!$A:$B,2,FALSE))),settings!$B$1) -> 35
B16: 4 | C16: 2 | D16: 0.65 | E16: =mround(IF((A16=""),(D16*(E15/D15)),(D16*VLOOKUP(A16,lifts!$A:$B,2,FALSE))),settings!$B$1) -> 42.5
B17: 4 | C17: 4 | D17: 0.75 | E17: =mround(IF((A17=""),(D17*(E16/D16)),(D17*VLOOKUP(A17,lifts!$A:$B,2,FALSE))),settings!$B$1) -> 50
A19: 5 day (friday) | B19: reps | C19: sets | D19: % | E19: weight
A20: Front squat | B20: 5 | C20: 1 | D20: 0.5 | E20: =mround(IF((A20=""),(D20*(E19/D19)),(D20*VLOOKUP(A20,lifts!$A:$B,2,FALSE))),settings!$B$1) -> 52.5
B21: 4 | C21: 1 | D21: 0.6 | E21: =mround(IF((A21=""),(D21*(E20/D20)),(D21*VLOOKUP(A21,lifts!$A:$B,2,FALSE))),settings!$B$1) -> 62.5
B22: 3 | C22: 2 | D22: 0.7 | E22: =mround(IF((A22=""),(D22*(E21/D21)),(D22*VLOOKUP(A22,lifts!$A:$B,2,FALSE))),settings!$B$1) -> 72.5
B23: 3 | C23: 5 | D23: 0.8 | E23: =mround(IF((A23=""),(D23*(E22/D22)),(D23*VLOOKUP(A23,lifts!$A:$B,2,FALSE))),settings!$B$1) -> 82.5
A24: Push press | B24: 5 | C24: 1 | D24: 0.55 | E24: =mround(IF((A24=""),(D24*(E23/D23)),(D24*VLOOKUP(A24,lifts!$A:$B,2,FALSE))),settings!$B$1) -> 35
B25: 4 | C25: 1 | D25: 0.65 | E25: =mround(IF((A25=""),(D25*(E24/D24)),(D25*VLOOKUP(A25,lifts!$A:$B,2,FALSE))),settings!$B$1) -> 42.5
B26: 3 | C26: 5 | D26: 0.75 | E26: =mround(IF((A26=""),(D26*(E25/D25)),(D26*VLOOKUP(A26,lifts!$A:$B,2,FALSE))),settings!$B$1) -> 50
A27: Squat | B27: 5 | C27: 1 | D27: 0.5 | E27: =mround(IF((A27=""),(D27*(E26/D26)),(D27*VLOOKUP(A27,lifts!$A:$B,2,FALSE))),settings!$B$1) -> 62.5
B28: 5 | C28: 1 | D28: 0.6 | E28: =mround(IF((A28=""),(D28*(E27/D27)),(D28*VLOOKUP(A28,lifts!$A:$B,2,FALSE))),settings!$B$1) -> 75
B29: 4 | C29: 4 | D29: 0.7 | E29: =mround(IF((A29=""),(D29*(E28/D28)),(D29*VLOOKUP(A29,lifts!$A:$B,2,FALSE))),settings!$B$1) -> 87.5
A30: Push press | B30: 4 | C30: 1 | D30: 0.55 | E30: =mround(IF((A30=""),(D30*(E29/D29)),(D30*VLOOKUP(A30,lifts!$A:$B,2,FALSE))),settings!$B$1) -> 35
B31: 4 | C31: 2 | D31: 0.65 | E31: =mround(IF((A31=""),(D31*(E30/D30)),(D31*VLOOKUP(A31,lifts!$A:$B,2,FALSE))),settings!$B$1) -> 42.5
B32: 4 | C32: 4 | D32: 0.75 | E32: =mround(IF((A32=""),(D32*(E31/D31)),(D32*VLOOKUP(A32,lifts!$A:$B,2,FALSE))),settings!$B$1) -> 50

Sheet p3
A1: week 3
A2: 1 day (monday) | B2: reps | C2: sets | D2: % | E2: weight
A3: Squat | B3: 5 | C3: 1 | D3: 0.5 | E3: =mround(IF((A3=""),(D3*(E2/D2)),(D3*VLOOKUP(A3,lifts!$A:$B,2,FALSE))),settings!$B$1) -> 62.5
B4: 4 | C4: 1 | D4: 0.6 | E4: =mround(IF((A4=""),(D4*(E3/D3)),(D4*VLOOKUP(A4,lifts!$A:$B,2,FALSE))),settings!$B$1) -> 75
B5: 3 | C5: 2 | D5: 0.7 | E5: =mround(IF((A5=""),(D5*(E4/D4)),(D5*VLOOKUP(A5,lifts!$A:$B,2,FALSE))),settings!$B$1) -> 87.5
B6: 3 | C6: 5 | D6: 0.8 | E6: =mround(IF((A6=""),(D6*(E5/D5)),(D6*VLOOKUP(A6,lifts!$A:$B,2,FALSE))),settings!$B$1) -> 100
A7: Push press | B7: 5 | C7: 1 | D7: 0.5 | E7: =mround(IF((A7=""),(D7*(E6/D6)),(D7*VLOOKUP(A7,lifts!$A:$B,2,FALSE))),settings!$B$1) -> 32.5
B8: 4 | C8: 1 | D8: 0.6 | E8: =mround(IF((A8=""),(D8*(E7/D7)),(D8*VLOOKUP(A8,lifts!$A:$B,2,FALSE))),settings!$B$1) -> 40
B9: 3 | C9: 2 | D9: 0.7 | E9: =mround(IF((A9=""),(D9*(E8/D8)),(D9*VLOOKUP(A9,lifts!$A:$B,2,FALSE))),settings!$B$1) -> 47.5
B10: 3 | C10: 6 | D10: 0.8 | E10: =mround(IF((A10=""),(D10*(E9/D9)),(D10*VLOOKUP(A10,lifts!$A:$B,2,FALSE))),settings!$B$1) -> 55
A11: Front squat | B11: 5 | C11: 1 | D11: 0.5 | E11: =mround(IF((A11=""),(D11*(E10/D10)),(D11*VLOOKUP(A11,lifts!$A:$B,2,FALSE))),settings!$B$1) -> 52.5
B12: 5 | C12: 1 | D12: 0.6 | E12: =mround(IF((A12=""),(D12*(E11/D11)),(D12*VLOOKUP(A12,lifts!$A:$B,2,FALSE))),settings!$B$1) -> 62.5
B13: 5 | C13: 5 | D13: 0.7 | E13: =mround(IF((A13=""),(D13*(E12/D12)),(D13*VLOOKUP(A13,lifts!$A:$B,2,FALSE))),settings!$B$1) -> 72.5
A14: Push press | B14: 4 | C14: 1 | D14: 0.55 | E14: =mround(IF((A14=""),(D14*(E13/D13)),(D14*VLOOKUP(A14,lifts!$A:$B,2,FALSE))),settings!$B$1) -> 35
B15: 4 | C15: 2 | D15: 0.65 | E15: =mround(IF((A15=""),(D15*(E14/D14)),(D15*VLOOKUP(A15,lifts!$A:$B,2,FALSE))),settings!$B$1) -> 42.5
B16: 4 | C16: 4 | D16: 0.75 | E16: =mround(IF((A16=""),(D16*(E15/D15)),(D16*VLOOKUP(A16,lifts!$A:$B,2,FALSE))),settings!$B$1) -> 50
A18: 5 day (friday) | B18: reps | C18: sets | D18: % | E18: weight
A19: Front squat | B19: 5 | C19: 1 | D19: 0.5 | E19: =mround(IF((A19=""),(D19*(E18/D18)),(D19*VLOOKUP(A19,lifts!$A:$B,2,FALSE))),settings!$B$1) -> 52.5
B20: 4 | C20: 1 | D20: 0.6 | E20: =mround(IF((A20=""),(D20*(E19/D19)),(D20*VLOOKUP(A20,lifts!$A:$B,2,FALSE))),settings!$B$1) -> 62.5
B21: 3 | C21: 2 | D21: 0.7 | E21: =mround(IF((A21=""),(D21*(E20/D20)),(D21*VLOOKUP(A21,lifts!$A:$B,2,FALSE))),settings!$B$1) -> 72.5
B22: 3 | C22: 3 | D22: 0.8 | E22: =mround(IF((A22=""),(D22*(E21/D21)),(D22*VLOOKUP(A22,lifts!$A:$B,2,FALSE))),settings!$B$1) -> 82.5
B23: 2 | C23: 3 | D23: 0.85 | E23: =mround(IF((A23=""),(D23*(E22/D22)),(D23*VLOOKUP(A23,lifts!$A:$B,2,FALSE))),settings!$B$1) -> 87.5
A24: Push press | B24: 5 | C24: 1 | D24: 0.5 | E24: =mround(IF((A24=""),(D24*(E23/D23)),(D24*VLOOKUP(A24,lifts!$A:$B,2,FALSE))),settings!$B$1) -> 32.5
B25: 4 | C25: 1 | D25: 0.6 | E25: =mround(IF((A25=""),(D25*(E24/D24)),(D25*VLOOKUP(A25,lifts!$A:$B,2,FALSE))),settings!$B$1) -> 40
B26: 3 | C26: 2 | D26: 0.7 | E26: =mround(IF((A26=""),(D26*(E25/D25)),(D26*VLOOKUP(A26,lifts!$A:$B,2,FALSE))),settings!$B$1) -> 47.5
B27: 3 | C27: 6 | D27: 0.8 | E27: =mround(IF((A27=""),(D27*(E26/D26)),(D27*VLOOKUP(A27,lifts!$A:$B,2,FALSE))),settings!$B$1) -> 55
A28: Squat | B28: 6 | C28: 1 | D28: 0.5 | E28: =mround(IF((A28=""),(D28*(E27/D27)),(D28*VLOOKUP(A28,lifts!$A:$B,2,FALSE))),settings!$B$1) -> 62.5
B29: 6 | C29: 1 | D29: 0.6 | E29: =mround(IF((A29=""),(D29*(E28/D28)),(D29*VLOOKUP(A29,lifts!$A:$B,2,FALSE))),settings!$B$1) -> 75
B30: 6 | C30: 4 | D30: 0.65 | E30: =mround(IF((A30=""),(D30*(E29/D29)),(D30*VLOOKUP(A30,lifts!$A:$B,2,FALSE))),settings!$B$1) -> 82.5
A31: Push press | B31: 5 | C31: 1 | D31: 0.55 | E31: =mround(IF((A31=""),(D31*(E30/D30)),(D31*VLOOKUP(A31,lifts!$A:$B,2,FALSE))),settings!$B$1) -> 35
B32: 4 | C32: 1 | D32: 0.65 | E32: =mround(IF((A32=""),(D32*(E31/D31)),(D32*VLOOKUP(A32,lifts!$A:$B,2,FALSE))),settings!$B$1) -> 42.5
B33: 3 | C33: 5 | D33: 0.75 | E33: =mround(IF((A33=""),(D33*(E32/D32)),(D33*VLOOKUP(A33,lifts!$A:$B,2,FALSE))),settings!$B$1) -> 50

Sheet p4
A1: week 4
A2: 1 day (monday) | B2: reps | C2: sets | D2: % | E2: weight
A3: Squat | B3: 5 | C3: 1 | D3: 0.5 | E3: =mround(IF((A3=""),(D3*(E2/D2)),(D3*VLOOKUP(A3,lifts!$A:$B,2,FALSE))),settings!$B$1) -> 62.5
B4: 4 | C4: 1 | D4: 0.6 | E4: =mround(IF((A4=""),(D4*(E3/D3)),(D4*VLOOKUP(A4,lifts!$A:$B,2,FALSE))),settings!$B$1) -> 75
B5: 3 | C5: 2 | D5: 0.7 | E5: =mround(IF((A5=""),(D5*(E4/D4)),(D5*VLOOKUP(A5,lifts!$A:$B,2,FALSE))),settings!$B$1) -> 87.5
B6: 3 | C6: 7 | D6: 0.8 | E6: =mround(IF((A6=""),(D6*(E5/D5)),(D6*VLOOKUP(A6,lifts!$A:$B,2,FALSE))),settings!$B$1) -> 100
A7: Push press | B7: 5 | C7: 1 | D7: 0.5 | E7: =mround(IF((A7=""),(D7*(E6/D6)),(D7*VLOOKUP(A7,lifts!$A:$B,2,FALSE))),settings!$B$1) -> 32.5
B8: 4 | C8: 1 | D8: 0.6 | E8: =mround(IF((A8=""),(D8*(E7/D7)),(D8*VLOOKUP(A8,lifts!$A:$B,2,FALSE))),settings!$B$1) -> 40
B9: 3 | C9: 2 | D9: 0.7 | E9: =mround(IF((A9=""),(D9*(E8/D8)),(D9*VLOOKUP(A9,lifts!$A:$B,2,FALSE))),settings!$B$1) -> 47.5
B10: 3 | C10: 2 | D10: 0.8 | E10: =mround(IF((A10=""),(D10*(E9/D9)),(D10*VLOOKUP(A10,lifts!$A:$B,2,FALSE))),settings!$B$1) -> 55
B11: 2 | C11: 3 | D11: 0.85 | E11: =mround(IF((A11=""),(D11*(E10/D10)),(D11*VLOOKUP(A11,lifts!$A:$B,2,FALSE))),settings!$B$1) -> 57.5
B12: 3 | C12: 2 | D12: 0.8 | E12: =mround(IF((A12=""),(D12*(E11/D11)),(D12*VLOOKUP(A12,lifts!$A:$B,2,FALSE))),settings!$B$1) -> 55
A13: Front squat | B13: 5 | C13: 1 | D13: 0.5 | E13: =mround(IF((A13=""),(D13*(E12/D12)),(D13*VLOOKUP(A13,lifts!$A:$B,2,FALSE))),settings!$B$1) -> 52.5
B14: 5 | C14: 1 | D14: 0.6 | E14: =mround(IF((A14=""),(D14*(E13/D13)),(D14*VLOOKUP(A14,lifts!$A:$B,2,FALSE))),settings!$B$1) -> 62.5
B15: 4 | C15: 4 | D15: 0.7 | E15: =mround(IF((A15=""),(D15*(E14/D14)),(D15*VLOOKUP(A15,lifts!$A:$B,2,FALSE))),settings!$B$1) -> 72.5
A16: Push press | B16: 4 | C16: 1 | D16: 0.55 | E16: =mround(IF((A16=""),(D16*(E15/D15)),(D16*VLOOKUP(A16,lifts!$A:$B,2,FALSE))),settings!$B$1) -> 35
B17: 4 | C17: 2 | D17: 0.65 | E17: =mround(IF((A17=""),(D17*(E16/D16)),(D17*VLOOKUP(A17,lifts!$A:$B,2,FALSE))),settings!$B$1) -> 42.5
B18: 4 | C18: 4 | D18: 0.75 | E18: =mround(IF((A18=""),(D18*(E17/D17)),(D18*VLOOKUP(A18,lifts!$A:$B,2,FALSE))),settings!$B$1) -> 50
A20: 5 day (friday) | B20: reps | C20: sets | D20: % | E20: weight
A21: Front squat | B21: 5 | C21: 1 | D21: 0.5 | E21: =mround(IF((A21=""),(D21*(E20/D20)),(D21*VLOOKUP(A21,lifts!$A:$B,2,FALSE))),settings!$B$1) -> 52.5
B22: 4 | C22: 1 | D22: 0.6 | E22: =mround(IF((A22=""),(D22*(E21/D21)),(D22*VLOOKUP(A22,lifts!$A:$B,2,FALSE))),settings!$B$1) -> 62.5
B23: 3 | C23: 2 | D23: 0.7 | E23: =mround(IF((A23=""),(D23*(E22/D22)),(D23*VLOOKUP(A23,lifts!$A:$B,2,FALSE))),settings!$B$1) -> 72.5
B24: 3 | C24: 3 | D24: 0.8 | E24: =mround(IF((A24=""),(D24*(E23/D23)),(D24*VLOOKUP(A24,lifts!$A:$B,2,FALSE))),settings!$B$1) -> 82.5
B25: 2 | C25: 3 | D25: 0.85 | E25: =mround(IF((A25=""),(D25*(E24/D24)),(D25*VLOOKUP(A25,lifts!$A:$B,2,FALSE))),settings!$B$1) -> 87.5
A26: Push press | B26: 5 | C26: 1 | D26: 0.5 | E26: =mround(IF((A26=""),(D26*(E25/D25)),(D26*VLOOKUP(A26,lifts!$A:$B,2,FALSE))),settings!$B$1) -> 32.5
B27: 4 | C27: 1 | D27: 0.6 | E27: =mround(IF((A27=""),(D27*(E26/D26)),(D27*VLOOKUP(A27,lifts!$A:$B,2,FALSE))),settings!$B$1) -> 40
B28: 3 | C28: 2 | D28: 0.7 | E28: =mround(IF((A28=""),(D28*(E27/D27)),(D28*VLOOKUP(A28,lifts!$A:$B,2,FALSE))),settings!$B$1) -> 47.5
B29: 3 | C29: 6 | D29: 0.8 | E29: =mround(IF((A29=""),(D29*(E28/D28)),(D29*VLOOKUP(A29,lifts!$A:$B,2,FALSE))),settings!$B$1) -> 55
A30: Squat | B30: 4 | C30: 1 | D30: 0.55 | E30: =mround(IF((A30=""),(D30*(E29/D29)),(D30*VLOOKUP(A30,lifts!$A:$B,2,FALSE))),settings!$B$1) -> 70
B31: 3 | C31: 1 | D31: 0.65 | E31: =mround(IF((A31=""),(D31*(E30/D30)),(D31*VLOOKUP(A31,lifts!$A:$B,2,FALSE))),settings!$B$1) -> 82.5
B32: 3 | C32: 5 | D32: 0.75 | E32: =mround(IF((A32=""),(D32*(E31/D31)),(D32*VLOOKUP(A32,lifts!$A:$B,2,FALSE))),settings!$B$1) -> 95
A33: Push press | B33: 5 | C33: 1 | D33: 0.55 | E33: =mround(IF((A33=""),(D33*(E32/D32)),(D33*VLOOKUP(A33,lifts!$A:$B,2,FALSE))),settings!$B$1) -> 35
B34: 4 | C34: 1 | D34: 0.65 | E34: =mround(IF((A34=""),(D34*(E33/D33)),(D34*VLOOKUP(A34,lifts!$A:$B,2,FALSE))),settings!$B$1) -> 42.5
B35: 3 | C35: 5 | D35: 0.75 | E35: =mround(IF((A35=""),(D35*(E34/D34)),(D35*VLOOKUP(A35,lifts!$A:$B,2,FALSE))),settings!$B$1) -> 50

Sheet lifts
A1: Squat | B1: 125
A2: Front squat | B2: 105
A3: Bench press | B3: 60
A4: Push press | B4: 65
A5: Press | B5: 45

Sheet settings
A1: round to | B1: 2.5
