Workbook

Sheet 3 uger
A1: Dag 1 | E1: restiution og condition protokol
A2: Benbøj tung | B2: 3 x 5 | C2: 3 x 3 | D2: 3 x 5/3/1 | E2: alle dage:
A3: parret med: | B3: ='vægt skema'!C8 -> 97.5 | C3: ='vægt skema'!D8 -> 105 | D3: ='vægt skema'!E8 -> 112.5 | E3: rul af tfl, glutes, quads, inderlår, lats, bagskulder og pecs
B4: ='vægt skema'!C9 -> 112.5 | C4: ='vægt skema'!D9 -> 120 | D4: ='vægt skema'!E9 -> 127.5 | E4: indadrotation minimum 3 gange dagligt af 20 reps pr ben
B5: ='vægt skema'!C10 -> 127.5 | C5: ='vægt skema'!D10 -> 135 | D5: ='vægt skema'!E10 -> 142.5 | E5: Balle øvelserne min 1 gang dagligt af 3 set 10 reps pr ben
A6: sidde på stang
A7: indadrotation | E7: rehab
A8: hoftebøjer stræk | E8: hoppe på et ben, uden hoften vrikker ud.
A9: split squats | E9: Senere reverse lunge
A10: Stem medium | B10: 5 set af 5 reps | C10: 5 set af 4 reps | D10: 5 set af 3 reps | E10: Sidst side lunge statisk og til sidst dynamisk.
A11: parret med: | B11: ='vægt skema'!C19 -> 57.5 | C11: ='vægt skema'!D19 -> 60 | D11: ='vægt skema'!E19 -> 65 | E11: Her til sidst kan du også hinke fra side til side.
E13: opvarmning:
A14: Vertikalt træk | E14: --Limber 11 Routine--
A15: curls | E15: Foam Roll IT Band
E16: Foam Roll Adductors
E17: SMR Glutes (lax ball)
A18: Bænkpres let | B18: 5 set af 10 reps | C18: 5 set af 8 reps | D18: 5 set af 6 reps | E18: Bent-knee Iron Cross
A19: parret med: | B19: ='vægt skema'!C13 -> 82.5 | C19: ='vægt skema'!D13 -> 87.5 | D19: ='vægt skema'!E13 -> 95 | E19: Rollovers into V-sits
E20: Rocking Frog stretch
E21: Fire Hydrant circles
E22: Mountain Climbers
A23: Horisontalt træk | E23: Cossack Squats
A24: curls | E24: Seated Piriformis stretch
E25: Rear Foot Elevated Hip Flexor stretch
A26: support slut: leg raises, Goblet squats
A28: dag 2
A29: Stem tung | B29: 3 x 5 | C29: 3 x 3 | D29: 3 x 5/3/1
A30: parret med: | B30: ='vægt skema'!C18 -> 50 | C30: ='vægt skema'!D18 -> 52.5 | D30: ='vægt skema'!E18 -> 57.5
B31: ='vægt skema'!C19 -> 57.5 | C31: ='vægt skema'!D19 -> 60 | D31: ='vægt skema'!E19 -> 65
B32: ='vægt skema'!C20 -> 65 | C32: ='vægt skema'!D20 -> 67.5 | D32: ='vægt skema'!E20 -> 72.5
A33: Vertikalt træk
A34: curls
A37: Benbøj medium | B37: 5 set af 5 reps | C37: 5 set af 4 reps | D37: 5 set af 3 reps
A38: parret med: | B38: ='vægt skema'!C9 -> 112.5 | C38: ='vægt skema'!D9 -> 120 | D38: ='vægt skema'!E9 -> 127.5
A41: sidde på stang
A42: indadrotation
A43: hoftebøjer stræk
A44: split squats
A45: Dødløft medium | B45: 5 set af 4 reps | C45: 5 set af 3 reps | D45: 5 set af 2reps
A46: parret med: | B46: ='vægt skema'!C24 -> 112.5 | C46: ='vægt skema'!D24 -> 120 | D46: ='vægt skema'!E24 -> 127.5
...

Sheet vægt skema
A1: Tmax | B1: 1 | C1: 2 | D1: 3 | E1: 4 | F1: 5 | G1: 6 | H1: 7 | I1: 8 | J1: 9 | K1: 10 | L1: 11 | M1: 12 | N1: 13 | O1: 14 | P1: 15
A2: benbøj | B2: 140 | C2: 5 | D2: 5
A3: bænkpres | B3: 120 | C3: 2.5 | D3: 2.5
A4: stem | B4: 70 | C4: 2.5 | D4: 2.5
A5: dødløft | B5: 140 | C5: 5 | D5: 5
A7: benbøj | B7: =SUM(B2:P2) -> 150 | C7: 5 | D7: 3 | E7: 1
B8: 1 set | C8: =ROUND((0.65*B7)/2.5,0)*2.5 -> 97.5 | D8: =ROUND((0.7*B7)/2.5,0)*2.5 -> 105 | E8: =ROUND((0.75*B7)/2.5,0)*2.5 -> 112.5
B9: 2 set | C9: =ROUND((0.75*B7)/2.5,0)*2.5 -> 112.5 | D9: =ROUND((0.8*B7)/2.5,0)*2.5 -> 120 | E9: =ROUND((0.85*B7)/2.5,0)*2.5 -> 127.5
B10: 3 set | C10: =ROUND((0.85*B7)/2.5,0)*2.5 -> 127.5 | D10: =ROUND((0.9*B7)/2.5,0)*2.5 -> 135 | E10: =ROUND((0.95*B7)/2.5,0)*2.5 -> 142.5
A12: bænkpres | B12: =SUM(B3:P3) -> 125 | C12: 5 | D12: 3 | E12: 1
B13: 1 set | C13: =ROUND((0.65*B12)/2.5,0)*2.5 -> 82.5 | D13: =ROUND((0.7*B12)/2.5,0)*2.5 -> 87.5 | E13: =ROUND((0.75*B12)/2.5,0)*2.5 -> 95
B14: 2 set | C14: =ROUND((0.75*B12)/2.5,0)*2.5 -> 95 | D14: =ROUND((0.8*B12)/2.5,0)*2.5 -> 100 | E14: =ROUND((0.85*B12)/2.5,0)*2.5 -> 107.5
B15: 3 set | C15: =ROUND((0.85*B12)/2.5,0)*2.5 -> 107.5 | D15: =ROUND((0.9*B12)/2.5,0)*2.5 -> 112.5 | E15: =ROUND((0.95*B12)/2.5,0)*2.5 -> 120
A17: stem | B17: =SUM(B4:P4) -> 75 | C17: 5 | D17: 3 | E17: 1
B18: 1 set | C18: =ROUND((0.65*B17)/2.5,0)*2.5 -> 50 | D18: =ROUND((0.7*B17)/2.5,0)*2.5 -> 52.5 | E18: =ROUND((0.75*B17)/2.5,0)*2.5 -> 57.5
B19: 2 set | C19: =ROUND((0.75*B17)/2.5,0)*2.5 -> 57.5 | D19: =ROUND((0.8*B17)/2.5,0)*2.5 -> 60 | E19: =ROUND((0.85*B17)/2.5,0)*2.5 -> 65
B20: 3 set | C20: =ROUND((0.85*B17)/2.5,0)*2.5 -> 65 | D20: =ROUND((0.9*B17)/2.5,0)*2.5 -> 67.5 | E20: =ROUND((0.95*B17)/2.5,0)*2.5 -> 72.5
A22: dødløft | B22: =SUM(B5:P5) -> 150 | C22: 5 | D22: 3 | E22: 1
B23: 1 set | C23: =ROUND((0.65*B22)/2.5,0)*2.5 -> 97.5 | D23: =ROUND((0.7*B22)/2.5,0)*2.5 -> 105 | E23: =ROUND((0.75*B22)/2.5,0)*2.5 -> 112.5
B24: 2 set | C24: =ROUND((0.75*B22)/2.5,0)*2.5 -> 112.5 | D24: =ROUND((0.8*B22)/2.5,0)*2.5 -> 120 | E24: =ROUND((0.85*B22)/2.5,0)*2.5 -> 127.5
B25: 3 set | C25: =ROUND((0.85*B22)/2.5,0)*2.5 -> 127.5 | D25: =ROUND((0.9*B22)/2.5,0)*2.5 -> 135 | E25: =ROUND((0.95*B22)/2.5,0)*2.5 -> 142.5

Sheet Ark3
