Workbook

Sheet The numbers
A1: Enter your maxes here: | Z1: Made by ChaseT 2008.05.09
A2: Squat | B2: 185
A3: Bench | B3: 102.5
A4: Deadlift | B4: 170
A7: Stigning pr uge:
A8: Squat Volume | B8: 2.5
A9: Squat Intensitet | B9: 2.5
A10: RDL | B10: 2.5
A11: Dødløft intensitet | B11: 2.5
A13: Starting deficit:
A14: Squat Volume | B14: 10
A15: Squat Let | B15: 10
A16: Squat Intensitet | B16: 5
A17: Let dødløft | B17: 0
A18: Dødløft intensitet | B18: 0

Sheet Program over 4 uger
A1: week 1
A2: 1 day (Monday) | C2: % | D2: reps | E2: sets | F2: weight | G2: tjekliste
A3: 1 | B3: Bench press | C3: 0.5 | D3: 5 | E3: 1 | F3: =ROUND(('The numbers'!$B$3*C3)/2.5,0)*2.5 -> 52.5
C4: 0.6 | D4: 4 | E4: 2 | F4: =ROUND('The numbers'!$B$3*C4/2.5,0)*2.5 -> 62.5
C5: 0.7 | D5: 3 | E5: 2 | F5: =ROUND('The numbers'!$B$3*C5/2.5,0)*2.5 -> 72.5
C6: 0.75 | D6: 3 | E6: 5 | F6: =ROUND('The numbers'!$B$3*C6/2.5,0)*2.5 -> 77.5
A7: 2 | B7: Squat - Volume | C7: 0.5 | D7: 1 | E7: 5 | F7: =ROUND((('The numbers'!$B$2*C7)-'The numbers'!$B$14)/2.5,0)*2.5 -> 82.5
C8: 0.6 | D8: 1 | E8: 5 | F8: =ROUND((('The numbers'!$B$2*C8)-'The numbers'!$B$14)/2.5,0)*2.5 -> 100
C9: 0.7 | D9: 1 | E9: 3 | F9: =ROUND((('The numbers'!$B$2*C9)-'The numbers'!$B$14)/2.5,0)*2.5 -> 120
C10: 0.8 | D10: 1 | E10: 5 | F10: =ROUND((('The numbers'!$B$2*C10)-'The numbers'!$B$14)/2.5,0)*2.5 -> 137.5
A11: 3 | B11: Bench press | C11: 0.5 | D11: 5 | E11: 1 | F11: =ROUND(('The numbers'!$B$3*C11)/2.5,0)*2.5 -> 52.5
C12: 0.6 | D12: 5 | E12: 1 | F12: =ROUND(('The numbers'!$B$3*C12)/2.5,0)*2.5 -> 62.5
C13: 0.7 | D13: 4 | E13: 4 | F13: =ROUND(('The numbers'!$B$3*C13)/2.5,0)*2.5 -> 72.5
A14: 4 | B14: Dumbbell fly | D14: 10 | E14: 5
A15: 5 | B15: Deadlift - Let | C15: 0.55 | D15: 1 | E15: 5 | F15: =ROUND(('The numbers'!$B$4*C15-'The numbers'!$B$17)/2.5,0)*2.5 -> 92.5
C16: 0.65 | D16: 1 | E16: 5 | F16: =ROUND(('The numbers'!$B$4*C16-'The numbers'!$B$17)/2.5,0)*2.5 -> 110
C17: 0.75 | D17: 3 | E17: 5 | F17: =ROUND(('The numbers'!$B$4*C17-'The numbers'!$B$17)/2.5,0)*2.5 -> 127.5
A20: 3 day (Wednesday) | C20: % | D20: reps | E20: sets | F20: weight | G20: tjekliste
A21: 2 | B21: Squat - Let | C21: 0.5 | D21: 1 | E21: 5 | F21: =ROUND((('The numbers'!$B$2*C21)-'The numbers'!$B$15)/2.5,0)*2.5 -> 82.5
C22: 0.6 | D22: 1 | E22: 5 | F22: =ROUND((('The numbers'!$B$2*C22)-'The numbers'!$B$15)/2.5,0)*2.5 -> 100
C23: 0.65 | D23: 3 | E23: 5 | F23: =ROUND((('The numbers'!$B$2*C23)-'The numbers'!$B$15)/2.5,0)*2.5 -> 110
A24: 2 | B24: Bench press | C24: 0.5 | D24: 6 | E24: 1 | F24: =ROUND(('The numbers'!$B$3*C24)/2.5,0)*2.5 -> 52.5
C25: 0.6 | D25: 6 | E25: 2 | F25: =ROUND(('The numbers'!$B$3*C25)/2.5,0)*2.5 -> 62.5
C26: 0.65 | D26: 6 | E26: 4 | F26: =ROUND(('The numbers'!$B$3*C26)/2.5,0)*2.5 -> 67.5
A27: 3 | B27: Dip | D27: 5 | E27: 5
A29: 5 day (Friday) | C29: % | D29: reps | E29: sets | F29: weight | G29: tjekliste
A30: 1 | B30: Squat - Intensity | C30: 0.5 | D30: 1 | E30: 5 | F30: =ROUND(('The numbers'!$B$2*'Program over 4 uger'!C30-'The numbers'!B11)/2.5,0)*2.5 -> 90
B31: 3RM | C31: 0.6 | D31: 1 | E31: 5 | F31: =ROUND(('The numbers'!$B$2*'Program over 4 uger'!C31-'The numbers'!B12)/2.5,0)*2.5 -> 110
C32: 0.7 | D32: 1 | E32: 3 | F32: =ROUND(('The numbers'!$B$2*'Program over 4 uger'!C32-'The numbers'!B13)/2.5,0)*2.5 -> 130
C33: 0.8 | D33: 1 | E33: 3 | F33: =ROUND(('The numbers'!$B$2*'Program over 4 uger'!C33-'The numbers'!B14)/2.5,0)*2.5 -> 137.5
C34: 0.9 | D34: 1 | E34: 3 | F34: =ROUND(('The numbers'!$B$2*'Program over 4 uger'!C34-'The numbers'!B16)/2.5,0)*2.5 -> 162.5
A35: 2 | B35: Bench press | C35: 0.5 | D35: 5 | E35: 1 | F35: =ROUND(('The numbers'!$B$3*C35)/2.5,0)*2.5 -> 52.5
C36: 0.6 | D36: 5 | E36: 1 | F36: =ROUND(('The numbers'!$B$3*C36)/2.5,0)*2.5 -> 62.5
C37: 0.7 | D37: 4 | E37: 1 | F37: =ROUND(('The numbers'!$B$3*C37)/2.5,0)*2.5 -> 72.5
C38: 0.75 | D38: 3 | E38: 2 | F38: =ROUND(('The numbers'!$B$3*C38)/2.5,0)*2.5 -> 77.5
C39: 0.8 | D39: 2 | E39: 2 | F39: =ROUND(('The numbers'!$B$3*C39)/2.5,0)*2.5 -> 82.5
C40: 0.75 | D40: 3 | E40: 2 | F40: =ROUND(('The numbers'!$B$3*C40)/2.5,0)*2.5 -> 77.5
C41: 0.7 | D41: 4 | E41: 1 | F41: =ROUND(('The numbers'!$B$3*C41)/2.5,0)*2.5 -> 72.5
C42: 0.6 | D42: 6 | E42: 1 | F42: =ROUND(('The numbers'!$B$3*C42)/2.5,0)*2.5 -> 62.5
C43: 0.5 | D43: 8 | E43: 1 | F43: =ROUND(('The numbers'!$B$3*C43)/2.5,0)*2.5 -> 52.5
...
