Workbook

Sheet The numbers
A1: Enter your maxes here: | Z1: Made by ChaseT 2008.05.09
A2: Squat | B2: 185
A3: Bench | B3: 102.5
A4: Deadlift | B4: 170
A7: Stigning pr uge:
A8: Squat Volume | B8: 2.5
A9: Squat Intensitet | B9: 2.5
A10: RDL | B10: 2.5
A11: Dødløft intensitet | B11: 2.5
A13: Starting deficit:
A14: Squat Volume | B14: 10
A15: Squat Let | B15: 10
A16: Squat Intensitet | B16: 5
A17: Let dødløft | B17: 0
A18: Dødløft intensitet | B18: 0

Sheet Program over 4 uger
A1: week 1
A2: 1 day (Monday) | C2: % | D2: reps | E2: sets | F2: weight | G2: tjekliste
A3: 1 | B3: Bench press | C3: 0.5 | D3: 5 | E3: 1 | F3: =ROUND(('The numbers'!$B$3*C3)/2.5,0)*2.5 -> 52.5
C4: 0.6 | D4: 4 | E4: 2 | F4: =ROUND('The numbers'!$B$3*C4/2.5,0)*2.5 -> 62.5
C5: 0.7 | D5: 3 | E5: 2 | F5: =ROUND('The numbers'!$B$3*C5/2.5,0)*2.5 -> 72.5
C6: 0.75 | D6: 3 | E6: 5 | F6: =ROUND('The numbers'!$B$3*C6/2.5,0)*2.5 -> 77.5
A7: 2 | B7: Squat - Volume | C7: 0.5 | D7: 1 | E7: 5 | F7: =ROUND((('The numbers'!$B$2*C7)-'The numbers'!$B$14)/2.5,0)*2.5 -> 82.5
C8: 0.6 | D8: 1 | E8: 5 | F8: =ROUND((('The numbers'!$B$2*C8)-'The numbers'!$B$14)/2.5,0)*2.5 -> 100
C9: 0.7 | D9: 1 | E9: 3 | F9: =ROUND((('The numbers'!$B$2*C9)-'The numbers'!$B$14)/2.5,0)*2.5 -> 120
C10: 0.8 | D10: 1 | E10: 5 | F10: =ROUND((('The numbers'!$B$2*C10)-'The numbers'!$B$14)/2.5,0)*2.5 -> 137.5
A11: 3 | B11: Bench press | C11: 0.5 | D11: 5 | E11: 1 | F11: =ROUND(('The numbers'!$B$3*C11)/2.5,0)*2.5 -> 52.5
C12: 0.6 | D12: 5 | E12: 1 | F12: =ROUND(('The numbers'!$B$3*C12)/2.5,0)*2.5 -> 62.5
C13: 0.7 | D13: 4 | E13: 4 | F13: =ROUND(('The numbers'!$B$3*C13)/2.5,0)*2.5 -> 72.5
A14: 4 | B14: Dumbbell fly | D14: 10 | E14: 5
A15: 5 | B15: Deadlift - Let | C15: 0.55 | D15: 1 | E15: 5 | F15: =ROUND(('The numbers'!$B$4*C15-'The numbers'!$B$17)/2.5,0)*2.5 -> 92.5
C16: 0.65 | D16: 1 | E16: 5 | F16: =ROUND(('The numbers'!$B$4*C16-'The numbers'!$B$17)/2.5,0)*2.5 -> 110
C17: 0.75 | D17: 3 | E17: 5 | F17: =ROUND(('The numbers'!$B$4*C17-'The numbers'!$B$17)/2.5,0)*2.5 -> 127.5
A20: 3 day (Wednesday) | C20: % | D20: reps | E20: sets | F20: weight | G20: tjekliste
A21: 2 | B21: Squat - Let | C21: 0.5 | D21: 1 | E21: 5 | F21: =ROUND((('The numbers'!$B$2*C21)-'The numbers'!$B$15)/2.5,0)*2.5 -> 82.5
C22: 0.6 | D22: 1 | E22: 5 | F22: =ROUND((('The numbers'!$B$2*C22)-'The numbers'!$B$15)/2.5,0)*2.5 -> 100
C23: 0.65 | D23: 3 | E23: 5 | F23: =ROUND((('The numbers'!$B$2*C23)-'The numbers'!$B$15)/2.5,0)*2.5 -> 110
A24: 2 | B24: Bench press | C24: 0.5 | D24: 6 | E24: 1 | F24: =ROUND(('The numbers'!$B$3*C24)/2.5,0)*2.5 -> 52.5
C25: 0.6 | D25: 6 | E25: 2 | F25: =ROUND(('The numbers'!$B$3*C25)/2.5,0)*2.5 -> 62.5
C26: 0.65 | D26: 6 | E26: 4 | F26: =ROUND(('The numbers'!$B$3*C26)/2.5,0)*2.5 -> 67.5
A27: 3 | B27: Dip | D27: 5 | E27: 5
A29: 5 day (Friday) | C29: % | D29: reps | E29: sets | F29: weight | G29: tjekliste
A30: 1 | B30: Squat - Intensity | C30: 0.5 | D30: 1 | E30: 5 | F30: =ROUND(('The numbers'!$B$2*'Program over 4 uger'!C30-'The numbers'!B11)/2.5,0)*2.5 -> 90
B31: 3RM | C31: 0.6 | D31: 1 | E31: 5 | F31: =ROUND(('The numbers'!$B$2*'Program over 4 uger'!C31-'The numbers'!B12)/2.5,0)*2.5 -> 110
C32: 0.7 | D32: 1 | E32: 3 | F32: =ROUND(('The numbers'!$B$2*'Program over 4 uger'!C32-'The numbers'!B13)/2.5,0)*2.5 -> 130
C33: 0.8 | D33: 1 | E33: 3 | F33: =ROUND(('The numbers'!$B$2*'Program over 4 uger'!C33-'The numbers'!B14)/2.5,0)*2.5 -> 137.5
C34: 0.9 | D34: 1 | E34: 3 | F34: =ROUND(('The numbers'!$B$2*'Program over 4 uger'!C34-'The numbers'!B16)/2.5,0)*2.5 -> 162.5
A35: 2 | B35: Bench press | C35: 0.5 | D35: 5 | E35: 1 | F35: =ROUND(('The numbers'!$B$3*C35)/2.5,0)*2.5 -> 52.5
C36: 0.6 | D36: 5 | E36: 1 | F36: =ROUND(('The numbers'!$B$3*C36)/2.5,0)*2.5 -> 62.5
C37: 0.7 | D37: 4 | E37: 1 | F37: =ROUND(('The numbers'!$B$3*C37)/2.5,0)*2.5 -> 72.5
C38: 0.75 | D38: 3 | E38: 2 | F38: =ROUND(('The numbers'!$B$3*C38)/2.5,0)*2.5 -> 77.5
C39: 0.8 | D39: 2 | E39: 2 | F39: =ROUND(('The numbers'!$B$3*C39)/2.5,0)*2.5 -> 82.5
C40: 0.75 | D40: 3 | E40: 2 | F40: =ROUND(('The numbers'!$B$3*C40)/2.5,0)*2.5 -> 77.5
C41: 0.7 | D41: 4 | E41: 1 | F41: =ROUND(('The numbers'!$B$3*C41)/2.5,0)*2.5 -> 72.5
C42: 0.6 | D42: 6 | E42: 1 | F42: =ROUND(('The numbers'!$B$3*C42)/2.5,0)*2.5 -> 62.5
C43: 0.5 | D43: 8 | E43: 1 | F43: =ROUND(('The numbers'!$B$3*C43)/2.5,0)*2.5 -> 52.5
A44: 3 | B44: Dumbbell fly | D44: 10 | E44: 5
A45: 4 | B45: Deadlift - Intensity | C45: 0.4 | D45: 1 | E45: 5 | F45: =(ROUND(('The numbers'!$B$4*C45)/2.5,0)*2.5)-'The numbers'!$B$18 -> 67.5
B46: 3RM | C46: 0.5 | D46: 1 | E46: 5 | F46: =(ROUND(('The numbers'!$B$4*C46)/2.5,0)*2.5)-'The numbers'!$B$18 -> 85
C47: 0.6 | D47: 1 | E47: 5 | F47: =(ROUND(('The numbers'!$B$4*C47)/2.5,0)*2.5)-'The numbers'!$B$18 -> 102.5
C48: 0.7 | D48: 1 | E48: 5 | F48: =(ROUND(('The numbers'!$B$4*C48)/2.5,0)*2.5)-'The numbers'!$B$18 -> 120
C49: 0.8 | D49: 1 | E49: 3 | F49: =(ROUND(('The numbers'!$B$4*C49)/2.5,0)*2.5)-'The numbers'!$B$18 -> 135
C50: 0.9 | D50: 1 | E50: 3 | F50: =(ROUND(('The numbers'!$B$4*C50)/2.5,0)*2.5)-'The numbers'!$B$18 -> 152.5
A52: week 2
A53: 1 day (Monday) | C53: % | D53: reps | E53: sets | F53: weight | G53: tjekliste
A54: 2 | B54: Squat - Volume | C54: 0.5 | D54: 1 | E54: 5 | F54: =F7+'The numbers'!$B$8 -> 85
C55: 0.6 | D55: 1 | E55: 5 | F55: =F8+'The numbers'!$B$8 -> 102.5
C56: 0.7 | D56: 1 | E56: 3 | F56: =F9+'The numbers'!$B$8 -> 122.5
C57: 0.8 | D57: 1 | E57: 5 | F57: =F10+'The numbers'!$B$8 -> 140
A58: 2 | B58: Bench press | C58: 0.5 | D58: 5 | E58: 1 | F58: =ROUND('The numbers'!$B$3*C58/2.5,0)*2.5 -> 52.5
C59: 0.6 | D59: 4 | E59: 1 | F59: =ROUND('The numbers'!$B$3*C59/2.5,0)*2.5 -> 62.5
C60: 0.7 | D60: 3 | E60: 2 | F60: =ROUND('The numbers'!$B$3*C60/2.5,0)*2.5 -> 72.5
C61: 0.8 | D61: 3 | E61: 5 | F61: =ROUND('The numbers'!$B$3*C61/2.5,0)*2.5 -> 82.5
A62: 3 | B62: Dumbbell fly | D62: 10 | E62: 5
A63: 4 | B63: Push up | D63: 10 | E63: 5
A64: 5 | B64: Deadlift - Let | C64: 0.55 | D64: 1 | E64: 5 | F64: =F15+'The numbers'!B10 -> 95
C65: 0.65 | D65: 1 | E65: 5 | F65: =(ROUND(('The numbers'!$B$4*C65)/2.5,0)*2.5) -> 110
C66: 0.75 | D66: 3 | E66: 5 | F66: =(ROUND(('The numbers'!$B$4*C66)/2.5,0)*2.5)+2.5 -> 130
A68: 3 day (Wednesday) | C68: % | D68: reps | E68: sets | F68: weight | G68: tjekliste
A69: 1 | B69: Squat - Let | C69: 0.52 | D69: 1 | E69: 5 | F69: =ROUND((('The numbers'!$B$2*C69)-10)/2.5,0)*2.5 -> 85
C70: 0.62 | D70: 1 | E70: 5 | F70: =ROUND((('The numbers'!$B$2*C70)-10)/2.5,0)*2.5 -> 105
C71: 0.675 | D71: 3 | E71: 5 | F71: =ROUND((('The numbers'!$B$2*C71)-10)/2.5,0)*2.5 -> 115
A72: 2 | B72: Bench press | C72: 0.5 | D72: 6 | E72: 1 | F72: =ROUND(('The numbers'!$B$3*C72)/2.5,0)*2.5 -> 52.5
C73: 0.6 | D73: 6 | E73: 2 | F73: =ROUND(('The numbers'!$B$3*C73)/2.5,0)*2.5 -> 62.5
C74: 0.65 | D74: 6 | E74: 4 | F74: =ROUND(('The numbers'!$B$3*C74)/2.5,0)*2.5 -> 67.5
A75: 3 | B75: Dumbbell fly | D75: 10 | E75: 5
A77: 5 day (Friday) | C77: % | D77: reps | E77: sets | F77: weight | G77: tjekliste
A78: 1 | B78: Squat - Intensity | C78: 0.5 | D78: 1 | E78: 5 | F78: =F30+'The numbers'!$B$9 -> 92.5
B79: 3RM | C79: 0.6 | D79: 1 | E79: 5 | F79: =F31+'The numbers'!$B$9 -> 112.5
C80: 0.7 | D80: 1 | E80: 3 | F80: =F32+'The numbers'!$B$9 -> 132.5
C81: 0.8 | D81: 1 | E81: 3 | F81: =F33+'The numbers'!$B$9 -> 140
C82: 0.9 | D82: 1 | E82: 3 | F82: =F34+'The numbers'!$B$9 -> 165
A83: 2 | B83: Bench press | C83: 0.5 | D83: 5 | E83: 1 | F83: =ROUND(('The numbers'!$B$3*C83)/2.5,0)*2.5 -> 52.5
C84: 0.6 | D84: 4 | E84: 1 | F84: =ROUND(('The numbers'!$B$3*C84)/2.5,0)*2.5 -> 62.5
C85: 0.7 | D85: 3 | E85: 2 | F85: =ROUND(('The numbers'!$B$3*C85)/2.5,0)*2.5 -> 72.5
C86: 0.8 | D86: 2 | E86: 2 | F86: =ROUND(('The numbers'!$B$3*C86)/2.5,0)*2.5 -> 82.5
C87: 0.75 | D87: 3 | E87: 1 | F87: =ROUND(('The numbers'!$B$3*C87)/2.5,0)*2.5 -> 77.5
C88: 0.65 | D88: 5 | E88: 1 | F88: =ROUND(('The numbers'!$B$3*C88)/2.5,0)*2.5 -> 67.5
C89: 0.55 | D89: 7 | E89: 1 | F89: =ROUND(('The numbers'!$B$3*C89)/2.5,0)*2.5 -> 57.5
A90: 4 | B90: Deadlift - Intensity | C90: 0.4 | D90: 1 | E90: 5 | F90: =F45+'The numbers'!$B$11 -> 70
B91: 3RM | C91: 0.5 | D91: 1 | E91: 5 | F91: =F46+'The numbers'!$B$11 -> 87.5
C92: 0.6 | D92: 1 | E92: 5 | F92: =F47+'The numbers'!$B$11 -> 105
C93: 0.7 | D93: 1 | E93: 5 | F93: =F48+'The numbers'!$B$11 -> 122.5
C94: 0.8 | D94: 1 | E94: 3 | F94: =F49+'The numbers'!$B$11 -> 137.5
C95: 0.9 | D95: 1 | E95: 3 | F95: =F50+'The numbers'!$B$11 -> 155
A97: week 3
A98: 1 day (Monday) | C98: % | D98: sets | E98: reps | F98: weight | G98: tjekliste
A99: 1 | B99: Squat - Volume | C99: 0.5 | D99: 1 | E99: 5 | F99: =F54+'The numbers'!$B$8 -> 87.5
C100: 0.6 | D100: 1 | E100: 5 | F100: =F55+'The numbers'!$B$8 -> 105
C101: 0.7 | D101: 1 | E101: 3 | F101: =F56+'The numbers'!$B$8 -> 125
C102: 0.8 | D102: 1 | E102: 5 | F102: =F57+'The numbers'!$B$8 -> 142.5
A103: 2 | B103: Bench press | C103: 0.5 | D103: 1 | E103: 5 | F103: =ROUND(('The numbers'!$B$3*C103)/2.5,0)*2.5 -> 52.5
C104: 0.6 | D104: 1 | E104: 4 | F104: =ROUND(('The numbers'!$B$3*C104)/2.5,0)*2.5 -> 62.5
C105: 0.7 | D105: 2 | E105: 3 | F105: =ROUND(('The numbers'!$B$3*C105)/2.5,0)*2.5 -> 72.5
C106: 0.8 | D106: 6 | E106: 3 | F106: =ROUND(('The numbers'!$B$3*C106)/2.5,0)*2.5 -> 82.5
A107: 3 | B107: Dumbbell fly | D107: 5 | E107: 10
...
