Workbook
Name Afrunding: Settings!$C$2
Name Bænkpres: '1RM'!$C$5
Name dag_1: Træningsdage!$C$4
Name dag_2: Træningsdage!$C$5
Name dag_3: Træningsdage!$C$6
Name dag_4: Træningsdage!$C$7
Name Dødløft: '1RM'!$C$7
Name OHP: '1RM'!$C$8
Name Reps: Tabel2[Reps]
Name Reps_alt: 'Asstistance Exercises'!$C$10
Name Squat: '1RM'!$C$6
Name Sæt: Tabel2[Sæt]
Name Sæt_alt: 'Asstistance Exercises'!$B$10
Name uge1pct1A: Waves!$B$7
Name uge1pct2A: Waves!$B$8
Name uge1pct3A: Waves!$B$9
Name Wave: Waves!$C$19

Sheet Inden du går i gang
A2: Inden du går i gang, skal du I de næste fire ark udfylde og ændre bestemte ting, som definerer dit program. Det vil sige træningsdage, antal sæt og reps i assistance-øvelser, hvilket procentskema du vil følge, etc.
A3: Jeg har fået Excel til at udføre alle beregninger for dig. På overskrifterne med orange baggrund regnes både det samlede antal sæt og det samlede antal reps ud på baggrund af, hvad du har indtastet.
A4: Ved siden af øvelserne er der nogle firkanter, der repræsenterer hvert sæt i øvelsen. De er til at krydse af, hvis du har programmet på papir. Hvis du har sat en øvelse til tre sæt, vil der kun være 3 trekanter.
A5: Assistance-øvelserne kan du varierer, som du vil. Du kan også fjerne nogle. Når du gør dette, vil øvelsens navn erstattes af en bindestreg og alle tal og firkanter i øvelsen fjernes, så der ikke kan tages fejl.
A6: Træningsdagene, som du indtaster, sættes ligeledes ind i programmet automatisk.
A8: Intet i selve programmet skal ændres; alt kan ændres gennem de fire ark '1RM', 'Træningsdag', 'Assistance Exercises' og 'Waves'.

Sheet 1RM
A2: Indtast dine maxløft her. Programmet udregner selv alle dine kg ud.
B4: Max
B5: Benchpress | C5: 1
B6: Squat | C6: 1
B7: Deadlift | C7: 1
B8: OHP | C8: 1

Sheet Træningsdage
A2: Nedenunder kan du indstille de dage, du vil træne. Hele dette dokument er baseret på en 4-dages ugebasis. Sørg for, at kun to af dagene er i træk.
B4: Dag 1 | C4: Mandag
B5: Dag 2 | C5: Onsdag
B6: Dag 3 | C6: Fredag
B7: Dag 4 | C7: Søndag

Sheet Asstistance Exercises
A2: Alle øvelser ud over de store løft er assistance-øvelser, som du selv vælger, og som skal komplementere de store løft.
A3: Onsdag og fredag har en bodyweight-øvelse i henholdvis tredje og andet modul. De må gerne tages med ekstra vægt på fx. et dip belt.
A4: Antal gentagelser og sæt afhænger af dit mål. Sæt antal sæt og reps ind nedenunder:
B6: Sæt | C6: Reps
B7: 5 | C7: 10
B9: Sæt bodyweight-øvelser | C9: Reps bodyweight-øvelser
B10: 5 | C10: 15
A12: Efter noget tid kan du variere dine valgte assistance-øvelser. Husk, at den samme muskel ikke skal trænes to dage i træk.
A13: I tabellen nedenunder kan du skrive dine øvelser ind på de pågældende dag - du har desuden mulighed for at variere lidt hver anden uge. Det er dog ikke et must.
A14: http://www.exrx.net/Lists/Directory.html | C14: - Her kan man tjekke nogle øvelser. Vær dog opmærksom på, at dette er ALLE øvelser, også de store.
B16: Mandag uge 1 & 3 | C16: Mandag uge 2 & 4
B17: Leg Curls | C17: Leg Curls
B18: Benpres | C18: Benpres
B19: Calf-raises | C19: Calf-raises
B21: Onsdag uge 1 & 3 | C21: Onsdag uge 2 & 4
B22: Incline Dumbbell Bænkpres | C22: Flyers
B23: One Arm Dumbbell Rows | C23: One Arm Dumbbell Rows
B24: Dips | C24: Dips
B26: Fredag uge 1 & 3 | C26: Fredag uge 2 & 4
B27: Dumbbell Curls | C27: Dumbbell Curls
B28: Hanging Leg Raises | C28: Hanging Leg Raises
B29: Dumbbell Shrugs | C29: Dumbbell Shrugs
... B33: Chin-ups → Close Grip Lat Pulldowns | C33: Chin-ups → Close Grip Lat Pulldowns
A36: Hvis man af en eller anden grund vil have flere sæt i de store øvelser, kan man gøre det herunder:
B38: Sæt
B39: Første procenttal
B40: 1
B42: Andet procenttal
B43: 1
B45: Tredje procenttal
B46: 1

Sheet Waves
A2: Hver uge i en mesocycle har forskellige procenter og antal reps - disse forskellige uger kaldes waves. Her ses to mulige wave-skemaer.
B5: A
B6: Uge 1 | C6: Uge 2 | D6: Uge 3 | E6: Uge 4 - Deload
B7: 0.65 | C7: 0.7 | D7: 0.75 | E7: 0.4
B8: 0.75 | C8: 0.8 | D8: 0.85 | E8: 0.5
B9: 0.85 | C9: 0.9 | D9: 0.95 | E9: 0.6
B12: B
B13: Uge 1 | C13: Uge 2 | D13: Uge 3 | E13: Uge 4 - Deload
B14: 0.75 | C14: 0.8 | D14: 0.75 | E14: 0.4
B15: 0.8 | C15: 0.85 | D15: 0.85 | E15: 0.5
B16: 0.85 | C16: 0.9 | D16: 0.95 | E16: 0.6
C18: Vælg enten system A eller B her:
C19: B
C20: A anbefales til gennemsnittet
A22: Det sidste sæt i de store øvelser - på nær i uge 4 - skal reppes som planlagt + mere. Det vil sige, at hvis du skal tage 3 reps i det sidste sæt, tager du 3 reps og forsøger at presse flere ud endnu.
A23: Du skal dog aldrig reppe til failure. Stop, hvis du kan mærke, at du ikke kan få flere.

Sheet 531-programmet
B2: Uge 1 | E2: - | F2: =Træningsdage!$C$4 -> Mandag | H2: - | I2: =C7*E7+C8*E8+C9*E9+C13*E13+C17*E17+C21*E21 -> 165 | U2: =C7+C8+C9+C13+C17+C21 -> 18
B4: Squat
C6: Opvarmning
C7: =Tabel27[Første procenttal] -> 1 | D7: x | E7: 5 | F7: @ | G7: =IF(Waves!$C$19="B",Waves!$B$14,Waves!$B$7) -> 0.75 | H7: =ROUND((G7*Squat)/Afrunding,0)*Afrunding -> 0 | J7: =IF('Asstistance Exercises'!$B$40>=1,Settings!$A$4,) -> □ | K7: =IF('Asstistance Exercises'!$B$40>=2,$J$7,) -> 0 | L7: =IF('Asstistance Exercises'!$B$40>=3,$J$7,) -> 0 | M7: =IF('Asstistance Exercises'!$B$40>=4,$J$7,) -> 0 | N7: =IF('Asstistance Exercises'!$B$40>=5,$J$7,) -> 0 | O7: =IF('Asstistance Exercises'!$B$40>=6,$J$7,) -> 0 | P7: =IF('Asstistance Exercises'!$B$40>=7,$J$7,) -> 0 | Q7: =IF('Asstistance Exercises'!$B$40>=8,$J$7,) -> 0 | R7: =IF('Asstistance Exercises'!$B$40>=9,$J$7,) -> 0 | S7: =IF('Asstistance Exercises'!$B$40>=10,$J$7,) -> 0
C8: =Tabel278[Andet procenttal] -> 1 | D8: x | E8: 5 | F8: @ | G8: =IF(Waves!$C$19="B",Waves!$B$15,Waves!$B$8) -> 0.8 | H8: =ROUND((G8*Squat)/Afrunding,0)*Afrunding -> 0 | J8: =IF('Asstistance Exercises'!$B$43>=1,$J$7,) -> □ | K8: =IF('Asstistance Exercises'!$B$43>=2,$J$7,) -> 0 | L8: =IF('Asstistance Exercises'!$B$43>=3,$J$7,) -> 0 | M8: =IF('Asstistance Exercises'!$B$43>=4,$J$7,) -> 0 | N8: =IF('Asstistance Exercises'!$B$43>=5,$J$7,) -> 0 | O8: =IF('Asstistance Exercises'!$B$43>=6,$J$7,) -> 0 | P8: =IF('Asstistance Exercises'!$B$43>=7,$J$7,) -> 0 | Q8: =IF('Asstistance Exercises'!$B$43>=8,$J$7,) -> 0 | R8: =IF('Asstistance Exercises'!$B$43>=9,$J$7,) -> 0 | S8: =IF('Asstistance Exercises'!$B$43>=10,$J$7,) -> 0
C9: =Tabel279[Tredje procenttal] -> 1 | D9: x | E9: 5 | F9: @ | G9: =IF(Waves!$C$19="B",Waves!$B$16,Waves!$B$9) -> 0.85 | H9: =ROUND((G9*Squat)/Afrunding,0)*Afrunding -> 0 | J9: =IF('Asstistance Exercises'!$B$46>=1,$J$7,) -> □ | K9: =IF('Asstistance Exercises'!$B$46>=2,$J$7,) -> 0 | L9: =IF('Asstistance Exercises'!$B$46>=3,$J$7,) -> 0 | M9: =IF('Asstistance Exercises'!$B$46>=4,$J$7,) -> 0 | N9: =IF('Asstistance Exercises'!$B$46>=5,$J$7,) -> 0 | O9: =IF('Asstistance Exercises'!$B$46>=6,$J$7,) -> 0 | P9: =IF('Asstistance Exercises'!$B$46>=7,$J$7,) -> 0 | Q9: =IF('Asstistance Exercises'!$B$46>=8,$J$7,) -> 0 | R9: =IF('Asstistance Exercises'!$B$46>=9,$J$7,) -> 0 | S9: =IF('Asstistance Exercises'!$B$46>=10,$J$7,) -> 0
B11: ='Asstistance Exercises'!B17 -> Leg Curls
C13: =IF($B11<>0,Tabel2[Sæt],) -> 5 | D13: =IF($B11<>0,"x",) -> x | E13: =IF($B11<>0,Tabel2[Reps],) -> 10 | F13: =IF($B11<>0,"@",) -> @ | G13: -- | J13: =IF($B11=0,,IF(Tabel2[Sæt]>=1,$J$7,)) -> □ | K13: =IF($B11=0,,IF(Tabel2[Sæt]>=2,$J$7,)) -> □ | L13: =IF($B11=0,,IF(Tabel2[Sæt]>=3,$J$7,)) -> □ | M13: =IF($B11=0,,IF(Tabel2[Sæt]>=4,$J$7,)) -> □ | N13: =IF($B11=0,,IF(Tabel2[Sæt]>=5,$J$7,)) -> □ | O13: =IF($B11=0,,IF(Tabel2[Sæt]>=6,$J$7,)) -> 0 | P13: =IF($B11=0,,IF(Tabel2[Sæt]>=7,$J$7,)) -> 0 | Q13: =IF($B11=0,,IF(Tabel2[Sæt]>=8,$J$7,)) -> 0 | R13: =IF($B11=0,,IF(Tabel2[Sæt]>=9,$J$7,)) -> 0 | S13: =IF($B11=0,,IF(Tabel2[Sæt]>=10,$J$7,)) -> 0
B15: ='Asstistance Exercises'!B18 -> Benpres
C17: =IF($B15<>0,Tabel2[Sæt],) -> 5 | D17: =IF($B15<>0,"x",) -> x | E17: =IF($B15<>0,Tabel2[Reps],) -> 10 | F17: =IF($B15<>0,"@",) -> @ | G17: -- | J17: =IF($B15=0,,IF(Tabel2[Sæt]>=1,$J$7,)) -> □ | K17: =IF($B15=0,,IF(Tabel2[Sæt]>=2,$J$7,)) -> □ | L17: =IF($B15=0,,IF(Tabel2[Sæt]>=3,$J$7,)) -> □ | M17: =IF($B15=0,,IF(Tabel2[Sæt]>=4,$J$7,)) -> □ | N17: =IF($B15=0,,IF(Tabel2[Sæt]>=5,$J$7,)) -> □ | O17: =IF($B15=0,,IF(Tabel2[Sæt]>=6,$J$7,)) -> 0 | P17: =IF($B15=0,,IF(Tabel2[Sæt]>=7,$J$7,)) -> 0 | Q17: =IF($B15=0,,IF(Tabel2[Sæt]>=8,$J$7,)) -> 0 | R17: =IF($B15=0,,IF(Tabel2[Sæt]>=9,$J$7,)) -> 0 | S17: =IF($B15=0,,IF(Tabel2[Sæt]>=10,$J$7,)) -> 0
B19: ='Asstistance Exercises'!B19 -> Calf-raises
C21: =IF($B19<>0,Tabel2[Sæt],) -> 5 | D21: =IF($B19<>0,"x",) -> x | E21: =IF($B19<>0,Tabel2[Reps],) -> 10 | F21: =IF($B19<>0,"@",) -> @ | G21: -- | J21: =IF($B19=0,,IF(Tabel2[Sæt]>=1,$J$7,)) -> □ | K21: =IF($B19=0,,IF(Tabel2[Sæt]>=2,$J$7,)) -> □ | L21: =IF($B19=0,,IF(Tabel2[Sæt]>=3,$J$7,)) -> □ | M21: =IF($B19=0,,IF(Tabel2[Sæt]>=4,$J$7,)) -> □ | N21: =IF($B19=0,,IF(Tabel2[Sæt]>=5,$J$7,)) -> □ | O21: =IF($B19=0,,IF(Tabel2[Sæt]>=6,$J$7,)) -> 0 | P21: =IF($B19=0,,IF(Tabel2[Sæt]>=7,$J$7,)) -> 0 | Q21: =IF($B19=0,,IF(Tabel2[Sæt]>=8,$J$7,)) -> 0 | R21: =IF($B19=0,,IF(Tabel2[Sæt]>=9,$J$7,)) -> 0 | S21: =IF($B19=0,,IF(Tabel2[Sæt]>=10,$J$7,)) -> 0
B24: Uge 1 | E24: - | F24: =Træningsdage!$C$5 -> Onsdag | H24: - | I24: =C29*E29+C30*E30+C31*E31+C35*E35+C39*E39+C43*E43 -> 190 | U24: =C29+C30+C31+C35+C39+C43 -> 18
B26: Barbell Bænkpres
C28: Opvarmning
C29: =Tabel27[Første procenttal] -> 1 | D29: x | E29: 5 | F29: @ | G29: =IF(Waves!$C$19="B",Waves!$B$14,Waves!$B$7) -> 0.75 | H29: =ROUND((G29*Bænkpres)/Afrunding,0)*Afrunding -> 0 | J29: =IF('Asstistance Exercises'!$B$40>=1,Settings!$A$4,) -> □ | K29: =IF('Asstistance Exercises'!$B$40>=2,$J$7,) -> 0 | L29: =IF('Asstistance Exercises'!$B$40>=3,$J$7,) -> 0 | M29: =IF('Asstistance Exercises'!$B$40>=4,$J$7,) -> 0 | N29: =IF('Asstistance Exercises'!$B$40>=5,$J$7,) -> 0 | O29: =IF('Asstistance Exercises'!$B$40>=6,$J$7,) -> 0 | P29: =IF('Asstistance Exercises'!$B$40>=7,$J$7,) -> 0 | Q29: =IF('Asstistance Exercises'!$B$40>=8,$J$7,) -> 0 | R29: =IF('Asstistance Exercises'!$B$40>=9,$J$7,) -> 0 | S29: =IF('Asstistance Exercises'!$B$40>=10,$J$7,) -> 0
C30: =Tabel278[Andet procenttal] -> 1 | D30: x | E30: 5 | F30: @ | G30: =IF(Waves!$C$19="B",Waves!$B$15,Waves!$B$8) -> 0.8 | H30: =ROUND((G30*Bænkpres)/Afrunding,0)*Afrunding -> 0 | J30: =IF('Asstistance Exercises'!$B$43>=1,$J$7,) -> □ | K30: =IF('Asstistance Exercises'!$B$43>=2,$J$7,) -> 0 | L30: =IF('Asstistance Exercises'!$B$43>=3,$J$7,) -> 0 | M30: =IF('Asstistance Exercises'!$B$43>=4,$J$7,) -> 0 | N30: =IF('Asstistance Exercises'!$B$43>=5,$J$7,) -> 0 | O30: =IF('Asstistance Exercises'!$B$43>=6,$J$7,) -> 0 | P30: =IF('Asstistance Exercises'!$B$43>=7,$J$7,) -> 0 | Q30: =IF('Asstistance Exercises'!$B$43>=8,$J$7,) -> 0 | R30: =IF('Asstistance Exercises'!$B$43>=9,$J$7,) -> 0 | S30: =IF('Asstistance Exercises'!$B$43>=10,$J$7,) -> 0
C31: =Tabel279[Tredje procenttal] -> 1 | D31: x | E31: 5 | F31: @ | G31: =IF(Waves!$C$19="B",Waves!$B$16,Waves!$B$9) -> 0.85 | H31: =ROUND((G31*Bænkpres)/Afrunding,0)*Afrunding -> 0 | J31: =IF('Asstistance Exercises'!$B$46>=1,$J$7,) -> □ | K31: =IF('Asstistance Exercises'!$B$46>=2,$J$7,) -> 0 | L31: =IF('Asstistance Exercises'!$B$46>=3,$J$7,) -> 0 | M31: =IF('Asstistance Exercises'!$B$46>=4,$J$7,) -> 0 | N31: =IF('Asstistance Exercises'!$B$46>=5,$J$7,) -> 0 | O31: =IF('Asstistance Exercises'!$B$46>=6,$J$7,) -> 0 | P31: =IF('Asstistance Exercises'!$B$46>=7,$J$7,) -> 0 | Q31: =IF('Asstistance Exercises'!$B$46>=8,$J$7,) -> 0 | R31: =IF('Asstistance Exercises'!$B$46>=9,$J$7,) -> 0 | S31: =IF('Asstistance Exercises'!$B$46>=10,$J$7,) -> 0
B33: ='Asstistance Exercises'!B22 -> Incline Dumbbell Bænkpres
C35: =IF($B33<>0,Tabel2[Sæt],) -> 5 | D35: =IF($B33<>0,"x",) -> x | E35: =IF($B33<>0,Tabel2[Reps],) -> 10 | F35: =IF($B33<>0,"@",) -> @ | G35: -- | J35: =IF($B33=0,,IF(Tabel2[Sæt]>=1,$J$7,)) -> □ | K35: =IF($B33=0,,IF(Tabel2[Sæt]>=2,$J$7,)) -> □ | L35: =IF($B33=0,,IF(Tabel2[Sæt]>=3,$J$7,)) -> □ | M35: =IF($B33=0,,IF(Tabel2[Sæt]>=4,$J$7,)) -> □ | N35: =IF($B33=0,,IF(Tabel2[Sæt]>=5,$J$7,)) -> □ | O35: =IF($B33=0,,IF(Tabel2[Sæt]>=6,$J$7,)) -> 0 | P35: =IF($B33=0,,IF(Tabel2[Sæt]>=7,$J$7,)) -> 0 | Q35: =IF($B33=0,,IF(Tabel2[Sæt]>=8,$J$7,)) -> 0 | R35: =IF($B33=0,,IF(Tabel2[Sæt]>=9,$J$7,)) -> 0 | S35: =IF($B33=0,,IF(Tabel2[Sæt]>=10,$J$7,)) -> 0
B37: ='Asstistance Exercises'!B23 -> One Arm Dumbbell Rows
C39: =IF($B37<>0,Tabel2[Sæt],) -> 5 | D39: =IF($B37<>0,"x",) -> x | E39: =IF($B37<>0,Tabel2[Reps],) -> 10 | F39: =IF($B37<>0,"@",) -> @ | G39: -- | J39: =IF($B37=0,,IF(Tabel2[Sæt]>=1,$J$7,)) -> □ | K39: =IF($B37=0,,IF(Tabel2[Sæt]>=2,$J$7,)) -> □ | L39: =IF($B37=0,,IF(Tabel2[Sæt]>=3,$J$7,)) -> □ | M39: =IF($B37=0,,IF(Tabel2[Sæt]>=4,$J$7,)) -> □ | N39: =IF($B37=0,,IF(Tabel2[Sæt]>=5,$J$7,)) -> □ | O39: =IF($B37=0,,IF(Tabel2[Sæt]>=6,$J$7,)) -> 0 | P39: =IF($B37=0,,IF(Tabel2[Sæt]>=7,$J$7,)) -> 0 | Q39: =IF($B37=0,,IF(Tabel2[Sæt]>=8,$J$7,)) -> 0 | R39: =IF($B37=0,,IF(Tabel2[Sæt]>=9,$J$7,)) -> 0 | S39: =IF($B37=0,,IF(Tabel2[Sæt]>=10,$J$7,)) -> 0
B41: ='Asstistance Exercises'!B24 -> Dips
C43: =IF($B41<>0,'Asstistance Exercises'!$B$10,) -> 5 | D43: =IF($B41<>0,"x",) -> x | E43: =IF($B41<>0,Reps_alt,) -> 15 | F43: =IF($B41<>0,"@",) -> @ | G43: -- | J43: =IF($B41=0,,IF('Asstistance Exercises'!$B$10>=1,$J$7,)) -> □ | K43: =IF($B41=0,,IF('Asstistance Exercises'!$B$10>=2,$J$7,)) -> □ | L43: =IF($B41=0,,IF('Asstistance Exercises'!$B$10>=3,$J$7,)) -> □ | M43: =IF($B41=0,,IF('Asstistance Exercises'!$B$10>=4,$J$7,)) -> □ | N43: =IF($B41=0,,IF('Asstistance Exercises'!$B$10>=5,$J$7,)) -> □ | O43: =IF($B41=0,,IF('Asstistance Exercises'!$B$10>=6,$J$7,)) -> 0 | P43: =IF($B41=0,,IF('Asstistance Exercises'!$B$10>=7,$J$7,)) -> 0 | Q43: =IF($B41=0,,IF('Asstistance Exercises'!$B$10>=8,$J$7,)) -> 0 | R43: =IF($B41=0,,IF('Asstistance Exercises'!$B$10>=9,$J$7,)) -> 0 | S43: =IF($B41=0,,IF('Asstistance Exercises'!$B$10>=10,$J$7,)) -> 0
B46: Uge 1 | E46: - | F46: =Træningsdage!$C$6 -> Fredag | H46: - | I46: =C51*E51+C52*E52+C53*E53+C57*E57+C61*E61+C65*E65 -> 190 | U46: =C51+C52+C53+C57+C61+C65 -> 18
B48: Dødløft
C50: Opvarmning
C51: =Tabel27[Første procenttal] -> 1 | D51: x | E51: 5 | F51: @ | G51: =IF(Waves!$C$19="B",Waves!$B$14,Waves!$B$7) -> 0.75 | H51: =ROUND((G51*Dødløft)/Afrunding,0)*Afrunding -> 0 | J51: =IF('Asstistance Exercises'!$B$40>=1,Settings!$A$4,) -> □ | K51: =IF('Asstistance Exercises'!$B$40>=2,$J$7,) -> 0 | L51: =IF('Asstistance Exercises'!$B$40>=3,$J$7,) -> 0 | M51: =IF('Asstistance Exercises'!$B$40>=4,$J$7,) -> 0 | N51: =IF('Asstistance Exercises'!$B$40>=5,$J$7,) -> 0 | O51: =IF('Asstistance Exercises'!$B$40>=6,$J$7,) -> 0 | P51: =IF('Asstistance Exercises'!$B$40>=7,$J$7,) -> 0 | Q51: =IF('Asstistance Exercises'!$B$40>=8,$J$7,) -> 0 | R51: =IF('Asstistance Exercises'!$B$40>=9,$J$7,) -> 0 | S51: =IF('Asstistance Exercises'!$B$40>=10,$J$7,) -> 0
C52: =Tabel278[Andet procenttal] -> 1 | D52: x | E52: 5 | F52: @ | G52: =IF(Waves!$C$19="B",Waves!$B$15,Waves!$B$8) -> 0.8 | H52: =ROUND((G52*Dødløft)/Afrunding,0)*Afrunding -> 0 | J52: =IF('Asstistance Exercises'!$B$43>=1,$J$7,) -> □ | K52: =IF('Asstistance Exercises'!$B$43>=2,$J$7,) -> 0 | L52: =IF('Asstistance Exercises'!$B$43>=3,$J$7,) -> 0 | M52: =IF('Asstistance Exercises'!$B$43>=4,$J$7,) -> 0 | N52: =IF('Asstistance Exercises'!$B$43>=5,$J$7,) -> 0 | O52: =IF('Asstistance Exercises'!$B$43>=6,$J$7,) -> 0 | P52: =IF('Asstistance Exercises'!$B$43>=7,$J$7,) -> 0 | Q52: =IF('Asstistance Exercises'!$B$43>=8,$J$7,) -> 0 | R52: =IF('Asstistance Exercises'!$B$43>=9,$J$7,) -> 0 | S52: =IF('Asstistance Exercises'!$B$43>=10,$J$7,) -> 0
C53: =Tabel279[Tredje procenttal] -> 1 | D53: x | E53: 5 | F53: @ | G53: =IF(Waves!$C$19="B",Waves!$B$16,Waves!$B$9) -> 0.85 | H53: =ROUND((G53*Dødløft)/Afrunding,0)*Afrunding -> 0 | J53: =IF('Asstistance Exercises'!$B$46>=1,$J$7,) -> □ | K53: =IF('Asstistance Exercises'!$B$46>=2,$J$7,) -> 0 | L53: =IF('Asstistance Exercises'!$B$46>=3,$J$7,) -> 0 | M53: =IF('Asstistance Exercises'!$B$46>=4,$J$7,) -> 0 | N53: =IF('Asstistance Exercises'!$B$46>=5,$J$7,) -> 0 | O53: =IF('Asstistance Exercises'!$B$46>=6,$J$7,) -> 0 | P53: =IF('Asstistance Exercises'!$B$46>=7,$J$7,) -> 0 | Q53: =IF('Asstistance Exercises'!$B$46>=8,$J$7,) -> 0 | R53: =IF('Asstistance Exercises'!$B$46>=9,$J$7,) -> 0 | S53: =IF('Asstistance Exercises'!$B$46>=10,$J$7,) -> 0
B55: ='Asstistance Exercises'!B27 -> Dumbbell Curls
C57: =IF($B55<>0,Tabel2[Sæt],) -> 5 | D57: =IF($B55<>0,"x",) -> x | E57: =IF($B55<>0,Tabel2[Reps],) -> 10 | F57: =IF($B55<>0,"@",) -> @ | G57: -- | J57: =IF($B55=0,,IF(Tabel2[Sæt]>=1,$J$7,)) -> □ | K57: =IF($B55=0,,IF(Tabel2[Sæt]>=2,$J$7,)) -> □ | L57: =IF($B55=0,,IF(Tabel2[Sæt]>=3,$J$7,)) -> □ | M57: =IF($B55=0,,IF(Tabel2[Sæt]>=4,$J$7,)) -> □ | N57: =IF($B55=0,,IF(Tabel2[Sæt]>=5,$J$7,)) -> □ | O57: =IF($B55=0,,IF(Tabel2[Sæt]>=6,$J$7,)) -> 0 | P57: =IF($B55=0,,IF(Tabel2[Sæt]>=7,$J$7,)) -> 0 | Q57: =IF($B55=0,,IF(Tabel2[Sæt]>=8,$J$7,)) -> 0 | R57: =IF($B55=0,,IF(Tabel2[Sæt]>=9,$J$7,)) -> 0 | S57: =IF($B55=0,,IF(Tabel2[Sæt]>=10,$J$7,)) -> 0
B59: ='Asstistance Exercises'!B28 -> Hanging Leg Raises
C61: =IF($B59<>0,'Asstistance Exercises'!$B$10,) -> 5 | D61: =IF($B59<>0,"x",) -> x | E61: =IF($B59<>0,Reps_alt,) -> 15 | F61: =IF($B59<>0,"@",) -> @ | G61: -- | J61: =IF($B59=0,,IF('Asstistance Exercises'!$B$10>=1,$J$7,)) -> □ | K61: =IF($B59=0,,IF('Asstistance Exercises'!$B$10>=2,$J$7,)) -> □ | L61: =IF($B59=0,,IF('Asstistance Exercises'!$B$10>=3,$J$7,)) -> □ | M61: =IF($B59=0,,IF('Asstistance Exercises'!$B$10>=4,$J$7,)) -> □ | N61: =IF($B59=0,,IF('Asstistance Exercises'!$B$10>=5,$J$7,)) -> □ | O61: =IF($B59=0,,IF('Asstistance Exercises'!$B$10>=6,$J$7,)) -> 0 | P61: =IF($B59=0,,IF('Asstistance Exercises'!$B$10>=7,$J$7,)) -> 0 | Q61: =IF($B59=0,,IF('Asstistance Exercises'!$B$10>=8,$J$7,)) -> 0 | R61: =IF($B59=0,,IF('Asstistance Exercises'!$B$10>=9,$J$7,)) -> 0 | S61: =IF($B59=0,,IF('Asstistance Exercises'!$B$10>=10,$J$7,)) -> 0
B63: ='Asstistance Exercises'!B29 -> Dumbbell Shrugs
C65: =IF($B63<>0,Tabel2[Sæt],) -> 5 | D65: =IF($B63<>0,"x",) -> x | E65: =IF($B63<>0,Tabel2[Reps],) -> 10 | F65: =IF($B63<>0,"@",) -> @ | G65: -- | J65: =IF($B63=0,,IF(Tabel2[Sæt]>=1,$J$7,)) -> □ | K65: =IF($B63=0,,IF(Tabel2[Sæt]>=2,$J$7,)) -> □ | L65: =IF($B63=0,,IF(Tabel2[Sæt]>=3,$J$7,)) -> □ | M65: =IF($B63=0,,IF(Tabel2[Sæt]>=4,$J$7,)) -> □ | N65: =IF($B63=0,,IF(Tabel2[Sæt]>=5,$J$7,)) -> □ | O65: =IF($B63=0,,IF(Tabel2[Sæt]>=6,$J$7,)) -> 0 | P65: =IF($B63=0,,IF(Tabel2[Sæt]>=7,$J$7,)) -> 0 | Q65: =IF($B63=0,,IF(Tabel2[Sæt]>=8,$J$7,)) -> 0 | R65: =IF($B63=0,,IF(Tabel2[Sæt]>=9,$J$7,)) -> 0 | S65: =IF($B63=0,,IF(Tabel2[Sæt]>=10,$J$7,)) -> 0
B68: Uge 1 | E68: - | F68: =Træningsdage!$C$7 -> Søndag | H68: - | I68: =C73*E73+C74*E74+C75*E75+C79*E79+C83*E83+C87*E87 -> 115 | U68: =C73+C74+C75+C79+C83+C87 -> 13
B70: OHP
C72: Opvarmning
C73: =Tabel27[Første procenttal] -> 1 | D73: x | E73: 5 | F73: @ | G73: =IF(Waves!$C$19="B",Waves!$B$14,Waves!$B$7) -> 0.75 | H73: =ROUND((G73*OHP)/Afrunding,0)*Afrunding -> 0 | J73: =IF('Asstistance Exercises'!$B$40>=1,Settings!$A$4,) -> □ | K73: =IF('Asstistance Exercises'!$B$40>=2,$J$7,) -> 0 | L73: =IF('Asstistance Exercises'!$B$40>=3,$J$7,) -> 0 | M73: =IF('Asstistance Exercises'!$B$40>=4,$J$7,) -> 0 | N73: =IF('Asstistance Exercises'!$B$40>=5,$J$7,) -> 0 | O73: =IF('Asstistance Exercises'!$B$40>=6,$J$7,) -> 0 | P73: =IF('Asstistance Exercises'!$B$40>=7,$J$7,) -> 0 | Q73: =IF('Asstistance Exercises'!$B$40>=8,$J$7,) -> 0 | R73: =IF('Asstistance Exercises'!$B$40>=9,$J$7,) -> 0 | S73: =IF('Asstistance Exercises'!$B$40>=10,$J$7,) -> 0
C74: =Tabel278[Andet procenttal] -> 1 | D74: x | E74: 5 | F74: @ | G74: =IF(Waves!$C$19="B",Waves!$B$15,Waves!$B$8) -> 0.8 | H74: =ROUND((G74*OHP)/Afrunding,0)*Afrunding -> 0 | J74: =IF('Asstistance Exercises'!$B$43>=1,$J$7,) -> □ | K74: =IF('Asstistance Exercises'!$B$43>=2,$J$7,) -> 0 | L74: =IF('Asstistance Exercises'!$B$43>=3,$J$7,) -> 0 | M74: =IF('Asstistance Exercises'!$B$43>=4,$J$7,) -> 0 | N74: =IF('Asstistance Exercises'!$B$43>=5,$J$7,) -> 0 | O74: =IF('Asstistance Exercises'!$B$43>=6,$J$7,) -> 0 | P74: =IF('Asstistance Exercises'!$B$43>=7,$J$7,) -> 0 | Q74: =IF('Asstistance Exercises'!$B$43>=8,$J$7,) -> 0 | R74: =IF('Asstistance Exercises'!$B$43>=9,$J$7,) -> 0 | S74: =IF('Asstistance Exercises'!$B$43>=10,$J$7,) -> 0
C75: =Tabel279[Tredje procenttal] -> 1 | D75: x | E75: 5 | F75: @ | G75: =IF(Waves!$C$19="B",Waves!$B$16,Waves!$B$9) -> 0.85 | H75: =ROUND((G75*OHP)/Afrunding,0)*Afrunding -> 0 | J75: =IF('Asstistance Exercises'!$B$46>=1,$J$7,) -> □ | K75: =IF('Asstistance Exercises'!$B$46>=2,$J$7,) -> 0 | L75: =IF('Asstistance Exercises'!$B$46>=3,$J$7,) -> 0 | M75: =IF('Asstistance Exercises'!$B$46>=4,$J$7,) -> 0 | N75: =IF('Asstistance Exercises'!$B$46>=5,$J$7,) -> 0 | O75: =IF('Asstistance Exercises'!$B$46>=6,$J$7,) -> 0 | P75: =IF('Asstistance Exercises'!$B$46>=7,$J$7,) -> 0 | Q75: =IF('Asstistance Exercises'!$B$46>=8,$J$7,) -> 0 | R75: =IF('Asstistance Exercises'!$B$46>=9,$J$7,) -> 0 | S75: =IF('Asstistance Exercises'!$B$46>=10,$J$7,) -> 0
B77: ='Asstistance Exercises'!B32 -> French Press
C79: =IF($B77<>0,Tabel2[Sæt],) -> 5 | D79: =IF($B77<>0,"x",) -> x | E79: =IF($B77<>0,Tabel2[Reps],) -> 10 | F79: =IF($B77<>0,"@",) -> @ | G79: -- | J79: =IF($B77=0,,IF(Tabel2[Sæt]>=1,$J$7,)) -> □ | K79: =IF($B77=0,,IF(Tabel2[Sæt]>=2,$J$7,)) -> □ | L79: =IF($B77=0,,IF(Tabel2[Sæt]>=3,$J$7,)) -> □ | M79: =IF($B77=0,,IF(Tabel2[Sæt]>=4,$J$7,)) -> □ | N79: =IF($B77=0,,IF(Tabel2[Sæt]>=5,$J$7,)) -> □ | O79: =IF($B77=0,,IF(Tabel2[Sæt]>=6,$J$7,)) -> 0 | P79: =IF($B77=0,,IF(Tabel2[Sæt]>=7,$J$7,)) -> 0 | Q79: =IF($B77=0,,IF(Tabel2[Sæt]>=8,$J$7,)) -> 0 | R79: =IF($B77=0,,IF(Tabel2[Sæt]>=9,$J$7,)) -> 0 | S79: =IF($B77=0,,IF(Tabel2[Sæt]>=10,$J$7,)) -> 0
B81: ='Asstistance Exercises'!B33 -> Chin-ups → Close Grip Lat Pulldowns
C83: =IF($B81<>0,Tabel2[Sæt],) -> 5 | D83: =IF($B81<>0,"x",) -> x | E83: =IF($B81<>0,Tabel2[Reps],) -> 10 | F83: =IF($B81<>0,"@",) -> @ | G83: -- | J83: =IF($B81=0,,IF(Tabel2[Sæt]>=1,$J$7,)) -> □ | K83: =IF($B81=0,,IF(Tabel2[Sæt]>=2,$J$7,)) -> □ | L83: =IF($B81=0,,IF(Tabel2[Sæt]>=3,$J$7,)) -> □ | M83: =IF($B81=0,,IF(Tabel2[Sæt]>=4,$J$7,)) -> □ | N83: =IF($B81=0,,IF(Tabel2[Sæt]>=5,$J$7,)) -> □ | O83: =IF($B81=0,,IF(Tabel2[Sæt]>=6,$J$7,)) -> 0 | P83: =IF($B81=0,,IF(Tabel2[Sæt]>=7,$J$7,)) -> 0 | Q83: =IF($B81=0,,IF(Tabel2[Sæt]>=8,$J$7,)) -> 0 | R83: =IF($B81=0,,IF(Tabel2[Sæt]>=9,$J$7,)) -> 0 | S83: =IF($B81=0,,IF(Tabel2[Sæt]>=10,$J$7,)) -> 0
B85: ='Asstistance Exercises'!B34 -> 0
C87: =IF($B85<>0,Tabel2[Sæt],) -> 0 | D87: =IF($B85<>0,"x",) -> 0 | E87: =IF($B85<>0,Tabel2[Reps],) -> 0 | F87: =IF($B85<>0,"@",) -> 0 | G87: -- | J87: =IF($B85=0,,IF(Tabel2[Sæt]>=1,$J$7,)) -> 0 | K87: =IF($B85=0,,IF(Tabel2[Sæt]>=2,$J$7,)) -> 0 | L87: =IF($B85=0,,IF(Tabel2[Sæt]>=3,$J$7,)) -> 0 | M87: =IF($B85=0,,IF(Tabel2[Sæt]>=4,$J$7,)) -> 0 | N87: =IF($B85=0,,IF(Tabel2[Sæt]>=5,$J$7,)) -> 0 | O87: =IF($B85=0,,IF(Tabel2[Sæt]>=6,$J$7,)) -> 0 | P87: =IF($B85=0,,IF(Tabel2[Sæt]>=7,$J$7,)) -> 0 | Q87: =IF($B85=0,,IF(Tabel2[Sæt]>=8,$J$7,)) -> 0 | R87: =IF($B85=0,,IF(Tabel2[Sæt]>=9,$J$7,)) -> 0 | S87: =IF($B85=0,,IF(Tabel2[Sæt]>=10,$J$7,)) -> 0
B90: Uge 2 | E90: - | F90: =Træningsdage!$C$4 -> Mandag | H90: - | I90: =C95*E95+C96*E96+C97*E97+C101*E101+C105*E105+C109*E109 -> 159 | U90: =C95+C96+C97+C101+C105+C109 -> 18
B92: Squat
C94: Opvarmning
C95: =Tabel27[Første procenttal] -> 1 | D95: x | E95: 3 | F95: @ | G95: =IF(Waves!$C$19="B",Waves!$C$14,Waves!$C$7) -> 0.8 | H95: =ROUND((G95*Squat)/Afrunding,0)*Afrunding -> 0 | J95: =IF('Asstistance Exercises'!$B$40>=1,Settings!$A$4,) -> □ | K95: =IF('Asstistance Exercises'!$B$40>=2,$J$7,) -> 0 | L95: =IF('Asstistance Exercises'!$B$40>=3,$J$7,) -> 0 | M95: =IF('Asstistance Exercises'!$B$40>=4,$J$7,) -> 0 | N95: =IF('Asstistance Exercises'!$B$40>=5,$J$7,) -> 0 | O95: =IF('Asstistance Exercises'!$B$40>=6,$J$7,) -> 0 | P95: =IF('Asstistance Exercises'!$B$40>=7,$J$7,) -> 0 | Q95: =IF('Asstistance Exercises'!$B$40>=8,$J$7,) -> 0 | R95: =IF('Asstistance Exercises'!$B$40>=9,$J$7,) -> 0 | S95: =IF('Asstistance Exercises'!$B$40>=10,$J$7,) -> 0
C96: =Tabel278[Andet procenttal] -> 1 | D96: x | E96: 3 | F96: @ | G96: =IF(Waves!$C$19="B",Waves!$C$15,Waves!$C$8) -> 0.85 | H96: =ROUND((G96*Squat)/Afrunding,0)*Afrunding -> 0 | J96: =IF('Asstistance Exercises'!$B$43>=1,$J$7,) -> □ | K96: =IF('Asstistance Exercises'!$B$43>=2,$J$7,) -> 0 | L96: =IF('Asstistance Exercises'!$B$43>=3,$J$7,) -> 0 | M96: =IF('Asstistance Exercises'!$B$43>=4,$J$7,) -> 0 | N96: =IF('Asstistance Exercises'!$B$43>=5,$J$7,) -> 0 | O96: =IF('Asstistance Exercises'!$B$43>=6,$J$7,) -> 0 | P96: =IF('Asstistance Exercises'!$B$43>=7,$J$7,) -> 0 | Q96: =IF('Asstistance Exercises'!$B$43>=8,$J$7,) -> 0 | R96: =IF('Asstistance Exercises'!$B$43>=9,$J$7,) -> 0 | S96: =IF('Asstistance Exercises'!$B$43>=10,$J$7,) -> 0
C97: =Tabel279[Tredje procenttal] -> 1 | D97: x | E97: 3 | F97: @ | G97: =IF(Waves!$C$19="B",Waves!$C$16,Waves!$C$9) -> 0.9 | H97: =ROUND((G97*Squat)/Afrunding,0)*Afrunding -> 0 | J97: =IF('Asstistance Exercises'!$B$46>=1,$J$7,) -> □ | K97: =IF('Asstistance Exercises'!$B$46>=2,$J$7,) -> 0 | L97: =IF('Asstistance Exercises'!$B$46>=3,$J$7,) -> 0 | M97: =IF('Asstistance Exercises'!$B$46>=4,$J$7,) -> 0 | N97: =IF('Asstistance Exercises'!$B$46>=5,$J$7,) -> 0 | O97: =IF('Asstistance Exercises'!$B$46>=6,$J$7,) -> 0 | P97: =IF('Asstistance Exercises'!$B$46>=7,$J$7,) -> 0 | Q97: =IF('Asstistance Exercises'!$B$46>=8,$J$7,) -> 0 | R97: =IF('Asstistance Exercises'!$B$46>=9,$J$7,) -> 0 | S97: =IF('Asstistance Exercises'!$B$46>=10,$J$7,) -> 0
B99: ='Asstistance Exercises'!C17 -> Leg Curls
C101: =IF($B99<>0,Tabel2[Sæt],) -> 5 | D101: =IF($B99<>0,"x",) -> x | E101: =IF($B99<>0,Tabel2[Reps],) -> 10 | F101: =IF($B99<>0,"@",) -> @ | G101: -- | J101: =IF($B99=0,,IF(Tabel2[Sæt]>=1,$J$7,)) -> □ | K101: =IF($B99=0,,IF(Tabel2[Sæt]>=2,$J$7,)) -> □ | L101: =IF($B99=0,,IF(Tabel2[Sæt]>=3,$J$7,)) -> □ | M101: =IF($B99=0,,IF(Tabel2[Sæt]>=4,$J$7,)) -> □ | N101: =IF($B99=0,,IF(Tabel2[Sæt]>=5,$J$7,)) -> □ | O101: =IF($B99=0,,IF(Tabel2[Sæt]>=6,$J$7,)) -> 0 | P101: =IF($B99=0,,IF(Tabel2[Sæt]>=7,$J$7,)) -> 0 | Q101: =IF($B99=0,,IF(Tabel2[Sæt]>=8,$J$7,)) -> 0 | R101: =IF($B99=0,,IF(Tabel2[Sæt]>=9,$J$7,)) -> 0 | S101: =IF($B99=0,,IF(Tabel2[Sæt]>=10,$J$7,)) -> 0
B103: ='Asstistance Exercises'!C18 -> Benpres
C105: =IF($B103<>0,Tabel2[Sæt],) -> 5 | D105: =IF($B103<>0,"x",) -> x | E105: =IF($B103<>0,Tabel2[Reps],) -> 10 | F105: =IF($B103<>0,"@",) -> @ | G105: -- | J105: =IF($B103=0,,IF(Tabel2[Sæt]>=1,$J$7,)) -> □ | K105: =IF($B103=0,,IF(Tabel2[Sæt]>=2,$J$7,)) -> □ | L105: =IF($B103=0,,IF(Tabel2[Sæt]>=3,$J$7,)) -> □ | M105: =IF($B103=0,,IF(Tabel2[Sæt]>=4,$J$7,)) -> □ | N105: =IF($B103=0,,IF(Tabel2[Sæt]>=5,$J$7,)) -> □ | O105: =IF($B103=0,,IF(Tabel2[Sæt]>=6,$J$7,)) -> 0 | P105: =IF($B103=0,,IF(Tabel2[Sæt]>=7,$J$7,)) -> 0 | Q105: =IF($B103=0,,IF(Tabel2[Sæt]>=8,$J$7,)) -> 0 | R105: =IF($B103=0,,IF(Tabel2[Sæt]>=9,$J$7,)) -> 0 | S105: =IF($B103=0,,IF(Tabel2[Sæt]>=10,$J$7,)) -> 0
B107: ='Asstistance Exercises'!C19 -> Calf-raises
C109: =IF($B107<>0,Tabel2[Sæt],) -> 5 | D109: =IF($B107<>0,"x",) -> x | E109: =IF($B107<>0,Tabel2[Reps],) -> 10 | F109: =IF($B107<>0,"@",) -> @ | G109: -- | J109: =IF($B107=0,,IF(Tabel2[Sæt]>=1,$J$7,)) -> □ | K109: =IF($B107=0,,IF(Tabel2[Sæt]>=2,$J$7,)) -> □ | L109: =IF($B107=0,,IF(Tabel2[Sæt]>=3,$J$7,)) -> □ | M109: =IF($B107=0,,IF(Tabel2[Sæt]>=4,$J$7,)) -> □ | N109: =IF($B107=0,,IF(Tabel2[Sæt]>=5,$J$7,)) -> □ | O109: =IF($B107=0,,IF(Tabel2[Sæt]>=6,$J$7,)) -> 0 | P109: =IF($B107=0,,IF(Tabel2[Sæt]>=7,$J$7,)) -> 0 | Q109: =IF($B107=0,,IF(Tabel2[Sæt]>=8,$J$7,)) -> 0 | R109: =IF($B107=0,,IF(Tabel2[Sæt]>=9,$J$7,)) -> 0 | S109: =IF($B107=0,,IF(Tabel2[Sæt]>=10,$J$7,)) -> 0
B112: Uge 2 | E112: - | F112: =Træningsdage!$C$5 -> Onsdag | H112: - | I112: =C117*E117+C118*E118+C119*E119+C123*E123+C127*E127+C131*E131 -> 184 | U112: =C117+C118+C119+C123+C127+C131 -> 18
B114: Barbell Bænkpres
C116: Opvarmning
C117: =Tabel27[Første procenttal] -> 1 | D117: x | E117: 3 | F117: @ | G117: =IF(Waves!$C$19="B",Waves!$C$14,Waves!$C$7) -> 0.8 | H117: =ROUND((G117*Bænkpres)/Afrunding,0)*Afrunding -> 0 | J117: =IF('Asstistance Exercises'!$B$40>=1,Settings!$A$4,) -> □ | K117: =IF('Asstistance Exercises'!$B$40>=2,$J$7,) -> 0 | L117: =IF('Asstistance Exercises'!$B$40>=3,$J$7,) -> 0 | M117: =IF('Asstistance Exercises'!$B$40>=4,$J$7,) -> 0 | N117: =IF('Asstistance Exercises'!$B$40>=5,$J$7,) -> 0 | O117: =IF('Asstistance Exercises'!$B$40>=6,$J$7,) -> 0 | P117: =IF('Asstistance Exercises'!$B$40>=7,$J$7,) -> 0 | Q117: =IF('Asstistance Exercises'!$B$40>=8,$J$7,) -> 0 | R117: =IF('Asstistance Exercises'!$B$40>=9,$J$7,) -> 0 | S117: =IF('Asstistance Exercises'!$B$40>=10,$J$7,) -> 0
C118: =Tabel278[Andet procenttal] -> 1 | D118: x | E118: 3 | F118: @ | G118: =IF(Waves!$C$19="B",Waves!$C$15,Waves!$C$8) -> 0.85 | H118: =ROUND((G118*Bænkpres)/Afrunding,0)*Afrunding -> 0 | J118: =IF('Asstistance Exercises'!$B$43>=1,$J$7,) -> □ | K118: =IF('Asstistance Exercises'!$B$43>=2,$J$7,) -> 0 | L118: =IF('Asstistance Exercises'!$B$43>=3,$J$7,) -> 0 | M118: =IF('Asstistance Exercises'!$B$43>=4,$J$7,) -> 0 | N118: =IF('Asstistance Exercises'!$B$43>=5,$J$7,) -> 0 | O118: =IF('Asstistance Exercises'!$B$43>=6,$J$7,) -> 0 | P118: =IF('Asstistance Exercises'!$B$43>=7,$J$7,) -> 0 | Q118: =IF('Asstistance Exercises'!$B$43>=8,$J$7,) -> 0 | R118: =IF('Asstistance Exercises'!$B$43>=9,$J$7,) -> 0 | S118: =IF('Asstistance Exercises'!$B$43>=10,$J$7,) -> 0
C119: =Tabel279[Tredje procenttal] -> 1 | D119: x | E119: 3 | F119: @ | G119: =IF(Waves!$C$19="B",Waves!$C$16,Waves!$C$9) -> 0.9 | H119: =ROUND((G119*Bænkpres)/Afrunding,0)*Afrunding -> 0 | J119: =IF('Asstistance Exercises'!$B$46>=1,$J$7,) -> □ | K119: =IF('Asstistance Exercises'!$B$46>=2,$J$7,) -> 0 | L119: =IF('Asstistance Exercises'!$B$46>=3,$J$7,) -> 0 | M119: =IF('Asstistance Exercises'!$B$46>=4,$J$7,) -> 0 | N119: =IF('Asstistance Exercises'!$B$46>=5,$J$7,) -> 0 | O119: =IF('Asstistance Exercises'!$B$46>=6,$J$7,) -> 0 | P119: =IF('Asstistance Exercises'!$B$46>=7,$J$7,) -> 0 | Q119: =IF('Asstistance Exercises'!$B$46>=8,$J$7,) -> 0 | R119: =IF('Asstistance Exercises'!$B$46>=9,$J$7,) -> 0 | S119: =IF('Asstistance Exercises'!$B$46>=10,$J$7,) -> 0
B121: ='Asstistance Exercises'!C22 -> Flyers
C123: =IF($B121<>0,Tabel2[Sæt],) -> 5 | D123: =IF($B121<>0,"x",) -> x | E123: =IF($B121<>0,Tabel2[Reps],) -> 10 | F123: =IF($B121<>0,"@",) -> @ | G123: -- | J123: =IF($B121=0,,IF(Tabel2[Sæt]>=1,$J$7,)) -> □ | K123: =IF($B121=0,,IF(Tabel2[Sæt]>=2,$J$7,)) -> □ | L123: =IF($B121=0,,IF(Tabel2[Sæt]>=3,$J$7,)) -> □ | M123: =IF($B121=0,,IF(Tabel2[Sæt]>=4,$J$7,)) -> □ | N123: =IF($B121=0,,IF(Tabel2[Sæt]>=5,$J$7,)) -> □ | O123: =IF($B121=0,,IF(Tabel2[Sæt]>=6,$J$7,)) -> 0 | P123: =IF($B121=0,,IF(Tabel2[Sæt]>=7,$J$7,)) -> 0 | Q123: =IF($B121=0,,IF(Tabel2[Sæt]>=8,$J$7,)) -> 0 | R123: =IF($B121=0,,IF(Tabel2[Sæt]>=9,$J$7,)) -> 0 | S123: =IF($B121=0,,IF(Tabel2[Sæt]>=10,$J$7,)) -> 0
B125: ='Asstistance Exercises'!C23 -> One Arm Dumbbell Rows
C127: =IF($B125<>0,Tabel2[Sæt],) -> 5 | D127: =IF($B125<>0,"x",) -> x | E127: =IF($B125<>0,Tabel2[Reps],) -> 10 | F127: =IF($B125<>0,"@",) -> @ | G127: -- | J127: =IF($B125=0,,IF(Tabel2[Sæt]>=1,$J$7,)) -> □ | K127: =IF($B125=0,,IF(Tabel2[Sæt]>=2,$J$7,)) -> □ | L127: =IF($B125=0,,IF(Tabel2[Sæt]>=3,$J$7,)) -> □ | M127: =IF($B125=0,,IF(Tabel2[Sæt]>=4,$J$7,)) -> □ | N127: =IF($B125=0,,IF(Tabel2[Sæt]>=5,$J$7,)) -> □ | O127: =IF($B125=0,,IF(Tabel2[Sæt]>=6,$J$7,)) -> 0 | P127: =IF($B125=0,,IF(Tabel2[Sæt]>=7,$J$7,)) -> 0 | Q127: =IF($B125=0,,IF(Tabel2[Sæt]>=8,$J$7,)) -> 0 | R127: =IF($B125=0,,IF(Tabel2[Sæt]>=9,$J$7,)) -> 0 | S127: =IF($B125=0,,IF(Tabel2[Sæt]>=10,$J$7,)) -> 0
B129: ='Asstistance Exercises'!C24 -> Dips
C131: =IF($B129<>0,'Asstistance Exercises'!$B$10,) -> 5 | D131: =IF($B129<>0,"x",) -> x | E131: =IF($B129<>0,Reps_alt,) -> 15 | F131: =IF($B129<>0,"@",) -> @ | G131: -- | J131: =IF($B129=0,,IF('Asstistance Exercises'!$B$10>=1,$J$7,)) -> □ | K131: =IF($B129=0,,IF('Asstistance Exercises'!$B$10>=2,$J$7,)) -> □ | L131: =IF($B129=0,,IF('Asstistance Exercises'!$B$10>=3,$J$7,)) -> □ | M131: =IF($B129=0,,IF('Asstistance Exercises'!$B$10>=4,$J$7,)) -> □ | N131: =IF($B129=0,,IF('Asstistance Exercises'!$B$10>=5,$J$7,)) -> □ | O131: =IF($B129=0,,IF('Asstistance Exercises'!$B$10>=6,$J$7,)) -> 0 | P131: =IF($B129=0,,IF('Asstistance Exercises'!$B$10>=7,$J$7,)) -> 0 | Q131: =IF($B129=0,,IF('Asstistance Exercises'!$B$10>=8,$J$7,)) -> 0 | R131: =IF($B129=0,,IF('Asstistance Exercises'!$B$10>=9,$J$7,)) -> 0 | S131: =IF($B129=0,,IF('Asstistance Exercises'!$B$10>=10,$J$7,)) -> 0
B134: Uge 2 | E134: - | F134: =Træningsdage!$C$6 -> Fredag | H134: - | I134: =C139*E139+C140*E140+C141*E141+C145*E145+C149*E149+C153*E153 -> 184 | U134: =C139+C140+C141+C145+C149+C153 -> 18
B136: Dødløft
C138: Opvarmning
C139: =Tabel27[Første procenttal] -> 1 | D139: x | E139: 3 | F139: @ | G139: =IF(Waves!$C$19="B",Waves!$C$14,Waves!$C$7) -> 0.8 | H139: =ROUND((G139*Dødløft)/Afrunding,0)*Afrunding -> 0 | J139: =IF('Asstistance Exercises'!$B$40>=1,Settings!$A$4,) -> □ | K139: =IF('Asstistance Exercises'!$B$40>=2,$J$7,) -> 0 | L139: =IF('Asstistance Exercises'!$B$40>=3,$J$7,) -> 0 | M139: =IF('Asstistance Exercises'!$B$40>=4,$J$7,) -> 0 | N139: =IF('Asstistance Exercises'!$B$40>=5,$J$7,) -> 0 | O139: =IF('Asstistance Exercises'!$B$40>=6,$J$7,) -> 0 | P139: =IF('Asstistance Exercises'!$B$40>=7,$J$7,) -> 0 | Q139: =IF('Asstistance Exercises'!$B$40>=8,$J$7,) -> 0 | R139: =IF('Asstistance Exercises'!$B$40>=9,$J$7,) -> 0 | S139: =IF('Asstistance Exercises'!$B$40>=10,$J$7,) -> 0
C140: =Tabel278[Andet procenttal] -> 1 | D140: x | E140: 3 | F140: @ | G140: =IF(Waves!$C$19="B",Waves!$C$15,Waves!$C$8) -> 0.85 | H140: =ROUND((G140*Dødløft)/Afrunding,0)*Afrunding -> 0 | J140: =IF('Asstistance Exercises'!$B$43>=1,$J$7,) -> □ | K140: =IF('Asstistance Exercises'!$B$43>=2,$J$7,) -> 0 | L140: =IF('Asstistance Exercises'!$B$43>=3,$J$7,) -> 0 | M140: =IF('Asstistance Exercises'!$B$43>=4,$J$7,) -> 0 | N140: =IF('Asstistance Exercises'!$B$43>=5,$J$7,) -> 0 | O140: =IF('Asstistance Exercises'!$B$43>=6,$J$7,) -> 0 | P140: =IF('Asstistance Exercises'!$B$43>=7,$J$7,) -> 0 | Q140: =IF('Asstistance Exercises'!$B$43>=8,$J$7,) -> 0 | R140: =IF('Asstistance Exercises'!$B$43>=9,$J$7,) -> 0 | S140: =IF('Asstistance Exercises'!$B$43>=10,$J$7,) -> 0
C141: =Tabel279[Tredje procenttal] -> 1 | D141: x | E141: 3 | F141: @ | G141: =IF(Waves!$C$19="B",Waves!$C$16,Waves!$C$9) -> 0.9 | H141: =ROUND((G141*Dødløft)/Afrunding,0)*Afrunding -> 0 | J141: =IF('Asstistance Exercises'!$B$46>=1,$J$7,) -> □ | K141: =IF('Asstistance Exercises'!$B$46>=2,$J$7,) -> 0 | L141: =IF('Asstistance Exercises'!$B$46>=3,$J$7,) -> 0 | M141: =IF('Asstistance Exercises'!$B$46>=4,$J$7,) -> 0 | N141: =IF('Asstistance Exercises'!$B$46>=5,$J$7,) -> 0 | O141: =IF('Asstistance Exercises'!$B$46>=6,$J$7,) -> 0 | P141: =IF('Asstistance Exercises'!$B$46>=7,$J$7,) -> 0 | Q141: =IF('Asstistance Exercises'!$B$46>=8,$J$7,) -> 0 | R141: =IF('Asstistance Exercises'!$B$46>=9,$J$7,) -> 0 | S141: =IF('Asstistance Exercises'!$B$46>=10,$J$7,) -> 0
B143: ='Asstistance Exercises'!C27 -> Dumbbell Curls
C145: =IF($B143<>0,Tabel2[Sæt],) -> 5 | D145: =IF($B143<>0,"x",) -> x | E145: =IF($B143<>0,Tabel2[Reps],) -> 10 | F145: =IF($B143<>0,"@",) -> @ | G145: -- | J145: =IF($B143=0,,IF(Tabel2[Sæt]>=1,$J$7,)) -> □ | K145: =IF($B143=0,,IF(Tabel2[Sæt]>=2,$J$7,)) -> □ | L145: =IF($B143=0,,IF(Tabel2[Sæt]>=3,$J$7,)) -> □ | M145: =IF($B143=0,,IF(Tabel2[Sæt]>=4,$J$7,)) -> □ | N145: =IF($B143=0,,IF(Tabel2[Sæt]>=5,$J$7,)) -> □ | O145: =IF($B143=0,,IF(Tabel2[Sæt]>=6,$J$7,)) -> 0 | P145: =IF($B143=0,,IF(Tabel2[Sæt]>=7,$J$7,)) -> 0 | Q145: =IF($B143=0,,IF(Tabel2[Sæt]>=8,$J$7,)) -> 0 | R145: =IF($B143=0,,IF(Tabel2[Sæt]>=9,$J$7,)) -> 0 | S145: =IF($B143=0,,IF(Tabel2[Sæt]>=10,$J$7,)) -> 0
B147: ='Asstistance Exercises'!C28 -> Hanging Leg Raises
C149: =IF($B147<>0,'Asstistance Exercises'!$B$10,) -> 5 | D149: =IF($B147<>0,"x",) -> x | E149: =IF($B147<>0,Reps_alt,) -> 15 | F149: =IF($B147<>0,"@",) -> @ | G149: -- | J149: =IF($B147=0,,IF('Asstistance Exercises'!$B$10>=1,$J$7,)) -> □ | K149: =IF($B147=0,,IF('Asstistance Exercises'!$B$10>=2,$J$7,)) -> □ | L149: =IF($B147=0,,IF('Asstistance Exercises'!$B$10>=3,$J$7,)) -> □ | M149: =IF($B147=0,,IF('Asstistance Exercises'!$B$10>=4,$J$7,)) -> □ | N149: =IF($B147=0,,IF('Asstistance Exercises'!$B$10>=5,$J$7,)) -> □ | O149: =IF($B147=0,,IF('Asstistance Exercises'!$B$10>=6,$J$7,)) -> 0 | P149: =IF($B147=0,,IF('Asstistance Exercises'!$B$10>=7,$J$7,)) -> 0 | Q149: =IF($B147=0,,IF('Asstistance Exercises'!$B$10>=8,$J$7,)) -> 0 | R149: =IF($B147=0,,IF('Asstistance Exercises'!$B$10>=9,$J$7,)) -> 0 | S149: =IF($B147=0,,IF('Asstistance Exercises'!$B$10>=10,$J$7,)) -> 0
B151: ='Asstistance Exercises'!C29 -> Dumbbell Shrugs
C153: =IF($B151<>0,Tabel2[Sæt],) -> 5 | D153: =IF($B151<>0,"x",) -> x | E153: =IF($B151<>0,Tabel2[Reps],) -> 10 | F153: =IF($B151<>0,"@",) -> @ | G153: -- | J153: =IF($B151=0,,IF(Tabel2[Sæt]>=1,$J$7,)) -> □ | K153: =IF($B151=0,,IF(Tabel2[Sæt]>=2,$J$7,)) -> □ | L153: =IF($B151=0,,IF(Tabel2[Sæt]>=3,$J$7,)) -> □ | M153: =IF($B151=0,,IF(Tabel2[Sæt]>=4,$J$7,)) -> □ | N153: =IF($B151=0,,IF(Tabel2[Sæt]>=5,$J$7,)) -> □ | O153: =IF($B151=0,,IF(Tabel2[Sæt]>=6,$J$7,)) -> 0 | P153: =IF($B151=0,,IF(Tabel2[Sæt]>=7,$J$7,)) -> 0 | Q153: =IF($B151=0,,IF(Tabel2[Sæt]>=8,$J$7,)) -> 0 | R153: =IF($B151=0,,IF(Tabel2[Sæt]>=9,$J$7,)) -> 0 | S153: =IF($B151=0,,IF(Tabel2[Sæt]>=10,$J$7,)) -> 0
B156: Uge 2 | E156: - | F156: =Træningsdage!$C$7 -> Søndag | H156: - | I156: =C161*E161+C162*E162+C163*E163+C167*E167+C171*E171+C175*E175 -> 109 | U156: =C161+C162+C163+C167+C171+C175 -> 13
B158: OHP
C160: Opvarmning
C161: =Tabel27[Første procenttal] -> 1 | D161: x | E161: 3 | F161: @ | G161: =IF(Waves!$C$19="B",Waves!$C$14,Waves!$C$7) -> 0.8 | H161: =ROUND((G161*OHP)/Afrunding,0)*Afrunding -> 0 | J161: =IF('Asstistance Exercises'!$B$40>=1,Settings!$A$4,) -> □ | K161: =IF('Asstistance Exercises'!$B$40>=2,$J$7,) -> 0 | L161: =IF('Asstistance Exercises'!$B$40>=3,$J$7,) -> 0 | M161: =IF('Asstistance Exercises'!$B$40>=4,$J$7,) -> 0 | N161: =IF('Asstistance Exercises'!$B$40>=5,$J$7,) -> 0 | O161: =IF('Asstistance Exercises'!$B$40>=6,$J$7,) -> 0 | P161: =IF('Asstistance Exercises'!$B$40>=7,$J$7,) -> 0 | Q161: =IF('Asstistance Exercises'!$B$40>=8,$J$7,) -> 0 | R161: =IF('Asstistance Exercises'!$B$40>=9,$J$7,) -> 0 | S161: =IF('Asstistance Exercises'!$B$40>=10,$J$7,) -> 0
C162: =Tabel278[Andet procenttal] -> 1 | D162: x | E162: 3 | F162: @ | G162: =IF(Waves!$C$19="B",Waves!$C$15,Waves!$C$8) -> 0.85 | H162: =ROUND((G162*OHP)/Afrunding,0)*Afrunding -> 0 | J162: =IF('Asstistance Exercises'!$B$43>=1,$J$7,) -> □ | K162: =IF('Asstistance Exercises'!$B$43>=2,$J$7,) -> 0 | L162: =IF('Asstistance Exercises'!$B$43>=3,$J$7,) -> 0 | M162: =IF('Asstistance Exercises'!$B$43>=4,$J$7,) -> 0 | N162: =IF('Asstistance Exercises'!$B$43>=5,$J$7,) -> 0 | O162: =IF('Asstistance Exercises'!$B$43>=6,$J$7,) -> 0 | P162: =IF('Asstistance Exercises'!$B$43>=7,$J$7,) -> 0 | Q162: =IF('Asstistance Exercises'!$B$43>=8,$J$7,) -> 0 | R162: =IF('Asstistance Exercises'!$B$43>=9,$J$7,) -> 0 | S162: =IF('Asstistance Exercises'!$B$43>=10,$J$7,) -> 0
C163: =Tabel279[Tredje procenttal] -> 1 | D163: x | E163: 3 | F163: @ | G163: =IF(Waves!$C$19="B",Waves!$C$16,Waves!$C$9) -> 0.9 | H163: =ROUND((G163*OHP)/Afrunding,0)*Afrunding -> 0 | J163: =IF('Asstistance Exercises'!$B$46>=1,$J$7,) -> □ | K163: =IF('Asstistance Exercises'!$B$46>=2,$J$7,) -> 0 | L163: =IF('Asstistance Exercises'!$B$46>=3,$J$7,) -> 0 | M163: =IF('Asstistance Exercises'!$B$46>=4,$J$7,) -> 0 | N163: =IF('Asstistance Exercises'!$B$46>=5,$J$7,) -> 0 | O163: =IF('Asstistance Exercises'!$B$46>=6,$J$7,) -> 0 | P163: =IF('Asstistance Exercises'!$B$46>=7,$J$7,) -> 0 | Q163: =IF('Asstistance Exercises'!$B$46>=8,$J$7,) -> 0 | R163: =IF('Asstistance Exercises'!$B$46>=9,$J$7,) -> 0 | S163: =IF('Asstistance Exercises'!$B$46>=10,$J$7,) -> 0
B165: ='Asstistance Exercises'!C32 -> French Press
C167: =IF($B165<>0,Tabel2[Sæt],) -> 5 | D167: =IF($B165<>0,"x",) -> x | E167: =IF($B165<>0,Tabel2[Reps],) -> 10 | F167: =IF($B165<>0,"@",) -> @ | G167: -- | J167: =IF($B165=0,,IF(Tabel2[Sæt]>=1,$J$7,)) -> □ | K167: =IF($B165=0,,IF(Tabel2[Sæt]>=2,$J$7,)) -> □ | L167: =IF($B165=0,,IF(Tabel2[Sæt]>=3,$J$7,)) -> □ | M167: =IF($B165=0,,IF(Tabel2[Sæt]>=4,$J$7,)) -> □ | N167: =IF($B165=0,,IF(Tabel2[Sæt]>=5,$J$7,)) -> □ | O167: =IF($B165=0,,IF(Tabel2[Sæt]>=6,$J$7,)) -> 0 | P167: =IF($B165=0,,IF(Tabel2[Sæt]>=7,$J$7,)) -> 0 | Q167: =IF($B165=0,,IF(Tabel2[Sæt]>=8,$J$7,)) -> 0 | R167: =IF($B165=0,,IF(Tabel2[Sæt]>=9,$J$7,)) -> 0 | S167: =IF($B165=0,,IF(Tabel2[Sæt]>=10,$J$7,)) -> 0
B169: ='Asstistance Exercises'!C33 -> Chin-ups → Close Grip Lat Pulldowns
C171: =IF($B169<>0,Tabel2[Sæt],) -> 5 | D171: =IF($B169<>0,"x",) -> x | E171: =IF($B169<>0,Tabel2[Reps],) -> 10 | F171: =IF($B169<>0,"@",) -> @ | G171: -- | J171: =IF($B169=0,,IF(Tabel2[Sæt]>=1,$J$7,)) -> □ | K171: =IF($B169=0,,IF(Tabel2[Sæt]>=2,$J$7,)) -> □ | L171: =IF($B169=0,,IF(Tabel2[Sæt]>=3,$J$7,)) -> □ | M171: =IF($B169=0,,IF(Tabel2[Sæt]>=4,$J$7,)) -> □ | N171: =IF($B169=0,,IF(Tabel2[Sæt]>=5,$J$7,)) -> □ | O171: =IF($B169=0,,IF(Tabel2[Sæt]>=6,$J$7,)) -> 0 | P171: =IF($B169=0,,IF(Tabel2[Sæt]>=7,$J$7,)) -> 0 | Q171: =IF($B169=0,,IF(Tabel2[Sæt]>=8,$J$7,)) -> 0 | R171: =IF($B169=0,,IF(Tabel2[Sæt]>=9,$J$7,)) -> 0 | S171: =IF($B169=0,,IF(Tabel2[Sæt]>=10,$J$7,)) -> 0
B173: ='Asstistance Exercises'!C34 -> 0
C175: =IF($B173<>0,Tabel2[Sæt],) -> 0 | D175: =IF($B173<>0,"x",) -> 0 | E175: =IF($B173<>0,Tabel2[Reps],) -> 0 | F175: =IF($B173<>0,"@",) -> 0 | G175: -- | J175: =IF($B173=0,,IF(Tabel2[Sæt]>=1,$J$7,)) -> 0 | K175: =IF($B173=0,,IF(Tabel2[Sæt]>=2,$J$7,)) -> 0 | L175: =IF($B173=0,,IF(Tabel2[Sæt]>=3,$J$7,)) -> 0 | M175: =IF($B173=0,,IF(Tabel2[Sæt]>=4,$J$7,)) -> 0 | N175: =IF($B173=0,,IF(Tabel2[Sæt]>=5,$J$7,)) -> 0 | O175: =IF($B173=0,,IF(Tabel2[Sæt]>=6,$J$7,)) -> 0 | P175: =IF($B173=0,,IF(Tabel2[Sæt]>=7,$J$7,)) -> 0 | Q175: =IF($B173=0,,IF(Tabel2[Sæt]>=8,$J$7,)) -> 0 | R175: =IF($B173=0,,IF(Tabel2[Sæt]>=9,$J$7,)) -> 0 | S175: =IF($B173=0,,IF(Tabel2[Sæt]>=10,$J$7,)) -> 0
B178: Uge 3 | E178: - | F178: =Træningsdage!$C$4 -> Mandag | H178: - | I178: =C183*E183+C184*E184+C185*E185+C189*E189+C193*E193+C197*E197 -> 159 | U178: =C183+C184+C185+C189+C193+C197 -> 18
B180: Squat
C182: Opvarmning
C183: =Tabel27[Første procenttal] -> 1 | D183: x | E183: 5 | F183: @ | G183: =IF(Waves!$C$19="B",Waves!$D$14,Waves!$D$7) -> 0.75 | H183: =ROUND((G183*Squat)/Afrunding,0)*Afrunding -> 0 | J183: =IF('Asstistance Exercises'!$B$40>=1,Settings!$A$4,) -> □ | K183: =IF('Asstistance Exercises'!$B$40>=2,$J$7,) -> 0 | L183: =IF('Asstistance Exercises'!$B$40>=3,$J$7,) -> 0 | M183: =IF('Asstistance Exercises'!$B$40>=4,$J$7,) -> 0 | N183: =IF('Asstistance Exercises'!$B$40>=5,$J$7,) -> 0 | O183: =IF('Asstistance Exercises'!$B$40>=6,$J$7,) -> 0 | P183: =IF('Asstistance Exercises'!$B$40>=7,$J$7,) -> 0 | Q183: =IF('Asstistance Exercises'!$B$40>=8,$J$7,) -> 0 | R183: =IF('Asstistance Exercises'!$B$40>=9,$J$7,) -> 0 | S183: =IF('Asstistance Exercises'!$B$40>=10,$J$7,) -> 0
...

Sheet Opvarmning
A2: Vælg, hvis du vil, én af de følgende opvarmningsrutiner. Disse udføres efter en normal tur på løbebåndet eller lign. Husk også at strække ud.
B4: Opvarmning
B6: Squat
R7: Pause ≈ 1 min
C8: 1 | D8: x | E8: 5 | F8: @ | G8: 0.4 | H8: =ROUND((G8*'1RM'!$C$6)/Settings!$C$2,0)*Settings!$C$2 -> 0 | J8: □
C9: 1 | D9: x | E9: 5 | F9: @ | G9: 0.5 | H9: =ROUND((G9*'1RM'!$C$6)/Settings!$C$2,0)*Settings!$C$2 -> 0 | J9: □
C10: 1 | D10: x | E10: 3 | F10: @ | G10: 0.6 | H10: =ROUND((G10*'1RM'!$C$6)/Settings!$C$2,0)*Settings!$C$2 -> 0 | J10: □
B12: Bænkpres
R13: Pause ≈ 1 min
C14: 1 | D14: x | E14: 5 | F14: @ | G14: 0.4 | H14: =ROUND((G14*'1RM'!$C$5)/Settings!$C$2,0)*Settings!$C$2 -> 0 | J14: □
C15: 1 | D15: x | E15: 5 | F15: @ | G15: 0.5 | H15: =ROUND((G15*'1RM'!$C$5)/Settings!$C$2,0)*Settings!$C$2 -> 0 | J15: □
C16: 1 | D16: x | E16: 3 | F16: @ | G16: 0.6 | H16: =ROUND((G16*'1RM'!$C$5)/Settings!$C$2,0)*Settings!$C$2 -> 0 | J16: □
B18: Dødløft
R19: Pause ≈ 1 min
C20: 1 | D20: x | E20: 5 | F20: @ | G20: 0.4 | H20: =ROUND((G20*'1RM'!$C$7)/Settings!$C$2,0)*Settings!$C$2 -> 0 | J20: □
C21: 1 | D21: x | E21: 5 | F21: @ | G21: 0.5 | H21: =ROUND((G21*'1RM'!$C$7)/Settings!$C$2,0)*Settings!$C$2 -> 0 | J21: □
C22: 1 | D22: x | E22: 3 | F22: @ | G22: 0.6 | H22: =ROUND((G22*'1RM'!$C$7)/Settings!$C$2,0)*Settings!$C$2 -> 0 | J22: □
B24: OHP
R25: Pause ≈ 1 min
C26: 1 | D26: x | E26: 5 | F26: @ | G26: 0.4 | H26: =ROUND((G26*'1RM'!$C$8)/Settings!$C$2,0)*Settings!$C$2 -> 0 | J26: □
C27: 1 | D27: x | E27: 5 | F27: @ | G27: 0.5 | H27: =ROUND((G27*'1RM'!$C$8)/Settings!$C$2,0)*Settings!$C$2 -> 0 | J27: □
C28: 1 | D28: x | E28: 3 | F28: @ | G28: 0.6 | H28: =ROUND((G28*'1RM'!$C$8)/Settings!$C$2,0)*Settings!$C$2 -> 0 | J28: □
B31: Opvarmning 2
B33: Squat
R34: Pause ≈ 1 min
C35: 1 | D35: x | E35: 15 | F35: @ | G35: -- | H35: Stang | J35: □
C36: 1 | D36: x | E36: 10 | F36: @ | G36: 0.4 | H36: =ROUND((G36*'1RM'!$C$6)/Settings!$C$2,0)*Settings!$C$2 -> 0 | J36: □
C37: 1 | D37: x | E37: 5 | F37: @ | G37: 0.7 | H37: =ROUND((G37*'1RM'!$C$6)/Settings!$C$2,0)*Settings!$C$2 -> 0 | J37: □
C38: 1 | D38: x | E38: 3 | F38: @ | G38: 0.85 | H38: =ROUND((G38*'1RM'!$C$6)/Settings!$C$2,0)*Settings!$C$2 -> 0 | J38: □
B40: Bænkpres
R41: Pause ≈ 1 min
C42: 1 | D42: x | E42: 15 | F42: @ | G42: -- | H42: Stang | J42: □
C43: 1 | D43: x | E43: 10 | F43: @ | G43: 0.7 | H43: =ROUND((G43*'1RM'!$C$5)/Settings!$C$2,0)*Settings!$C$2 -> 0 | J43: □
C44: 1 | D44: x | E44: 5 | F44: @ | G44: 0.85 | H44: =ROUND((G44*'1RM'!$C$5)/Settings!$C$2,0)*Settings!$C$2 -> 0 | J44: □
B46: Dødløft
R47: Pause ≈ 1 min
C48: 1 | D48: x | E48: 15 | F48: @ | G48: -- | H48: Stang | J48: □
C49: 1 | D49: x | E49: 10 | F49: @ | G49: 0.4 | H49: =ROUND((G49*'1RM'!$C$7)/Settings!$C$2,0)*Settings!$C$2 -> 0 | J49: □
C50: 1 | D50: x | E50: 5 | F50: @ | G50: 0.7 | H50: =ROUND((G50*'1RM'!$C$7)/Settings!$C$2,0)*Settings!$C$2 -> 0 | J50: □
C51: 1 | D51: x | E51: 3 | F51: @ | G51: 0.85 | H51: =ROUND((G51*'1RM'!$C$7)/Settings!$C$2,0)*Settings!$C$2 -> 0 | J51: □
B53: OHP
R54: Pause ≈ 1 min
C55: 1 | D55: x | E55: 15 | F55: @ | G55: -- | H55: Stang | J55: □
C56: 1 | D56: x | E56: 10 | F56: @ | G56: 0.7 | H56: =ROUND((G56*'1RM'!$C$8)/Settings!$C$2,0)*Settings!$C$2 -> 0 | J56: □
C57: 1 | D57: x | E57: 5 | F57: @ | G57: 0.85 | H57: =ROUND((G57*'1RM'!$C$8)/Settings!$C$2,0)*Settings!$C$2 -> 0 | J57: □

Sheet Strip down
A2: Hvis du i assistance-øvelserne starter med en vægt, kan du efter et par sæt, hvis det er nødvendigt, falde med 2,5 - 5 kg og lave et par sæt mere.

Sheet Stigning
A2: Efter hver mesocycle (4 uger) stiger du 2,5 kg i bænkpres og OHP og 5 kg i squat og dødløft.
A3: Der er 13 mesocycles om året.
A4: På den måde stiger du altså 65 kg i squat og dødløft og 32,5 kg i bænkpres og OHP om året.

Sheet Plateau
A2: Rammer du et plateau, hvor du ikke kan stige mere uden at faile dine planlagte sæt/reps, anbefales det, at du sætter dit max (i programmet) til 90% af dit faktiske max. Så stiger du ellers, som programmet foreskriver. Dette skulle bryde dit plateau.

Sheet Settings
A2: Afrund til nærmeste | C2: 2.5 | D2: enhed(er)
A4: □ | B4: Til venstre er en firkant, som sættes ind ved hver øvelse og repræsenterer hvert sæt. De kan krydses af, når du har udført dem i fitness-centret. Så har du altid styr på, hvor du er.
B5: Antallet af firkanter tilpasser sig automatisk efter hvor mange sæt, du laver i de givne øvelser.
