Workbook

Sheet Max
A1: Enter your maxes here: | Z1: Made by ChaseT 2008.05.09
A2: Squat | B2: 200
A3: Bench | B3: 85
A4: Deadlift | B4: 160

Sheet Volume Calcs
A1: Volume Calculations
C6: These graphs show you volume vs intensity | U6: These graphs show the type of loading | AT6: These graphs show the focus of the loading
B10: Adaptation
G28: Poundage | U28: Squat | AC28: Bench | AK28: Deadlift
A29: 4 Day Prep | B29: Squat | C29: Bench | D29: Dead | E29: NL | G29: Squat | H29: Bench | I29: Dead | K29: Avg Wt. | M29: Squat | N29: Bench | O29: Dead | U29: % | V29: Week 1 | W29: Week 2 | X29: Week 3 | Y29: Week 4 | Z29: Month | AC29: % | AD29: Week 1 | AE29: Week 2 | AF29: Week 3 | AG29: Week 4 | AH29: Month | AK29: % | AL29: Week 1 | AM29: Week 2 | AN29: Week 3 | AO29: Week 4 | AP29: Month | AT29: % of Lifts | AU29: Week 1 | AV29: Week 2 | AW29: Week 3 | AX29: Week 4 | AY29: Month
A30: 1 | B30: ='4 day Prep'!G64 -> 52 | C30: ='4 day Prep'!I64 -> 105 | D30: ='4 day Prep'!K64 -> 61 | E30: =SUM(B30:D30) -> 218 | G30: ='4 day Prep'!H64 -> 6020 | H30: ='4 day Prep'!J64 -> 6069 | I30: ='4 day Prep'!L64 -> 6528 | J30: =SUM(G30:I30) -> 18617 | K30: =J30/E30 -> 85.399083 | M30: =G30/B30/Max!B2 -> 0.57884615 | N30: =H30/C30/Max!B3 -> 0.68 | O30: =I30/D30/Max!B4 -> 0.66885246 | U30: 50-59 | V30: ='4 day Prep'!$M$64 -> 18 | W30: ='4 day Prep'!$M$117 -> 21 | X30: ='4 day Prep'!$M$185 -> 21 | Y30: ='4 day Prep'!$M$254 -> 23 | Z30: =SUM(V30:Y30) -> 83 | AC30: 50-59 | AD30: ='4 day Prep'!$R$64 -> 15 | AE30: ='4 day Prep'!$R$117 -> 12 | AF30: ='4 day Prep'!$R$185 -> 21 | AG30: ='4 day Prep'!$R$254 -> 19 | AH30: =SUM(AD30:AG30) -> 67 | AK30: 50-59 | AL30: ='4 day Prep'!$W$64 -> 12 | AM30: ='4 day Prep'!$W$117 -> 6 | AN30: ='4 day Prep'!$W$185 -> 9 | AO30: ='4 day Prep'!$W$254 -> 9 | AP30: =SUM(AL30:AO30) -> 36 | AT30: Squat | AU30: =V35/(V35+AD35+AL35) -> 0.20952381 | AV30: =W35/(W35+AE35+AM35) -> 0.27152318 | AW30: =X35/(X35+AF35+AN35) -> 0.2055336 | AX30: =Y35/(Y35+AG35+AO35) -> 0.23140496 | AY30: =Z35/(Z35+AH35+AP35) -> 0.22546729
A31: 2 | B31: ='4 day Prep'!G117 -> 49 | C31: ='4 day Prep'!I117 -> 78 | D31: ='4 day Prep'!K117 -> 32 | E31: =SUM(B31:D31) -> 159 | G31: ='4 day Prep'!H117 -> 5610 | H31: ='4 day Prep'!J117 -> 4488 | I31: ='4 day Prep'!L117 -> 3400 | J31: =SUM(G31:I31) -> 13498 | K31: =J31/E31 -> 84.893082 | M31: =G31/B31/Max!B2 -> 0.57244898 | N31: =H31/C31/Max!B3 -> 0.67692308 | O31: =I31/D31/Max!B4 -> 0.6640625 | U31: 60-69 | V31: ='4 day Prep'!$N$64 -> 6 | W31: ='4 day Prep'!$N$117 -> 4 | X31: ='4 day Prep'!$N$185 -> 7 | Y31: ='4 day Prep'!$N$254 -> 7 | Z31: =SUM(V31:Y31) -> 24 | AC31: 60-69 | AD31: ='4 day Prep'!$S$64 -> 16 | AE31: ='4 day Prep'!$S$117 -> 25 | AF31: ='4 day Prep'!$S$185 -> 52 | AG31: ='4 day Prep'!$S$254 -> 44 | AH31: =SUM(AD31:AG31) -> 137 | AK31: 60-69 | AL31: ='4 day Prep'!$X$64 -> 17 | AM31: ='4 day Prep'!$X$117 -> 6 | AN31: ='4 day Prep'!$X$185 -> 13 | AO31: ='4 day Prep'!$X$254 -> 12 | AP31: =SUM(AL31:AO31) -> 48 | AT31: Bench | AU31: =AD35/(V35+AD35+AL35) -> 0.5 | AV31: =AE35/(W35+AE35+AM35) -> 0.51655629 | AW31: =AF35/(X35+AF35+AN35) -> 0.49802372 | AX31: =AG35/(Y35+AG35+AO35) -> 0.5 | AY31: =AH35/(Z35+AH35+AP35) -> 0.50233645
A32: 3 | B32: ='4 day Prep'!G185 -> 56 | C32: ='4 day Prep'!I185 -> 126 | D32: ='4 day Prep'!K185 -> 75 | E32: =SUM(B32:D32) -> 257 | G32: ='4 day Prep'!H185 -> 6990 | H32: ='4 day Prep'!J185 -> 7067.75 | I32: ='4 day Prep'!L185 -> 8352 | J32: =SUM(G32:I32) -> 22409.75 | K32: =J32/E32 -> 87.197471 | M32: =G32/B32/Max!B2 -> 0.62410714 | N32: =H32/C32/Max!B3 -> 0.65992063 | O32: =I32/D32/Max!B4 -> 0.696 | U32: 70-79 | V32: ='4 day Prep'!$O$64 -> 20 | W32: ='4 day Prep'!$O$117 -> 6 | X32: ='4 day Prep'!$O$185 -> 14 | Y32: ='4 day Prep'!$O$254 -> 6 | Z32: =SUM(V32:Y32) -> 46 | AC32: 70-79 | AD32: ='4 day Prep'!$T$64 -> 62 | AE32: ='4 day Prep'!$T$117 -> 21 | AF32: ='4 day Prep'!$T$185 -> 36 | AG32: ='4 day Prep'!$T$254 -> 20 | AH32: =SUM(AD32:AG32) -> 139 | AK32: 70-79 | AL32: ='4 day Prep'!$Y$64 -> 26 | AM32: ='4 day Prep'!$Y$117 -> 20 | AN32: ='4 day Prep'!$Y$185 -> 37 | AO32: ='4 day Prep'!$Y$254 -> 29 | AP32: =SUM(AL32:AO32) -> 112 | AT32: Deadlift | AU32: =AL35/(AL35+AD35+V35) -> 0.29047619 | AV32: =AM35/(AM35+AE35+W35) -> 0.21192053 | AW32: =AN35/(AN35+AF35+X35) -> 0.29644269 | AX32: =AO35/(AO35+AG35+Y35) -> 0.26859504 | AY32: =AP35/(AP35+AH35+Z35) -> 0.27219626
A33: 4 | B33: ='4 day Prep'!G254 -> 62 | C33: ='4 day Prep'!I254 -> 121 | D33: ='4 day Prep'!K254 -> 65 | E33: =SUM(B33:D33) -> 248 | G33: ='4 day Prep'!H254 -> 7780 | H33: ='4 day Prep'!J254 -> 7059.25 | I33: ='4 day Prep'!L254 -> 7248 | J33: =SUM(G33:I33) -> 22087.25 | K33: =J33/E33 -> 89.061492 | M33: =G33/B33/Max!B2 -> 0.62741935 | N33: =H33/C33/Max!B3 -> 0.68636364 | O33: =I33/D33/Max!B4 -> 0.69692308 | U33: 80-89 | V33: ='4 day Prep'!$P$64 -> 0 | W33: ='4 day Prep'!$P$117 -> 10 | X33: ='4 day Prep'!$P$185 -> 10 | Y33: ='4 day Prep'!$P$254 -> 20 | Z33: =SUM(V33:Y33) -> 40 | AC33: 80-89 | AD33: ='4 day Prep'!$U$64 -> 12 | AE33: ='4 day Prep'!$U$117 -> 17 | AF33: ='4 day Prep'!$U$185 -> 14 | AG33: ='4 day Prep'!$U$254 -> 32 | AH33: =SUM(AD33:AG33) -> 75 | AK33: 80-89 | AL33: ='4 day Prep'!$Z$64 -> 6 | AM33: ='4 day Prep'!$Z$117 -> 0 | AN33: ='4 day Prep'!$Z$185 -> 16 | AO33: ='4 day Prep'!$Z$254 -> 9 | AP33: =SUM(AL33:AO33) -> 31
A34: Total | B34: =SUM(B30:B33) -> 219 | C34: =SUM(C30:C33) -> 430 | D34: =SUM(D30:D33) -> 233 | E34: =SUM(E30:E33) -> 882 | G34: =SUM(G30:G33) -> 26400 | H34: =SUM(H30:H33) -> 24684 | I34: =SUM(I30:I33) -> 25528 | J34: =SUM(J30:J33) -> 76612 | K34: =J34/E34 -> 86.861678 | M34: =G34/B34/Max!B2 -> 0.60273973 | N34: =H34/C34/Max!B3 -> 0.67534884 | O34: =I34/D34/Max!B4 -> 0.68476395 | U34: 90+ | V34: ='4 day Prep'!$Q$64 -> 0 | W34: ='4 day Prep'!$Q$117 -> 0 | X34: ='4 day Prep'!$Q$185 -> 0 | Y34: ='4 day Prep'!$Q$254 -> 0 | Z34: =SUM(V34:Y34) -> 0 | AC34: 90+ | AD34: ='4 day Prep'!$V$64 -> 0 | AE34: ='4 day Prep'!$V$117 -> 3 | AF34: ='4 day Prep'!$V$185 -> 3 | AG34: ='4 day Prep'!$V$254 -> 6 | AH34: =SUM(AD34:AG34) -> 12 | AK34: 90+ | AL34: ='4 day Prep'!$AA$64 -> 0 | AM34: ='4 day Prep'!$AA$117 -> 0 | AN34: ='4 day Prep'!$AA$185 -> 0 | AO34: ='4 day Prep'!$AA$254 -> 6 | AP34: =SUM(AL34:AO34) -> 6
U35: NL | V35: =SUM(V30:V34) -> 44 | W35: =SUM(W30:W34) -> 41 | X35: =SUM(X30:X34) -> 52 | Y35: =SUM(Y30:Y34) -> 56 | Z35: =SUM(V35:Y35) -> 193 | AC35: NL | AD35: =SUM(AD30:AD34) -> 105 | AE35: =SUM(AE30:AE34) -> 78 | AF35: =SUM(AF30:AF34) -> 126 | AG35: =SUM(AG30:AG34) -> 121 | AH35: =SUM(AD35:AG35) -> 430 | AK35: NL | AL35: =SUM(AL30:AL34) -> 61 | AM35: =SUM(AM30:AM34) -> 32 | AN35: =SUM(AN30:AN34) -> 75 | AO35: =SUM(AO30:AO34) -> 65 | AP35: =SUM(AL35:AO35) -> 233
U36: Avg. Int. | V36: =M30 -> 0.57884615 | W36: =M31 -> 0.57244898 | X36: =M32 -> 0.62410714 | Y36: =M33 -> 0.62741935 | Z36: =M34 -> 0.60273973 | AC36: Avg. Int. | AD36: =N30 -> 0.68 | AE36: =N31 -> 0.67692308 | AF36: =N32 -> 0.65992063 | AG36: =N33 -> 0.68636364 | AH36: =N34 -> 0.67534884 | AK36: Avg. Int. | AL36: =O30 -> 0.66885246 | AM36: =O31 -> 0.6640625 | AN36: =O32 -> 0.696 | AO36: =O33 -> 0.69692308 | AP36: =O34 -> 0.68476395
B40: Accumulation
G58: Poundage | U58: Squat | AC58: Bench | AK58: Deadlift
A59: 4 Day Prep2 | B59: Squat | C59: Bench | D59: Dead | E59: NL | G59: Squat | H59: Bench | I59: Dead | K59: Avg Wt. | M59: Squat | N59: Bench | O59: Dead | U59: % | V59: Week 1 | W59: Week 2 | X59: Week 3 | Y59: Week 4 | Z59: Week 5 | AA59: Week 6 | AB59: Cycle | AC59: % | AD59: Week 1 | AE59: Week 2 | AF59: Week 3 | AG59: Week 4 | AH59: Week 5 | AI59: Week 6 | AJ59: Cycle | AK59: % | AL59: Week 1 | AM59: Week 2 | AN59: Week 3 | AO59: Week 4 | AP59: Week 5 | AQ59: Week 6 | AR59: Cycle | AT59: % of Lifts | AU59: Week 1 | AV59: Week 2 | AW59: Week 3 | AX59: Week 4 | AY59: Week 5 | AZ59: Week 6 | BA59: Cycle
A60: 1 | B60: ='4 day Prep (2)'!G66 -> 59 | C60: ='4 day Prep (2)'!I66 -> 103 | D60: ='4 day Prep (2)'!K66 -> 59 | E60: =SUM(B60:D60) -> 221 | G60: ='4 day Prep (2)'!H66 -> 7840 | H60: ='4 day Prep (2)'!J66 -> 6103 | I60: ='4 day Prep (2)'!L66 -> 7064 | J60: =SUM(G60:I60) -> 21007 | K60: =J60/E60 -> 95.054299 | M60: =G60/B60/Max!B2 -> 0.66440678 | N60: =H60/C60/Max!B3 -> 0.69708738 | O60: =I60/D60/Max!B4 -> 0.74830508 | U60: 50-59 | V60: ='4 day Prep (2)'!$M$66 -> 10 | W60: ='4 day Prep (2)'!$M$124 -> 13 | X60: ='4 day Prep (2)'!$M$186 -> 14 | Y60: ='4 day Prep (2)'!$M$247 -> 10 | Z60: ='4 day Prep (2)'!$M$319 -> 14 | AA60: ='4 day Prep (2)'!$M$383 -> 15 | AB60: =SUM(V60:AA60) -> 76 | AC60: 50-59 | AD60: ='4 day Prep (2)'!$R$66 -> 17 | AE60: ='4 day Prep (2)'!$R$124 -> 18 | AF60: ='4 day Prep (2)'!$R$186 -> 21 | AG60: ='4 day Prep (2)'!$R$247 -> 16 | AH60: ='4 day Prep (2)'!$R$319 -> 35 | AI60: ='4 day Prep (2)'!$R$383 -> 19 | AJ60: =SUM(AD60:AI60) -> 126 | AK60: 50-59 | AL60: ='4 day Prep (2)'!$W$66 -> 3 | AM60: ='4 day Prep (2)'!$W$124 -> 9 | AN60: ='4 day Prep (2)'!$W$186 -> 6 | AO60: ='4 day Prep (2)'!$W$247 -> 9 | AP60: ='4 day Prep (2)'!$W$319 -> 14 | AQ60: ='4 day Prep (2)'!$W$383 -> 13 | AR60: =SUM(AL60:AQ60) -> 54 | AT60: Squat | AU60: =V65/(V65+AD65+AL65) -> 0.26696833 | AV60: =W65/(W65+AE65+AM65) -> 0.28061224 | AW60: =X65/(X65+AF65+AN65) -> 0.33870968 | AX60: =Y65/(Y65+AG65+AO65) -> 0.2320442 | AY60: =Z65/(Z65+AH65+AP65) -> 0.29354839 | AZ60: =AA65/(AA65+AI65+AQ65) -> 0.27169811 | BA60: =AB65/(AB65+AJ65+AR65) -> 0.2836031
A61: 2 | B61: ='4 day Prep (2)'!G124 -> 55 | C61: ='4 day Prep (2)'!I124 -> 93 | D61: ='4 day Prep (2)'!K124 -> 48 | E61: =SUM(B61:D61) -> 196 | G61: ='4 day Prep (2)'!H124 -> 7600 | H61: ='4 day Prep (2)'!J124 -> 5580.25 | I61: ='4 day Prep (2)'!L124 -> 5072 | J61: =SUM(G61:I61) -> 18252.25 | K61: =J61/E61 -> 93.123724 | M61: =G61/B61/Max!B2 -> 0.69090909 | N61: =H61/C61/Max!B3 -> 0.70591398 | O61: =I61/D61/Max!B4 -> 0.66041667 | U61: 60-69 | V61: ='4 day Prep (2)'!$N$66 -> 9 | W61: ='4 day Prep (2)'!$N$124 -> 11 | X61: ='4 day Prep (2)'!$N$186 -> 13 | Y61: ='4 day Prep (2)'!$N$247 -> 8 | Z61: ='4 day Prep (2)'!$N$319 -> 13 | AA61: ='4 day Prep (2)'!$N$383 -> 13 | AB61: =SUM(V61:AA61) -> 67 | AC61: 60-69 | AD61: ='4 day Prep (2)'!$S$66 -> 18 | AE61: ='4 day Prep (2)'!$S$124 -> 15 | AF61: ='4 day Prep (2)'!$S$186 -> 19 | AG61: ='4 day Prep (2)'!$S$247 -> 14 | AH61: ='4 day Prep (2)'!$S$319 -> 28 | AI61: ='4 day Prep (2)'!$S$383 -> 17 | AJ61: =SUM(AD61:AI61) -> 111 | AK61: 60-69 | AL61: ='4 day Prep (2)'!$X$66 -> 9 | AM61: ='4 day Prep (2)'!$X$124 -> 9 | AN61: ='4 day Prep (2)'!$X$186 -> 10 | AO61: ='4 day Prep (2)'!$X$247 -> 12 | AP61: ='4 day Prep (2)'!$X$319 -> 14 | AQ61: ='4 day Prep (2)'!$X$383 -> 19 | AR61: =SUM(AL61:AQ61) -> 73 | AT61: Bench | AU61: =AD65/(V65+AD65+AL65) -> 0.46606335 | AV61: =AE65/(W65+AE65+AM65) -> 0.4744898 | AW61: =AF65/(X65+AF65+AN65) -> 0.4233871 | AX61: =AG65/(Y65+AG65+AO65) -> 0.4640884 | AY61: =AH65/(Z65+AH65+AP65) -> 0.41612903 | AZ61: =AI65/(AA65+AI65+AQ65) -> 0.44528302 | BA61: =AJ65/(AB65+AJ65+AR65) -> 0.44475721
A62: 3 | B62: ='4 day Prep (2)'!G186 -> 84 | C62: ='4 day Prep (2)'!I186 -> 105 | D62: ='4 day Prep (2)'!K186 -> 59 | E62: =SUM(B62:D62) -> 248 | G62: ='4 day Prep (2)'!H186 -> 11100 | H62: ='4 day Prep (2)'!J186 -> 5996.75 | I62: ='4 day Prep (2)'!L186 -> 6608 | J62: =SUM(G62:I62) -> 23704.75 | K62: =J62/E62 -> 95.583669 | M62: =G62/B62/Max!B2 -> 0.66071429 | N62: =H62/C62/Max!B3 -> 0.67190476 | O62: =I62/D62/Max!B4 -> 0.7 | U62: 70-79 | V62: ='4 day Prep (2)'!$O$66 -> 32 | W62: ='4 day Prep (2)'!$O$124 -> 9 | X62: ='4 day Prep (2)'!$O$186 -> 49 | Y62: ='4 day Prep (2)'!$O$247 -> 6 | Z62: ='4 day Prep (2)'!$O$319 -> 64 | AA62: ='4 day Prep (2)'!$O$383 -> 26 | AB62: =SUM(V62:AA62) -> 186 | AC62: 70-79 | AD62: ='4 day Prep (2)'!$T$66 -> 36 | AE62: ='4 day Prep (2)'!$T$124 -> 25 | AF62: ='4 day Prep (2)'!$T$186 -> 45 | AG62: ='4 day Prep (2)'!$T$247 -> 12 | AH62: ='4 day Prep (2)'!$T$319 -> 36 | AI62: ='4 day Prep (2)'!$T$383 -> 72 | AJ62: =SUM(AD62:AI62) -> 226 | AK62: 70-79 | AL62: ='4 day Prep (2)'!$Y$66 -> 14 | AM62: ='4 day Prep (2)'!$Y$124 -> 30 | AN62: ='4 day Prep (2)'!$Y$186 -> 27 | AO62: ='4 day Prep (2)'!$Y$247 -> 17 | AP62: ='4 day Prep (2)'!$Y$319 -> 50 | AQ62: ='4 day Prep (2)'!$Y$383 -> 33 | AR62: =SUM(AL62:AQ62) -> 171 | AT62: Deadlift | AU62: =AL65/(AL65+AD65+V65) -> 0.26696833 | AV62: =AM65/(AM65+AE65+W65) -> 0.24489796 | AW62: =AN65/(AN65+AF65+X65) -> 0.23790323 | AX62: =AO65/(AO65+AG65+Y65) -> 0.3038674 | AY62: =AP65/(AP65+AH65+Z65) -> 0.29032258 | AZ62: =AQ65/(AQ65+AI65+AA65) -> 0.28301887 | BA62: =AR65/(AR65+AJ65+AB65) -> 0.27163969
A63: 4 | B63: ='4 day Prep (2)'!G247 -> 42 | C63: ='4 day Prep (2)'!I247 -> 84 | D63: ='4 day Prep (2)'!K247 -> 63 | E63: =SUM(B63:D63) -> 189 | G63: ='4 day Prep (2)'!H247 -> 5680 | H63: ='4 day Prep (2)'!J247 -> 5185 | I63: ='4 day Prep (2)'!L247 -> 6960 | J63: =SUM(G63:I63) -> 17825 | K63: =J63/E63 -> 94.312169 | M63: =G63/B63/Max!B2 -> 0.67619048 | N63: =H63/C63/Max!B3 -> 0.72619048 | O63: =I63/D63/Max!B4 -> 0.69047619 | U63: 80-89 | V63: ='4 day Prep (2)'!$P$66 -> 8 | W63: ='4 day Prep (2)'!$P$124 -> 22 | X63: ='4 day Prep (2)'!$P$186 -> 8 | Y63: ='4 day Prep (2)'!$P$247 -> 18 | Z63: ='4 day Prep (2)'!$P$319 -> 0 | AA63: ='4 day Prep (2)'!$P$383 -> 18 | AB63: =SUM(V63:AA63) -> 74 | AC63: 80-89 | AD63: ='4 day Prep (2)'!$U$66 -> 32 | AE63: ='4 day Prep (2)'!$U$124 -> 29 | AF63: ='4 day Prep (2)'!$U$186 -> 20 | AG63: ='4 day Prep (2)'!$U$247 -> 35 | AH63: ='4 day Prep (2)'!$U$319 -> 30 | AI63: ='4 day Prep (2)'!$U$383 -> 10 | AJ63: =SUM(AD63:AI63) -> 156 | AK63: 80-89 | AL63: ='4 day Prep (2)'!$Z$66 -> 33 | AM63: ='4 day Prep (2)'!$Z$124 -> 0 | AN63: ='4 day Prep (2)'!$Z$186 -> 16 | AO63: ='4 day Prep (2)'!$Z$247 -> 17 | AP63: ='4 day Prep (2)'!$Z$319 -> 12 | AQ63: ='4 day Prep (2)'!$Z$383 -> 10 | AR63: =SUM(AL63:AQ63) -> 88
A64: 5 | B64: ='4 day Prep (2)'!G319 -> 91 | C64: ='4 day Prep (2)'!I319 -> 129 | D64: ='4 day Prep (2)'!K319 -> 90 | E64: =SUM(B64:D64) -> 310 | G64: ='4 day Prep (2)'!H319 -> 12040 | H64: ='4 day Prep (2)'!J319 -> 7182.5 | I64: ='4 day Prep (2)'!L319 -> 9960 | J64: =SUM(G64:I64) -> 29182.5 | K64: =J64/E64 -> 94.137097 | M64: =G64/B64/Max!B2 -> 0.66153846 | N64: =H64/C64/Max!B3 -> 0.65503876 | O64: =I64/D64/Max!B4 -> 0.69166667 | U64: 90+ | V64: ='4 day Prep (2)'!$Q$66 -> 0 | W64: ='4 day Prep (2)'!$Q$124 -> 0 | X64: ='4 day Prep (2)'!$Q$186 -> 0 | Y64: ='4 day Prep (2)'!$Q$247 -> 0 | Z64: ='4 day Prep (2)'!$Q$319 -> 0 | AA64: ='4 day Prep (2)'!$Q$383 -> 0 | AB64: =SUM(V64:AA64) -> 0 | AC64: 90+ | AD64: ='4 day Prep (2)'!$V$66 -> 0 | AE64: ='4 day Prep (2)'!$V$124 -> 6 | AF64: ='4 day Prep (2)'!$V$186 -> 0 | AG64: ='4 day Prep (2)'!$V$247 -> 7 | AH64: ='4 day Prep (2)'!$V$319 -> 0 | AI64: ='4 day Prep (2)'!$V$383 -> 0 | AJ64: =SUM(AD64:AI64) -> 13 | AK64: 90+ | AL64: ='4 day Prep (2)'!$AA$66 -> 0 | AM64: ='4 day Prep (2)'!$AA$124 -> 0 | AN64: ='4 day Prep (2)'!$AA$186 -> 0 | AO64: ='4 day Prep (2)'!$AA$247 -> 0 | AP64: ='4 day Prep (2)'!$AA$319 -> 0 | AQ64: ='4 day Prep (2)'!$AA$383 -> 0 | AR64: =SUM(AL64:AQ64) -> 0
A65: 6 | B65: ='4 day Prep (2)'!G383 -> 42 | C65: ='4 day Prep (2)'!I383 -> 84 | D65: ='4 day Prep (2)'!K383 -> 63 | E65: =SUM(B65:D65) -> 189 | G65: ='4 day Prep (2)'!H383 -> 5680 | H65: ='4 day Prep (2)'!J383 -> 5185 | I65: ='4 day Prep (2)'!L383 -> 6960 | J65: =SUM(G65:I65) -> 17825 | K65: =J65/E65 -> 94.312169 | M65: =G65/B65/Max!B2 -> 0.67619048 | N65: =H65/C65/Max!B3 -> 0.72619048 | O65: =I65/D65/Max!B4 -> 0.69047619 | U65: NL | V65: =SUM(V60:V64) -> 59 | W65: =SUM(W60:W64) -> 55 | X65: =SUM(X60:X64) -> 84 | Y65: =SUM(Y60:Y64) -> 42 | Z65: =SUM(Z60:Z64) -> 91 | AA65: =SUM(AA60:AA64) -> 72 | AB65: =SUM(AB60:AB64) -> 403 | AC65: NL | AD65: =SUM(AD60:AD64) -> 103 | AE65: =SUM(AE60:AE64) -> 93 | AF65: =SUM(AF60:AF64) -> 105 | AG65: =SUM(AG60:AG64) -> 84 | AH65: =SUM(AH60:AH64) -> 129 | AI65: =SUM(AI60:AI64) -> 118 | AJ65: =SUM(AJ60:AJ64) -> 632 | AK65: NL | AL65: =SUM(AL60:AL64) -> 59 | AM65: =SUM(AM60:AM64) -> 48 | AN65: =SUM(AN60:AN64) -> 59 | AO65: =SUM(AO60:AO64) -> 55 | AP65: =SUM(AP60:AP64) -> 90 | AQ65: =SUM(AQ60:AQ64) -> 75 | AR65: =SUM(AL65:AQ65) -> 386
A66: Total | B66: ='4 day Prep (2)'!G386 -> 373 | C66: ='4 day Prep (2)'!I386 -> 598 | D66: ='4 day Prep (2)'!K386 -> 382 | E66: =SUM(E60:E65) -> 1353 | G66: =SUM(G60:G65) -> 49940 | H66: =SUM(H60:H65) -> 35232.5 | I66: =SUM(I60:I65) -> 42624 | J66: =SUM(J60:J65) -> 127796.5 | K66: =J66/E66 -> 94.454176 | M66: =G66/B66/Max!B2 -> 0.669437 | N66: =H66/C66/Max!B3 -> 0.69314381 | O66: =I66/D66/Max!B4 -> 0.6973822 | U66: Avg. Int. | V66: =M60 -> 0.66440678 | W66: =M61 -> 0.69090909 | X66: =M62 -> 0.66071429 | Y66: =M63 -> 0.67619048 | Z66: =M64 -> 0.66153846 | AA66: =M65 -> 0.67619048 | AB66: =M66 -> 0.669437 | AC66: Avg. Int. | AD66: =N60 -> 0.69708738 | AE66: =N61 -> 0.70591398 | AF66: =N62 -> 0.67190476 | AG66: =N63 -> 0.72619048 | AH66: =N64 -> 0.65503876 | AI66: =N65 -> 0.72619048 | AJ66: =N66 -> 0.69314381 | AK66: Avg. Int. | AL66: =O60 -> 0.74830508 | AM66: =O61 -> 0.66041667 | AN66: =O62 -> 0.7 | AO66: =O63 -> 0.69047619 | AP66: =O64 -> 0.69166667 | AQ66: =O65 -> 0.69047619 | AR66: =O66 -> 0.6973822
B70: Transmutation
G88: Poundage | U88: Squat | AC88: Bench | AK88: Deadlift
A89: 4 Day Prep3 | B89: Squat | C89: Bench | D89: Dead | E89: NL | G89: Squat | H89: Bench | I89: Dead | K89: Avg Wt. | M89: Squat | N89: Bench | O89: Dead | U89: % | V89: Week 1 | W89: Week 2 | X89: Week 3 | Y89: Week 4 | Z89: Week 5 | AA89: Cycle | AC89: % | AD89: Week 1 | AE89: Week 2 | AF89: Week 3 | AG89: Week 4 | AH89: Week 5 | AI89: Cycle | AK89: % | AL89: Week 1 | AM89: Week 2 | AN89: Week 3 | AO89: Week 4 | AP89: Week 5 | AQ89: Cycle | AT89: % of Lifts | AU89: Week 1 | AV89: Week 2 | AW89: Week 3 | AX89: Week 4 | AY89: Week 5 | AZ89: Cycle
A90: 1 | B90: ='4 day Prep (3)'!G58 -> 55 | C90: ='4 day Prep (3)'!I58 -> 62 | D90: ='4 day Prep (3)'!K58 -> 35 | E90: =SUM(B90:D90) -> 152 | G90: ='4 day Prep (3)'!H58 -> 7500 | H90: ='4 day Prep (3)'!J58 -> 3527.5 | I90: ='4 day Prep (3)'!L58 -> 4176 | J90: =SUM(G90:I90) -> 15203.5 | K90: =J90/E90 -> 100.02303 | M90: =G90/B90/Max!B2 -> 0.68181818 | N90: =H90/C90/Max!B3 -> 0.66935484 | O90: =I90/D90/Max!B4 -> 0.74571429 | U90: 50-59 | V90: ='4 day Prep (3)'!$M$58 -> 13 | W90: ='4 day Prep (3)'!$M$122 -> 15 | X90: ='4 day Prep (3)'!$M$187 -> 10 | Y90: ='4 day Prep (3)'!$M$253 -> 10 | Z90: ='4 day Prep (3)'!$M$314 -> 13 | AA90: =SUM(V90:Z90) -> 61 | AC90: 50-59 | AD90: ='4 day Prep (3)'!$R$58 -> 15 | AE90: ='4 day Prep (3)'!$R$122 -> 20 | AF90: ='4 day Prep (3)'!$R$187 -> 28 | AG90: ='4 day Prep (3)'!$R$253 -> 19 | AH90: ='4 day Prep (3)'!$R$314 -> 24 | AI90: =SUM(AD90:AH90) -> 106 | AK90: 50-59 | AL90: ='4 day Prep (3)'!$W$58 -> 3 | AM90: ='4 day Prep (3)'!$W$122 -> 8 | AN90: ='4 day Prep (3)'!$W$187 -> 11 | AO90: ='4 day Prep (3)'!$W$253 -> 7 | AP90: ='4 day Prep (3)'!$W$314 -> 9 | AQ90: =SUM(AL90:AP90) -> 38 | AT90: Squat | AU90: =V95/(V95+AD95+AL95) -> 0.36184211 | AV90: =W95/(W95+AE95+AM95) -> 0.30396476 | AW90: =X95/(X95+AF95+AN95) -> 0.24632353 | AX90: =Y95/(Y95+AG95+AO95) -> 0.28063241 | AY90: =Z95/(Z95+AH95+AP95) -> 0.21969697 | AZ90: =AA95/(AA95+AI95+AQ95) -> 0.2739726
A91: 2 | B91: ='4 day Prep (3)'!G122 -> 69 | C91: ='4 day Prep (3)'!I122 -> 94 | D91: ='4 day Prep (3)'!K122 -> 64 | E91: =SUM(B91:D91) -> 227 | G91: ='4 day Prep (3)'!H122 -> 8970 | H91: ='4 day Prep (3)'!J122 -> 5374.5 | I91: ='4 day Prep (3)'!L122 -> 6372.25 | J91: =SUM(G91:I91) -> 20716.75 | K91: =J91/E91 -> 91.263216 | M91: =G91/B91/Max!B2 -> 0.65 | N91: =H91/C91/Max!B3 -> 0.67265332 | O91: =I91/D91/Max!B4 -> 0.62229004 | U91: 60-69 | V91: ='4 day Prep (3)'!$N$58 -> 11 | W91: ='4 day Prep (3)'!$N$122 -> 13 | X91: ='4 day Prep (3)'!$N$187 -> 39 | Y91: ='4 day Prep (3)'!$N$253 -> 9 | Z91: ='4 day Prep (3)'!$N$314 -> 11 | AA91: =SUM(V91:Z91) -> 83 | AC91: 60-69 | AD91: ='4 day Prep (3)'!$S$58 -> 12 | AE91: ='4 day Prep (3)'!$S$122 -> 17 | AF91: ='4 day Prep (3)'!$S$187 -> 27 | AG91: ='4 day Prep (3)'!$S$253 -> 18 | AH91: ='4 day Prep (3)'!$S$314 -> 22 | AI91: =SUM(AD91:AH91) -> 96 | AK91: 60-69 | AL91: ='4 day Prep (3)'!$X$58 -> 6 | AM91: ='4 day Prep (3)'!$X$122 -> 11 | AN91: ='4 day Prep (3)'!$X$187 -> 11 | AO91: ='4 day Prep (3)'!$X$253 -> 10 | AP91: ='4 day Prep (3)'!$X$314 -> 12 | AQ91: =SUM(AL91:AP91) -> 50 | AT91: Bench | AU91: =AD95/(V95+AD95+AL95) -> 0.40789474 | AV91: =AE95/(W95+AE95+AM95) -> 0.41409692 | AW91: =AF95/(X95+AF95+AN95) -> 0.51470588 | AX91: =AG95/(Y95+AG95+AO95) -> 0.50592885 | AY91: =AH95/(Z95+AH95+AP95) -> 0.50757576 | AZ91: =AI95/(AA95+AI95+AQ95) -> 0.47773973
A92: 3 | B92: ='4 day Prep (3)'!G187 -> 67 | C92: ='4 day Prep (3)'!I187 -> 140 | D92: ='4 day Prep (3)'!K187 -> 65 | E92: =SUM(B92:D92) -> 272 | G92: ='4 day Prep (3)'!H187 -> 8800 | H92: ='4 day Prep (3)'!J187 -> 8075 | I92: ='4 day Prep (3)'!L187 -> 6912 | J92: =SUM(G92:I92) -> 23787 | K92: =J92/E92 -> 87.452206 | M92: =G92/B92/Max!B2 -> 0.65671642 | N92: =H92/C92/Max!B3 -> 0.67857143 | O92: =I92/D92/Max!B4 -> 0.66461538 | U92: 70-79 | V92: ='4 day Prep (3)'!$O$58 -> 17 | W92: ='4 day Prep (3)'!$O$122 -> 26 | X92: ='4 day Prep (3)'!$O$187 -> 3 | Y92: ='4 day Prep (3)'!$O$253 -> 36 | Z92: ='4 day Prep (3)'!$O$314 -> 18 | AA92: =SUM(V92:Z92) -> 100 | AC92: 70-79 | AD92: ='4 day Prep (3)'!$T$58 -> 17 | AE92: ='4 day Prep (3)'!$T$122 -> 50 | AF92: ='4 day Prep (3)'!$T$187 -> 34 | AG92: ='4 day Prep (3)'!$T$253 -> 61 | AH92: ='4 day Prep (3)'!$T$314 -> 76 | AI92: =SUM(AD92:AH92) -> 238 | AK92: 70-79 | AL92: ='4 day Prep (3)'!$Y$58 -> 14 | AM92: ='4 day Prep (3)'!$Y$122 -> 22 | AN92: ='4 day Prep (3)'!$Y$187 -> 43 | AO92: ='4 day Prep (3)'!$Y$253 -> 9 | AP92: ='4 day Prep (3)'!$Y$314 -> 29 | AQ92: =SUM(AL92:AP92) -> 117 | AT92: Deadlift | AU92: =AL95/(AL95+AD95+V95) -> 0.23026316 | AV92: =AM95/(AM95+AE95+W95) -> 0.28193833 | AW92: =AN95/(AN95+AF95+X95) -> 0.23897059 | AX92: =AO95/(AO95+AG95+Y95) -> 0.21343874 | AY92: =AP95/(AP95+AH95+Z95) -> 0.27272727 | AZ92: =AQ95/(AQ95+AI95+AA95) -> 0.24828767
A93: 4 | B93: ='4 day Prep (3)'!G253 -> 71 | C93: ='4 day Prep (3)'!I253 -> 128 | D93: ='4 day Prep (3)'!K253 -> 54 | E93: =SUM(B93:D93) -> 253 | G93: ='4 day Prep (3)'!H253 -> 9720 | H93: ='4 day Prep (3)'!J253 -> 7654.25 | I93: ='4 day Prep (3)'!L253 -> 6352 | J93: =SUM(G93:I93) -> 23726.25 | K93: =J93/E93 -> 93.779644 | M93: =G93/B93/Max!B2 -> 0.68450704 | N93: =H93/C93/Max!B3 -> 0.70351562 | O93: =I93/D93/Max!B4 -> 0.73518519 | U93: 80-89 | V93: ='4 day Prep (3)'!$P$58 -> 14 | W93: ='4 day Prep (3)'!$P$122 -> 10 | X93: ='4 day Prep (3)'!$P$187 -> 15 | Y93: ='4 day Prep (3)'!$P$253 -> 16 | Z93: ='4 day Prep (3)'!$P$314 -> 16 | AA93: =SUM(V93:Z93) -> 71 | AC93: 80-89 | AD93: ='4 day Prep (3)'!$U$58 -> 18 | AE93: ='4 day Prep (3)'!$U$122 -> 2 | AF93: ='4 day Prep (3)'!$U$187 -> 51 | AG93: ='4 day Prep (3)'!$U$253 -> 24 | AH93: ='4 day Prep (3)'!$U$314 -> 12 | AI93: =SUM(AD93:AH93) -> 107 | AK93: 80-89 | AL93: ='4 day Prep (3)'!$Z$58 -> 6 | AM93: ='4 day Prep (3)'!$Z$122 -> 18 | AN93: ='4 day Prep (3)'!$Z$187 -> 0 | AO93: ='4 day Prep (3)'!$Z$253 -> 22 | AP93: ='4 day Prep (3)'!$Z$314 -> 15 | AQ93: =SUM(AL93:AP93) -> 61
A94: 5 | B94: ='4 day Prep (3)'!G314 -> 58 | C94: ='4 day Prep (3)'!I314 -> 134 | D94: ='4 day Prep (3)'!K314 -> 72 | E94: =SUM(B94:D94) -> 264 | G94: ='4 day Prep (3)'!H314 -> 7880 | H94: ='4 day Prep (3)'!J314 -> 7514 | I94: ='4 day Prep (3)'!L314 -> 8360 | J94: =SUM(G94:I94) -> 23754 | K94: =J94/E94 -> 89.977273 | M94: =G94/B94/Max!B2 -> 0.67931034 | N94: =H94/C94/Max!B3 -> 0.65970149 | O94: =I94/D94/Max!B4 -> 0.72569444 | U94: 90+ | V94: ='4 day Prep (3)'!$Q$58 -> 0 | W94: ='4 day Prep (3)'!$Q$122 -> 5 | X94: ='4 day Prep (3)'!$Q$187 -> 0 | Y94: ='4 day Prep (3)'!$Q$253 -> 0 | Z94: ='4 day Prep (3)'!$Q$314 -> 0 | AA94: =SUM(V94:Z94) -> 5 | AC94: 90+ | AD94: ='4 day Prep (3)'!$V$58 -> 0 | AE94: ='4 day Prep (3)'!$V$122 -> 5 | AF94: ='4 day Prep (3)'!$V$187 -> 0 | AG94: ='4 day Prep (3)'!$V$253 -> 6 | AH94: ='4 day Prep (3)'!$V$314 -> 0 | AI94: =SUM(AD94:AH94) -> 11 | AK94: 90+ | AL94: ='4 day Prep (3)'!$AA$58 -> 6 | AM94: ='4 day Prep (3)'!$AA$122 -> 5 | AN94: ='4 day Prep (3)'!$AA$187 -> 0 | AO94: ='4 day Prep (3)'!$AA$253 -> 6 | AP94: ='4 day Prep (3)'!$AA$314 -> 7 | AQ94: =SUM(AL94:AP94) -> 24
A95: Total | B95: =SUM(B90:B94) -> 320 | C95: =SUM(C90:C94) -> 558 | D95: =SUM(D90:D94) -> 290 | E95: =SUM(E90:E94) -> 1168 | G95: =SUM(G90:G94) -> 42870 | H95: =SUM(H90:H94) -> 32145.25 | I95: =SUM(I90:I94) -> 32172.25 | J95: =SUM(J90:J94) -> 107187.5 | K95: =J95/E95 -> 91.77012 | M95: =G95/B95/Max!B2 -> 0.66984375 | N95: =H95/C95/Max!B3 -> 0.67774088 | O95: =I95/D95/Max!B4 -> 0.69336746 | U95: NL | V95: =SUM(V90:V94) -> 55 | W95: =SUM(W90:W94) -> 69 | X95: =SUM(X90:X94) -> 67 | Y95: =SUM(Y90:Y94) -> 71 | Z95: =SUM(Z90:Z94) -> 58 | AA95: =SUM(V95:Z95) -> 320 | AC95: NL | AD95: =SUM(AD90:AD94) -> 62 | AE95: =SUM(AE90:AE94) -> 94 | AF95: =SUM(AF90:AF94) -> 140 | AG95: =SUM(AG90:AG94) -> 128 | AH95: =SUM(AH90:AH94) -> 134 | AI95: =SUM(AD95:AH95) -> 558 | AK95: NL | AL95: =SUM(AL90:AL94) -> 35 | AM95: =SUM(AM90:AM94) -> 64 | AN95: =SUM(AN90:AN94) -> 65 | AO95: =SUM(AO90:AO94) -> 54 | AP95: =SUM(AP90:AP94) -> 72 | AQ95: =SUM(AL95:AP95) -> 290
U96: Avg. Int. | V96: =M90 -> 0.68181818 | W96: =M91 -> 0.65 | X96: =M92 -> 0.65671642 | Y96: =M93 -> 0.68450704 | Z96: =M94 -> 0.67931034 | AA96: =M95 -> 0.66984375 | AC96: Avg. Int. | AD96: =N90 -> 0.66935484 | AE96: =N91 -> 0.67265332 | AF96: =N92 -> 0.67857143 | AG96: =N93 -> 0.70351562 | AH96: =N94 -> 0.65970149 | AI96: =N95 -> 0.67774088 | AK96: Avg. Int. | AL96: =O90 -> 0.74571429 | AM96: =O91 -> 0.62229004 | AN96: =O92 -> 0.66461538 | AO96: =O93 -> 0.73518519 | AP96: =O94 -> 0.72569444 | AQ96: =O95 -> 0.69336746
B100: Realization
G118: Poundage | U118: Squat | AC118: Bench | AK118: Deadlift
A119: 4 Day Comp | B119: Squat | C119: Bench | D119: Dead | E119: NL | G119: Squat | H119: Bench | I119: Dead | K119: Avg Wt. | M119: Squat | N119: Bench | O119: Dead | U119: % | V119: Week 1 | W119: Week 2 | X119: Week 3 | Y119: Week 4 | Z119: Week 5 | AA119: Month | AC119: % | AD119: Week 1 | AE119: Week 2 | AF119: Week 3 | AG119: Week 4 | AH119: Week 5 | AI119: Month | AK119: % | AL119: Week 1 | AM119: Week 2 | AN119: Week 3 | AO119: Week 4 | AP119: Week 5 | AQ119: Month | AT119: % of Lifts | AU119: Week 1 | AV119: Week 2 | AW119: Week 3 | AX119: Week 4 | AY119: Week 5 | AZ119: Month
A120: 1 | B120: ='4 day Comp'!G62 -> 40 | C120: ='4 day Comp'!I62 -> 85 | D120: ='4 day Comp'!K62 -> 38 | E120: =SUM(B120:D120) -> 163 | G120: ='4 day Comp'!H62 -> 5550 | H120: ='4 day Comp'!J62 -> 5066 | I120: ='4 day Comp'!L62 -> 4296 | J120: =SUM(G120:I120) -> 14912 | K120: =J120/E120 -> 91.484663 | M120: =G120/B120/Max!B2 -> 0.69375 | N120: =H120/C120/Max!B3 -> 0.70117647 | O120: =I120/D120/Max!B4 -> 0.70657895 | U120: 50-59 | V120: ='4 day Comp'!$M$62 -> 8 | W120: ='4 day Comp'!$M$117 -> 6 | X120: ='4 day Comp'!$M$169 -> 6 | Y120: ='4 day Comp'!$M$208 -> 6 | Z120: ='4 day Comp'!$M$230 -> 3 | AA120: ='4 day Comp'!$M$196 -> 3 | AC120: 50-59 | AD120: ='4 day Comp'!$R$62 -> 18 | AE120: ='4 day Comp'!$R$117 -> 9 | AF120: ='4 day Comp'!$R$169 -> 9 | AG120: ='4 day Comp'!$R$208 -> 9 | AH120: ='4 day Comp'!$R$230 -> 6 | AI120: ='4 day Comp'!$R$196 -> 0 | AK120: 50-59 | AL120: ='4 day Comp'!$W$62 -> 6 | AM120: ='4 day Comp'!$W$117 -> 6 | AN120: ='4 day Comp'!$W$169 -> 9 | AO120: ='4 day Comp'!$W$208 -> 2 | AP120: ='4 day Comp'!$W$230 -> 3 | AQ120: ='4 day Comp'!$W$196 -> 0 | AT120: Squat | AU120: =V125/(V125+AD125+AL125) -> 0.24539877 | AV120: =W125/(W125+AE125+AM125) -> 0.28301887 | AW120: =X125/(X125+AF125+AN125) -> 0.23134328 | AX120: =Y125/(Y125+AG125+AO125) -> 0.35714286 | AY120: =Z125/(Z125+AH125+AP125) -> 0.17777778 | AZ120: =AA125/(AA125+AI125+AQ125) -> 1
A121: 2 | B121: ='4 day Comp'!G117 -> 30 | C121: ='4 day Comp'!I117 -> 47 | D121: ='4 day Comp'!K117 -> 29 | E121: =SUM(B121:D121) -> 106 | G121: ='4 day Comp'!H117 -> 4130 | H121: ='4 day Comp'!J117 -> 2724.25 | I121: ='4 day Comp'!L117 -> 3192 | J121: =SUM(G121:I121) -> 10046.25 | K121: =J121/E121 -> 94.775943 | M121: =G121/B121/Max!B2 -> 0.68833333 | N121: =H121/C121/Max!B3 -> 0.68191489 | O121: =I121/D121/Max!B4 -> 0.68793103 | U121: 60-69 | V121: ='4 day Comp'!$N$62 -> 7 | W121: ='4 day Comp'!$N$117 -> 6 | X121: ='4 day Comp'!$N$169 -> 6 | Y121: ='4 day Comp'!$N$208 -> 6 | Z121: ='4 day Comp'!$N$230 -> 2 | AA121: ='4 day Comp'!$N$196 | AC121: 60-69 | AD121: ='4 day Comp'!$S$62 -> 15 | AE121: ='4 day Comp'!$S$117 -> 9 | AF121: ='4 day Comp'!$S$169 -> 9 | AG121: ='4 day Comp'!$S$208 -> 9 | AH121: ='4 day Comp'!$S$230 -> 6 | AI121: ='4 day Comp'!$S$196 -> 0 | AK121: 60-69 | AL121: ='4 day Comp'!$X$62 -> 9 | AM121: ='4 day Comp'!$X$117 -> 6 | AN121: ='4 day Comp'!$X$169 -> 9 | AO121: ='4 day Comp'!$X$208 -> 2 | AP121: ='4 day Comp'!$X$230 -> 3 | AQ121: ='4 day Comp'!$X$196 -> 0 | AT121: Bench | AU121: =AD125/(V125+AD125+AL125) -> 0.52147239 | AV121: =AE125/(W125+AE125+AM125) -> 0.44339623 | AW121: =AF125/(X125+AF125+AN125) -> 0.41791045 | AX121: =AG125/(Y125+AG125+AO125) -> 0.52380952 | AY121: =AH125/(Z125+AH125+AP125) -> 0.55555556 | AZ121: =AI125/(AA125+AI125+AQ125) -> 0
A122: 3 | B122: ='4 day Comp'!G169 -> 31 | C122: ='4 day Comp'!I169 -> 56 | D122: ='4 day Comp'!K169 -> 47 | E122: =SUM(B122:D122) -> 134 | G122: ='4 day Comp'!H169 -> 4360 | H122: ='4 day Comp'!J169 -> 3361.75 | I122: ='4 day Comp'!L169 -> 5224 | J122: =SUM(G122:I122) -> 12945.75 | K122: =J122/E122 -> 96.610075 | M122: =G122/B122/Max!B2 -> 0.70322581 | N122: =H122/C122/Max!B3 -> 0.70625 | O122: =I122/D122/Max!B4 -> 0.69468085 | U122: 70-79 | V122: ='4 day Comp'!$O$62 -> 6 | W122: ='4 day Comp'!$O$117 -> 12 | X122: ='4 day Comp'!$O$169 -> 7 | Y122: ='4 day Comp'!$O$208 -> 10 | Z122: ='4 day Comp'!$O$230 -> 3 | AA122: ='4 day Comp'!$O$196 | AC122: 70-79 | AD122: ='4 day Comp'!$T$62 -> 12 | AE122: ='4 day Comp'!$T$117 -> 23 | AF122: ='4 day Comp'!$T$169 -> 9 | AG122: ='4 day Comp'!$T$208 -> 15 | AH122: ='4 day Comp'!$T$230 -> 13 | AI122: ='4 day Comp'!$T$196 -> 0 | AK122: 70-79 | AL122: ='4 day Comp'!$Y$62 -> 10 | AM122: ='4 day Comp'!$Y$117 -> 11 | AN122: ='4 day Comp'!$Y$169 -> 15 | AO122: ='4 day Comp'!$Y$208 -> 6 | AP122: ='4 day Comp'!$Y$230 -> 6 | AQ122: ='4 day Comp'!$Y$196 -> 0 | AT122: Deadlift | AU122: =AL125/(AL125+AD125+V125) -> 0.23312883 | AV122: =AM125/(AM125+AE125+W125) -> 0.27358491 | AW122: =AN125/(AN125+AF125+X125) -> 0.35074627 | AX122: =AO125/(AO125+AG125+Y125) -> 0.11904762 | AY122: =AP125/(AP125+AH125+Z125) -> 0.26666667 | AZ122: =AQ125/(AQ125+AI125+AA125) -> 0
A123: 4 | B123: ='4 day Comp'!G208 -> 30 | C123: ='4 day Comp'!I208 -> 44 | D123: ='4 day Comp'!K208 -> 10 | E123: =SUM(B123:D123) -> 84 | G123: ='4 day Comp'!H208 -> 4030 | H123: ='4 day Comp'!J208 -> 2520.25 | I123: ='4 day Comp'!L208 -> 1024 | J123: =SUM(G123:I123) -> 7574.25 | K123: =J123/E123 -> 90.169643 | M123: =G123/B123/Max!B2 -> 0.67166667 | N123: =H123/C123/Max!B3 -> 0.67386364 | O123: =I123/D123/Max!B4 -> 0.64 | U123: 80-89 | V123: ='4 day Comp'!$P$62 -> 19 | W123: ='4 day Comp'!$P$117 -> 2 | X123: ='4 day Comp'!$P$169 -> 12 | Y123: ='4 day Comp'!$P$208 -> 8 | Z123: ='4 day Comp'!$P$230 -> 0 | AA123: ='4 day Comp'!$P$196 | AC123: 80-89 | AD123: ='4 day Comp'!$U$62 -> 40 | AE123: ='4 day Comp'!$U$117 -> 2 | AF123: ='4 day Comp'!$U$169 -> 29 | AG123: ='4 day Comp'!$U$208 -> 11 | AH123: ='4 day Comp'!$U$230 -> 0 | AI123: ='4 day Comp'!$U$196 -> 0 | AK123: 80-89 | AL123: ='4 day Comp'!$Z$62 -> 10 | AM123: ='4 day Comp'!$Z$117 -> 2 | AN123: ='4 day Comp'!$Z$169 -> 14 | AO123: ='4 day Comp'!$Z$208 -> 0 | AP123: ='4 day Comp'!$Z$230 -> 0 | AQ123: ='4 day Comp'!$Z$196 -> 0
A124: 5 | B124: ='4 day Comp'!G230 -> 8 | C124: ='4 day Comp'!I230 -> 25 | D124: ='4 day Comp'!K230 -> 12 | E124: =SUM(B124:D124) -> 45 | G124: ='4 day Comp'!H230 -> 960 | H124: ='4 day Comp'!J230 -> 1347.25 | I124: ='4 day Comp'!L230 -> 1200 | J124: =SUM(G124:I124) -> 3507.25 | K124: =J124/E124 -> 77.938889 | M124: =G124/B124/Max!B2 -> 0.6 | N124: =H124/C124/Max!B3 -> 0.634 | O124: =I124/D124/Max!B4 -> 0.625 | U124: 90+ | V124: ='4 day Comp'!$Q$62 -> 0 | W124: ='4 day Comp'!$Q$117 -> 4 | X124: ='4 day Comp'!$Q$169 -> 0 | Y124: ='4 day Comp'!$Q$208 -> 0 | Z124: ='4 day Comp'!$Q$230 -> 0 | AA124: ='4 day Comp'!$Q$196 | AC124: 90+ | AD124: ='4 day Comp'!$V$62 -> 0 | AE124: ='4 day Comp'!$V$117 -> 4 | AF124: ='4 day Comp'!$V$169 -> 0 | AG124: ='4 day Comp'!$V$208 -> 0 | AH124: ='4 day Comp'!$V$230 -> 0 | AI124: ='4 day Comp'!$V$196 -> 0 | AK124: 90+ | AL124: ='4 day Comp'!$AA$62 -> 3 | AM124: ='4 day Comp'!$AA$117 -> 4 | AN124: ='4 day Comp'!$AA$169 -> 0 | AO124: ='4 day Comp'!$AA$208 -> 0 | AP124: ='4 day Comp'!$AA$230 -> 0 | AQ124: ='4 day Comp'!$AA$196 -> 0
...

Sheet 4 day Prep
B1: Sheiko
B2: Preparatory Period for Class 1 & CMS
A5: week 1 | M5: squat | R5: bench | W5: deadlift
A6: 1 day (Monday) | C6: % | D6: reps | E6: sets | F6: weight | M6: 50-59 | N6: 60-69 | O6: 70-79 | P6: 80-89 | Q6: 90+ | R6: 50-59 | S6: 60-69 | T6: 70-79 | U6: 80-89 | V6: 90+ | W6: 50-59 | X6: 60-69 | Y6: 70-79 | Z6: 80-89 | AA6: 90+
A7: 1 | B7: Front squat | C7: 0.3 | D7: 4 | E7: 1 | F7: =Max!$B$2*C7 -> 60 | G7: =D7*E7 -> 4 | H7: =F7*G7 -> 240 | M7: =IF(ISNUMBER(SEARCH("squat",$B7)),IF($C7>=0.5,IF($C7<0.6,$D7*$E7," ")," ")," ") | N7: =IF(ISNUMBER(SEARCH("squat",$B7)),IF($C7>=0.6,IF($C7<0.7,$D7*$E7," ")," ")," ") | O7: =IF(ISNUMBER(SEARCH("squat",$B7)),IF($C7>=0.7,IF($C7<0.8,$D7*$E7," ")," ")," ") | P7: =IF(ISNUMBER(SEARCH("squat",$B7)),IF($C7>=0.8,IF($C7<0.9,$D7*$E7," ")," ")," ") | Q7: =IF(ISNUMBER(SEARCH("squat",$B7)),IF($C7>=0.9,$D7*$E7," ")," ") | R7: =IF(ISNUMBER(SEARCH("bench",$B7)),IF($C7>=0.5,IF($C7<0.6,$D7*$E7," ")," ")," ") | S7: =IF(ISNUMBER(SEARCH("bench",$B7)),IF($C7>=0.6,IF($C7<0.7,$D7*$E7," ")," ")," ") | T7: =IF(ISNUMBER(SEARCH("bench",$B7)),IF($C7>=0.7,IF($C7<0.8,$D7*$E7," ")," ")," ") | U7: =IF(ISNUMBER(SEARCH("bench",$B7)),IF($C7>=0.8,IF($C7<0.9,$D7*$E7," ")," ")," ") | V7: =IF(ISNUMBER(SEARCH("bench",$B7)),IF($C7>=0.9,$D7*$E7," ")," ")
B8: Front squat | C8: 0.4 | D8: 4 | E8: 1 | F8: =Max!$B$2*C8 -> 80 | G8: =D8*E8 -> 4 | H8: =F8*G8 -> 320 | M8: =IF(ISNUMBER(SEARCH("squat",$B8)),IF($C8>=0.5,IF($C8<0.6,$D8*$E8," ")," ")," ") | N8: =IF(ISNUMBER(SEARCH("squat",$B8)),IF($C8>=0.6,IF($C8<0.7,$D8*$E8," ")," ")," ") | O8: =IF(ISNUMBER(SEARCH("squat",$B8)),IF($C8>=0.7,IF($C8<0.8,$D8*$E8," ")," ")," ") | P8: =IF(ISNUMBER(SEARCH("squat",$B8)),IF($C8>=0.8,IF($C8<0.9,$D8*$E8," ")," ")," ") | Q8: =IF(ISNUMBER(SEARCH("squat",$B8)),IF($C8>=0.9,$D8*$E8," ")," ") | R8: =IF(ISNUMBER(SEARCH("bench",$B8)),IF($C8>=0.5,IF($C8<0.6,$D8*$E8," ")," ")," ") | S8: =IF(ISNUMBER(SEARCH("bench",$B8)),IF($C8>=0.6,IF($C8<0.7,$D8*$E8," ")," ")," ") | T8: =IF(ISNUMBER(SEARCH("bench",$B8)),IF($C8>=0.7,IF($C8<0.8,$D8*$E8," ")," ")," ") | U8: =IF(ISNUMBER(SEARCH("bench",$B8)),IF($C8>=0.8,IF($C8<0.9,$D8*$E8," ")," ")," ") | V8: =IF(ISNUMBER(SEARCH("bench",$B8)),IF($C8>=0.9,$D8*$E8," ")," ")
B9: Front squat | C9: 0.5 | D9: 4 | E9: 3 | F9: =Max!$B$2*C9 -> 100 | G9: =D9*E9 -> 12 | H9: =F9*G9 -> 1200 | M9: =IF(ISNUMBER(SEARCH("squat",$B9)),IF($C9>=0.5,IF($C9<0.6,$D9*$E9," ")," ")," ") -> 12 | N9: =IF(ISNUMBER(SEARCH("squat",$B9)),IF($C9>=0.6,IF($C9<0.7,$D9*$E9," ")," ")," ") | O9: =IF(ISNUMBER(SEARCH("squat",$B9)),IF($C9>=0.7,IF($C9<0.8,$D9*$E9," ")," ")," ") | P9: =IF(ISNUMBER(SEARCH("squat",$B9)),IF($C9>=0.8,IF($C9<0.9,$D9*$E9," ")," ")," ") | Q9: =IF(ISNUMBER(SEARCH("squat",$B9)),IF($C9>=0.9,$D9*$E9," ")," ") | R9: =IF(ISNUMBER(SEARCH("bench",$B9)),IF($C9>=0.5,IF($C9<0.6,$D9*$E9," ")," ")," ") | S9: =IF(ISNUMBER(SEARCH("bench",$B9)),IF($C9>=0.6,IF($C9<0.7,$D9*$E9," ")," ")," ") | T9: =IF(ISNUMBER(SEARCH("bench",$B9)),IF($C9>=0.7,IF($C9<0.8,$D9*$E9," ")," ")," ") | U9: =IF(ISNUMBER(SEARCH("bench",$B9)),IF($C9>=0.8,IF($C9<0.9,$D9*$E9," ")," ")," ") | V9: =IF(ISNUMBER(SEARCH("bench",$B9)),IF($C9>=0.9,$D9*$E9," ")," ")
A10: 2 | B10: Bench press | C10: 0.5 | D10: 5 | E10: 1 | F10: =Max!$B$3*C10 -> 42.5 | I10: =D10*E10 -> 5 | J10: =F10*I10 -> 212.5 | M10: =IF(ISNUMBER(SEARCH("squat",$B10)),IF($C10>=0.5,IF($C10<0.6,$D10*$E10," ")," ")," ") | N10: =IF(ISNUMBER(SEARCH("squat",$B10)),IF($C10>=0.6,IF($C10<0.7,$D10*$E10," ")," ")," ") | O10: =IF(ISNUMBER(SEARCH("squat",$B10)),IF($C10>=0.7,IF($C10<0.8,$D10*$E10," ")," ")," ") | P10: =IF(ISNUMBER(SEARCH("squat",$B10)),IF($C10>=0.8,IF($C10<0.9,$D10*$E10," ")," ")," ") | Q10: =IF(ISNUMBER(SEARCH("squat",$B10)),IF($C10>=0.9,$D10*$E10," ")," ") | R10: =IF(ISNUMBER(SEARCH("bench",$B10)),IF($C10>=0.5,IF($C10<0.6,$D10*$E10," ")," ")," ") -> 5 | S10: =IF(ISNUMBER(SEARCH("bench",$B10)),IF($C10>=0.6,IF($C10<0.7,$D10*$E10," ")," ")," ") | T10: =IF(ISNUMBER(SEARCH("bench",$B10)),IF($C10>=0.7,IF($C10<0.8,$D10*$E10," ")," ")," ") | U10: =IF(ISNUMBER(SEARCH("bench",$B10)),IF($C10>=0.8,IF($C10<0.9,$D10*$E10," ")," ")," ") | V10: =IF(ISNUMBER(SEARCH("bench",$B10)),IF($C10>=0.9,$D10*$E10," ")," ")
B11: Bench press | C11: 0.6 | D11: 4 | E11: 1 | F11: =Max!$B$3*C11 -> 51 | I11: =D11*E11 -> 4 | J11: =F11*I11 -> 204 | M11: =IF(ISNUMBER(SEARCH("squat",$B11)),IF($C11>=0.5,IF($C11<0.6,$D11*$E11," ")," ")," ") | N11: =IF(ISNUMBER(SEARCH("squat",$B11)),IF($C11>=0.6,IF($C11<0.7,$D11*$E11," ")," ")," ") | O11: =IF(ISNUMBER(SEARCH("squat",$B11)),IF($C11>=0.7,IF($C11<0.8,$D11*$E11," ")," ")," ") | P11: =IF(ISNUMBER(SEARCH("squat",$B11)),IF($C11>=0.8,IF($C11<0.9,$D11*$E11," ")," ")," ") | Q11: =IF(ISNUMBER(SEARCH("squat",$B11)),IF($C11>=0.9,$D11*$E11," ")," ") | R11: =IF(ISNUMBER(SEARCH("bench",$B11)),IF($C11>=0.5,IF($C11<0.6,$D11*$E11," ")," ")," ") | S11: =IF(ISNUMBER(SEARCH("bench",$B11)),IF($C11>=0.6,IF($C11<0.7,$D11*$E11," ")," ")," ") -> 4 | T11: =IF(ISNUMBER(SEARCH("bench",$B11)),IF($C11>=0.7,IF($C11<0.8,$D11*$E11," ")," ")," ") | U11: =IF(ISNUMBER(SEARCH("bench",$B11)),IF($C11>=0.8,IF($C11<0.9,$D11*$E11," ")," ")," ") | V11: =IF(ISNUMBER(SEARCH("bench",$B11)),IF($C11>=0.9,$D11*$E11," ")," ")
B12: Bench press | C12: 0.7 | D12: 3 | E12: 1 | F12: =Max!$B$3*C12 -> 59.5 | I12: =D12*E12 -> 3 | J12: =F12*I12 -> 178.5 | M12: =IF(ISNUMBER(SEARCH("squat",$B12)),IF($C12>=0.5,IF($C12<0.6,$D12*$E12," ")," ")," ") | N12: =IF(ISNUMBER(SEARCH("squat",$B12)),IF($C12>=0.6,IF($C12<0.7,$D12*$E12," ")," ")," ") | O12: =IF(ISNUMBER(SEARCH("squat",$B12)),IF($C12>=0.7,IF($C12<0.8,$D12*$E12," ")," ")," ") | P12: =IF(ISNUMBER(SEARCH("squat",$B12)),IF($C12>=0.8,IF($C12<0.9,$D12*$E12," ")," ")," ") | Q12: =IF(ISNUMBER(SEARCH("squat",$B12)),IF($C12>=0.9,$D12*$E12," ")," ") | R12: =IF(ISNUMBER(SEARCH("bench",$B12)),IF($C12>=0.5,IF($C12<0.6,$D12*$E12," ")," ")," ") | S12: =IF(ISNUMBER(SEARCH("bench",$B12)),IF($C12>=0.6,IF($C12<0.7,$D12*$E12," ")," ")," ") | T12: =IF(ISNUMBER(SEARCH("bench",$B12)),IF($C12>=0.7,IF($C12<0.8,$D12*$E12," ")," ")," ") -> 3 | U12: =IF(ISNUMBER(SEARCH("bench",$B12)),IF($C12>=0.8,IF($C12<0.9,$D12*$E12," ")," ")," ") | V12: =IF(ISNUMBER(SEARCH("bench",$B12)),IF($C12>=0.9,$D12*$E12," ")," ")
B13: Bench press | C13: 0.75 | D13: 2 | E13: 4 | F13: =Max!$B$3*C13 -> 63.75 | I13: =D13*E13 -> 8 | J13: =F13*I13 -> 510 | M13: =IF(ISNUMBER(SEARCH("squat",$B13)),IF($C13>=0.5,IF($C13<0.6,$D13*$E13," ")," ")," ") | N13: =IF(ISNUMBER(SEARCH("squat",$B13)),IF($C13>=0.6,IF($C13<0.7,$D13*$E13," ")," ")," ") | O13: =IF(ISNUMBER(SEARCH("squat",$B13)),IF($C13>=0.7,IF($C13<0.8,$D13*$E13," ")," ")," ") | P13: =IF(ISNUMBER(SEARCH("squat",$B13)),IF($C13>=0.8,IF($C13<0.9,$D13*$E13," ")," ")," ") | Q13: =IF(ISNUMBER(SEARCH("squat",$B13)),IF($C13>=0.9,$D13*$E13," ")," ") | R13: =IF(ISNUMBER(SEARCH("bench",$B13)),IF($C13>=0.5,IF($C13<0.6,$D13*$E13," ")," ")," ") | S13: =IF(ISNUMBER(SEARCH("bench",$B13)),IF($C13>=0.6,IF($C13<0.7,$D13*$E13," ")," ")," ") | T13: =IF(ISNUMBER(SEARCH("bench",$B13)),IF($C13>=0.7,IF($C13<0.8,$D13*$E13," ")," ")," ") -> 8 | U13: =IF(ISNUMBER(SEARCH("bench",$B13)),IF($C13>=0.8,IF($C13<0.9,$D13*$E13," ")," ")," ") | V13: =IF(ISNUMBER(SEARCH("bench",$B13)),IF($C13>=0.9,$D13*$E13," ")," ")
A14: 3 | B14: Squat | C14: 0.55 | D14: 3 | E14: 1 | F14: =Max!$B$2*C14 -> 110 | G14: =D14*E14 -> 3 | H14: =F14*G14 -> 330 | M14: =IF(ISNUMBER(SEARCH("squat",$B14)),IF($C14>=0.5,IF($C14<0.6,$D14*$E14," ")," ")," ") -> 3 | N14: =IF(ISNUMBER(SEARCH("squat",$B14)),IF($C14>=0.6,IF($C14<0.7,$D14*$E14," ")," ")," ") | O14: =IF(ISNUMBER(SEARCH("squat",$B14)),IF($C14>=0.7,IF($C14<0.8,$D14*$E14," ")," ")," ") | P14: =IF(ISNUMBER(SEARCH("squat",$B14)),IF($C14>=0.8,IF($C14<0.9,$D14*$E14," ")," ")," ") | Q14: =IF(ISNUMBER(SEARCH("squat",$B14)),IF($C14>=0.9,$D14*$E14," ")," ") | R14: =IF(ISNUMBER(SEARCH("bench",$B14)),IF($C14>=0.5,IF($C14<0.6,$D14*$E14," ")," ")," ") | S14: =IF(ISNUMBER(SEARCH("bench",$B14)),IF($C14>=0.6,IF($C14<0.7,$D14*$E14," ")," ")," ") | T14: =IF(ISNUMBER(SEARCH("bench",$B14)),IF($C14>=0.7,IF($C14<0.8,$D14*$E14," ")," ")," ") | U14: =IF(ISNUMBER(SEARCH("bench",$B14)),IF($C14>=0.8,IF($C14<0.9,$D14*$E14," ")," ")," ") | V14: =IF(ISNUMBER(SEARCH("bench",$B14)),IF($C14>=0.9,$D14*$E14," ")," ")
B15: Squat | C15: 0.65 | D15: 3 | E15: 1 | F15: =Max!$B$2*C15 -> 130 | G15: =D15*E15 -> 3 | H15: =F15*G15 -> 390 | M15: =IF(ISNUMBER(SEARCH("squat",$B15)),IF($C15>=0.5,IF($C15<0.6,$D15*$E15," ")," ")," ") | N15: =IF(ISNUMBER(SEARCH("squat",$B15)),IF($C15>=0.6,IF($C15<0.7,$D15*$E15," ")," ")," ") -> 3 | O15: =IF(ISNUMBER(SEARCH("squat",$B15)),IF($C15>=0.7,IF($C15<0.8,$D15*$E15," ")," ")," ") | P15: =IF(ISNUMBER(SEARCH("squat",$B15)),IF($C15>=0.8,IF($C15<0.9,$D15*$E15," ")," ")," ") | Q15: =IF(ISNUMBER(SEARCH("squat",$B15)),IF($C15>=0.9,$D15*$E15," ")," ") | R15: =IF(ISNUMBER(SEARCH("bench",$B15)),IF($C15>=0.5,IF($C15<0.6,$D15*$E15," ")," ")," ") | S15: =IF(ISNUMBER(SEARCH("bench",$B15)),IF($C15>=0.6,IF($C15<0.7,$D15*$E15," ")," ")," ") | T15: =IF(ISNUMBER(SEARCH("bench",$B15)),IF($C15>=0.7,IF($C15<0.8,$D15*$E15," ")," ")," ") | U15: =IF(ISNUMBER(SEARCH("bench",$B15)),IF($C15>=0.8,IF($C15<0.9,$D15*$E15," ")," ")," ") | V15: =IF(ISNUMBER(SEARCH("bench",$B15)),IF($C15>=0.9,$D15*$E15," ")," ")
B16: Squat | C16: 0.75 | D16: 2 | E16: 4 | F16: =Max!$B$2*C16 -> 150 | G16: =D16*E16 -> 8 | H16: =F16*G16 -> 1200 | M16: =IF(ISNUMBER(SEARCH("squat",$B16)),IF($C16>=0.5,IF($C16<0.6,$D16*$E16," ")," ")," ") | N16: =IF(ISNUMBER(SEARCH("squat",$B16)),IF($C16>=0.6,IF($C16<0.7,$D16*$E16," ")," ")," ") | O16: =IF(ISNUMBER(SEARCH("squat",$B16)),IF($C16>=0.7,IF($C16<0.8,$D16*$E16," ")," ")," ") -> 8 | P16: =IF(ISNUMBER(SEARCH("squat",$B16)),IF($C16>=0.8,IF($C16<0.9,$D16*$E16," ")," ")," ") | Q16: =IF(ISNUMBER(SEARCH("squat",$B16)),IF($C16>=0.9,$D16*$E16," ")," ") | R16: =IF(ISNUMBER(SEARCH("bench",$B16)),IF($C16>=0.5,IF($C16<0.6,$D16*$E16," ")," ")," ") | S16: =IF(ISNUMBER(SEARCH("bench",$B16)),IF($C16>=0.6,IF($C16<0.7,$D16*$E16," ")," ")," ") | T16: =IF(ISNUMBER(SEARCH("bench",$B16)),IF($C16>=0.7,IF($C16<0.8,$D16*$E16," ")," ")," ") | U16: =IF(ISNUMBER(SEARCH("bench",$B16)),IF($C16>=0.8,IF($C16<0.9,$D16*$E16," ")," ")," ") | V16: =IF(ISNUMBER(SEARCH("bench",$B16)),IF($C16>=0.9,$D16*$E16," ")," ")
A17: 4 | B17: Chest muscles | D17: 8 | E17: 4
A18: 5 | B18: Abs | D18: 10 | E18: 3
A20: 3 day (Wednesday) | C20: % | D20: reps | E20: sets | F20: weight
A21: 1 | B21: Deadlift to knees w/2s pause | C21: 0.5 | D21: 3 | E21: 1 | F21: =Max!$B$4*C21 -> 80 | K21: =D21*E21 -> 3 | L21: =F21*K21 -> 240 | R21: =IF(ISNUMBER(SEARCH("bench",$B21)),IF($C21>=0.5,IF($C21<0.6,$D21*$E21," ")," ")," ") | S21: =IF(ISNUMBER(SEARCH("bench",$B21)),IF($C21>=0.6,IF($C21<0.7,$D21*$E21," ")," ")," ") | T21: =IF(ISNUMBER(SEARCH("bench",$B21)),IF($C21>=0.7,IF($C21<0.8,$D21*$E21," ")," ")," ") | U21: =IF(ISNUMBER(SEARCH("bench",$B21)),IF($C21>=0.8,IF($C21<0.9,$D21*$E21," ")," ")," ") | V21: =IF(ISNUMBER(SEARCH("bench",$B21)),IF($C21>=0.9,$D21*$E21," ")," ") | W21: =IF(ISNUMBER(SEARCH("deadlift",$B21)),IF($C21>=0.5,IF($C21<0.6,$D21*$E21," ")," ")," ") -> 3 | X21: =IF(ISNUMBER(SEARCH("deadlift",$B21)),IF($C21>=0.6,IF($C21<0.7,$D21*$E21," ")," ")," ") | Y21: =IF(ISNUMBER(SEARCH("deadlift",$B21)),IF($C21>=0.7,IF($C21<0.8,$D21*$E21," ")," ")," ") | Z21: =IF(ISNUMBER(SEARCH("deadlift",$B21)),IF($C21>=0.8,IF($C21<0.9,$D21*$E21," ")," ")," ") | AA21: =IF(ISNUMBER(SEARCH("deadlift",$B21)),IF($C21>=0.9,$D21*$E21," ")," ")
B22: Deadlift to knees w/2s pause | C22: 0.6 | D22: 3 | E22: 1 | F22: =Max!$B$4*C22 -> 96 | K22: =D22*E22 -> 3 | L22: =F22*K22 -> 288 | R22: =IF(ISNUMBER(SEARCH("bench",$B22)),IF($C22>=0.5,IF($C22<0.6,$D22*$E22," ")," ")," ") | S22: =IF(ISNUMBER(SEARCH("bench",$B22)),IF($C22>=0.6,IF($C22<0.7,$D22*$E22," ")," ")," ") | T22: =IF(ISNUMBER(SEARCH("bench",$B22)),IF($C22>=0.7,IF($C22<0.8,$D22*$E22," ")," ")," ") | U22: =IF(ISNUMBER(SEARCH("bench",$B22)),IF($C22>=0.8,IF($C22<0.9,$D22*$E22," ")," ")," ") | V22: =IF(ISNUMBER(SEARCH("bench",$B22)),IF($C22>=0.9,$D22*$E22," ")," ") | W22: =IF(ISNUMBER(SEARCH("deadlift",$B22)),IF($C22>=0.5,IF($C22<0.6,$D22*$E22," ")," ")," ") | X22: =IF(ISNUMBER(SEARCH("deadlift",$B22)),IF($C22>=0.6,IF($C22<0.7,$D22*$E22," ")," ")," ") -> 3 | Y22: =IF(ISNUMBER(SEARCH("deadlift",$B22)),IF($C22>=0.7,IF($C22<0.8,$D22*$E22," ")," ")," ") | Z22: =IF(ISNUMBER(SEARCH("deadlift",$B22)),IF($C22>=0.8,IF($C22<0.9,$D22*$E22," ")," ")," ") | AA22: =IF(ISNUMBER(SEARCH("deadlift",$B22)),IF($C22>=0.9,$D22*$E22," ")," ")
B23: Deadlift to knees w/2s pause | C23: 0.7 | D23: 3 | E23: 4 | F23: =Max!$B$4*C23 -> 112 | K23: =D23*E23 -> 12 | L23: =F23*K23 -> 1344 | R23: =IF(ISNUMBER(SEARCH("bench",$B23)),IF($C23>=0.5,IF($C23<0.6,$D23*$E23," ")," ")," ") | S23: =IF(ISNUMBER(SEARCH("bench",$B23)),IF($C23>=0.6,IF($C23<0.7,$D23*$E23," ")," ")," ") | T23: =IF(ISNUMBER(SEARCH("bench",$B23)),IF($C23>=0.7,IF($C23<0.8,$D23*$E23," ")," ")," ") | U23: =IF(ISNUMBER(SEARCH("bench",$B23)),IF($C23>=0.8,IF($C23<0.9,$D23*$E23," ")," ")," ") | V23: =IF(ISNUMBER(SEARCH("bench",$B23)),IF($C23>=0.9,$D23*$E23," ")," ") | W23: =IF(ISNUMBER(SEARCH("deadlift",$B23)),IF($C23>=0.5,IF($C23<0.6,$D23*$E23," ")," ")," ") | X23: =IF(ISNUMBER(SEARCH("deadlift",$B23)),IF($C23>=0.6,IF($C23<0.7,$D23*$E23," ")," ")," ") | Y23: =IF(ISNUMBER(SEARCH("deadlift",$B23)),IF($C23>=0.7,IF($C23<0.8,$D23*$E23," ")," ")," ") -> 12 | Z23: =IF(ISNUMBER(SEARCH("deadlift",$B23)),IF($C23>=0.8,IF($C23<0.9,$D23*$E23," ")," ")," ") | AA23: =IF(ISNUMBER(SEARCH("deadlift",$B23)),IF($C23>=0.9,$D23*$E23," ")," ")
A24: 2 | B24: Bench press | C24: 0.5 | D24: 5 | E24: 1 | F24: =Max!$B$3*C24 -> 42.5 | I24: =D24*E24 -> 5 | J24: =F24*I24 -> 212.5 | R24: =IF(ISNUMBER(SEARCH("bench",$B24)),IF($C24>=0.5,IF($C24<0.6,$D24*$E24," ")," ")," ") -> 5 | S24: =IF(ISNUMBER(SEARCH("bench",$B24)),IF($C24>=0.6,IF($C24<0.7,$D24*$E24," ")," ")," ") | T24: =IF(ISNUMBER(SEARCH("bench",$B24)),IF($C24>=0.7,IF($C24<0.8,$D24*$E24," ")," ")," ") | U24: =IF(ISNUMBER(SEARCH("bench",$B24)),IF($C24>=0.8,IF($C24<0.9,$D24*$E24," ")," ")," ") | V24: =IF(ISNUMBER(SEARCH("bench",$B24)),IF($C24>=0.9,$D24*$E24," ")," ") | W24: =IF(ISNUMBER(SEARCH("deadlift",$B24)),IF($C24>=0.5,IF($C24<0.6,$D24*$E24," ")," ")," ") | X24: =IF(ISNUMBER(SEARCH("deadlift",$B24)),IF($C24>=0.6,IF($C24<0.7,$D24*$E24," ")," ")," ") | Y24: =IF(ISNUMBER(SEARCH("deadlift",$B24)),IF($C24>=0.7,IF($C24<0.8,$D24*$E24," ")," ")," ") | Z24: =IF(ISNUMBER(SEARCH("deadlift",$B24)),IF($C24>=0.8,IF($C24<0.9,$D24*$E24," ")," ")," ") | AA24: =IF(ISNUMBER(SEARCH("deadlift",$B24)),IF($C24>=0.9,$D24*$E24," ")," ")
B25: Bench press | C25: 0.6 | D25: 5 | E25: 1 | F25: =Max!$B$3*C25 -> 51 | I25: =D25*E25 -> 5 | J25: =F25*I25 -> 255 | R25: =IF(ISNUMBER(SEARCH("bench",$B25)),IF($C25>=0.5,IF($C25<0.6,$D25*$E25," ")," ")," ") | S25: =IF(ISNUMBER(SEARCH("bench",$B25)),IF($C25>=0.6,IF($C25<0.7,$D25*$E25," ")," ")," ") -> 5 | T25: =IF(ISNUMBER(SEARCH("bench",$B25)),IF($C25>=0.7,IF($C25<0.8,$D25*$E25," ")," ")," ") | U25: =IF(ISNUMBER(SEARCH("bench",$B25)),IF($C25>=0.8,IF($C25<0.9,$D25*$E25," ")," ")," ") | V25: =IF(ISNUMBER(SEARCH("bench",$B25)),IF($C25>=0.9,$D25*$E25," ")," ") | W25: =IF(ISNUMBER(SEARCH("deadlift",$B25)),IF($C25>=0.5,IF($C25<0.6,$D25*$E25," ")," ")," ") | X25: =IF(ISNUMBER(SEARCH("deadlift",$B25)),IF($C25>=0.6,IF($C25<0.7,$D25*$E25," ")," ")," ") | Y25: =IF(ISNUMBER(SEARCH("deadlift",$B25)),IF($C25>=0.7,IF($C25<0.8,$D25*$E25," ")," ")," ") | Z25: =IF(ISNUMBER(SEARCH("deadlift",$B25)),IF($C25>=0.8,IF($C25<0.9,$D25*$E25," ")," ")," ") | AA25: =IF(ISNUMBER(SEARCH("deadlift",$B25)),IF($C25>=0.9,$D25*$E25," ")," ")
B26: Bench press | C26: 0.7 | D26: 3 | E26: 1 | F26: =Max!$B$3*C26 -> 59.5 | I26: =D26*E26 -> 3 | J26: =F26*I26 -> 178.5 | R26: =IF(ISNUMBER(SEARCH("bench",$B26)),IF($C26>=0.5,IF($C26<0.6,$D26*$E26," ")," ")," ") | S26: =IF(ISNUMBER(SEARCH("bench",$B26)),IF($C26>=0.6,IF($C26<0.7,$D26*$E26," ")," ")," ") | T26: =IF(ISNUMBER(SEARCH("bench",$B26)),IF($C26>=0.7,IF($C26<0.8,$D26*$E26," ")," ")," ") -> 3 | U26: =IF(ISNUMBER(SEARCH("bench",$B26)),IF($C26>=0.8,IF($C26<0.9,$D26*$E26," ")," ")," ") | V26: =IF(ISNUMBER(SEARCH("bench",$B26)),IF($C26>=0.9,$D26*$E26," ")," ") | W26: =IF(ISNUMBER(SEARCH("deadlift",$B26)),IF($C26>=0.5,IF($C26<0.6,$D26*$E26," ")," ")," ") | X26: =IF(ISNUMBER(SEARCH("deadlift",$B26)),IF($C26>=0.6,IF($C26<0.7,$D26*$E26," ")," ")," ") | Y26: =IF(ISNUMBER(SEARCH("deadlift",$B26)),IF($C26>=0.7,IF($C26<0.8,$D26*$E26," ")," ")," ") | Z26: =IF(ISNUMBER(SEARCH("deadlift",$B26)),IF($C26>=0.8,IF($C26<0.9,$D26*$E26," ")," ")," ") | AA26: =IF(ISNUMBER(SEARCH("deadlift",$B26)),IF($C26>=0.9,$D26*$E26," ")," ")
B27: Bench press | C27: 0.7 | D27: 5 | E27: 1 | F27: =Max!$B$3*C27 -> 59.5 | I27: =D27*E27 -> 5 | J27: =F27*I27 -> 297.5 | R27: =IF(ISNUMBER(SEARCH("bench",$B27)),IF($C27>=0.5,IF($C27<0.6,$D27*$E27," ")," ")," ") | S27: =IF(ISNUMBER(SEARCH("bench",$B27)),IF($C27>=0.6,IF($C27<0.7,$D27*$E27," ")," ")," ") | T27: =IF(ISNUMBER(SEARCH("bench",$B27)),IF($C27>=0.7,IF($C27<0.8,$D27*$E27," ")," ")," ") -> 5 | U27: =IF(ISNUMBER(SEARCH("bench",$B27)),IF($C27>=0.8,IF($C27<0.9,$D27*$E27," ")," ")," ") | V27: =IF(ISNUMBER(SEARCH("bench",$B27)),IF($C27>=0.9,$D27*$E27," ")," ") | W27: =IF(ISNUMBER(SEARCH("deadlift",$B27)),IF($C27>=0.5,IF($C27<0.6,$D27*$E27," ")," ")," ") | X27: =IF(ISNUMBER(SEARCH("deadlift",$B27)),IF($C27>=0.6,IF($C27<0.7,$D27*$E27," ")," ")," ") | Y27: =IF(ISNUMBER(SEARCH("deadlift",$B27)),IF($C27>=0.7,IF($C27<0.8,$D27*$E27," ")," ")," ") | Z27: =IF(ISNUMBER(SEARCH("deadlift",$B27)),IF($C27>=0.8,IF($C27<0.9,$D27*$E27," ")," ")," ") | AA27: =IF(ISNUMBER(SEARCH("deadlift",$B27)),IF($C27>=0.9,$D27*$E27," ")," ")
B28: Bench press | C28: 0.7 | D28: 7 | E28: 1 | F28: =Max!$B$3*C28 -> 59.5 | I28: =D28*E28 -> 7 | J28: =F28*I28 -> 416.5 | R28: =IF(ISNUMBER(SEARCH("bench",$B28)),IF($C28>=0.5,IF($C28<0.6,$D28*$E28," ")," ")," ") | S28: =IF(ISNUMBER(SEARCH("bench",$B28)),IF($C28>=0.6,IF($C28<0.7,$D28*$E28," ")," ")," ") | T28: =IF(ISNUMBER(SEARCH("bench",$B28)),IF($C28>=0.7,IF($C28<0.8,$D28*$E28," ")," ")," ") -> 7 | U28: =IF(ISNUMBER(SEARCH("bench",$B28)),IF($C28>=0.8,IF($C28<0.9,$D28*$E28," ")," ")," ") | V28: =IF(ISNUMBER(SEARCH("bench",$B28)),IF($C28>=0.9,$D28*$E28," ")," ") | W28: =IF(ISNUMBER(SEARCH("deadlift",$B28)),IF($C28>=0.5,IF($C28<0.6,$D28*$E28," ")," ")," ") | X28: =IF(ISNUMBER(SEARCH("deadlift",$B28)),IF($C28>=0.6,IF($C28<0.7,$D28*$E28," ")," ")," ") | Y28: =IF(ISNUMBER(SEARCH("deadlift",$B28)),IF($C28>=0.7,IF($C28<0.8,$D28*$E28," ")," ")," ") | Z28: =IF(ISNUMBER(SEARCH("deadlift",$B28)),IF($C28>=0.8,IF($C28<0.9,$D28*$E28," ")," ")," ") | AA28: =IF(ISNUMBER(SEARCH("deadlift",$B28)),IF($C28>=0.9,$D28*$E28," ")," ")
B29: Bench press | C29: 0.7 | D29: 4 | E29: 1 | F29: =Max!$B$3*C29 -> 59.5 | I29: =D29*E29 -> 4 | J29: =F29*I29 -> 238 | R29: =IF(ISNUMBER(SEARCH("bench",$B29)),IF($C29>=0.5,IF($C29<0.6,$D29*$E29," ")," ")," ") | S29: =IF(ISNUMBER(SEARCH("bench",$B29)),IF($C29>=0.6,IF($C29<0.7,$D29*$E29," ")," ")," ") | T29: =IF(ISNUMBER(SEARCH("bench",$B29)),IF($C29>=0.7,IF($C29<0.8,$D29*$E29," ")," ")," ") -> 4 | U29: =IF(ISNUMBER(SEARCH("bench",$B29)),IF($C29>=0.8,IF($C29<0.9,$D29*$E29," ")," ")," ") | V29: =IF(ISNUMBER(SEARCH("bench",$B29)),IF($C29>=0.9,$D29*$E29," ")," ") | W29: =IF(ISNUMBER(SEARCH("deadlift",$B29)),IF($C29>=0.5,IF($C29<0.6,$D29*$E29," ")," ")," ") | X29: =IF(ISNUMBER(SEARCH("deadlift",$B29)),IF($C29>=0.6,IF($C29<0.7,$D29*$E29," ")," ")," ") | Y29: =IF(ISNUMBER(SEARCH("deadlift",$B29)),IF($C29>=0.7,IF($C29<0.8,$D29*$E29," ")," ")," ") | Z29: =IF(ISNUMBER(SEARCH("deadlift",$B29)),IF($C29>=0.8,IF($C29<0.9,$D29*$E29," ")," ")," ") | AA29: =IF(ISNUMBER(SEARCH("deadlift",$B29)),IF($C29>=0.9,$D29*$E29," ")," ")
B30: Bench press | C30: 0.7 | D30: 6 | E30: 1 | F30: =Max!$B$3*C30 -> 59.5 | I30: =D30*E30 -> 6 | J30: =F30*I30 -> 357 | R30: =IF(ISNUMBER(SEARCH("bench",$B30)),IF($C30>=0.5,IF($C30<0.6,$D30*$E30," ")," ")," ") | S30: =IF(ISNUMBER(SEARCH("bench",$B30)),IF($C30>=0.6,IF($C30<0.7,$D30*$E30," ")," ")," ") | T30: =IF(ISNUMBER(SEARCH("bench",$B30)),IF($C30>=0.7,IF($C30<0.8,$D30*$E30," ")," ")," ") -> 6 | U30: =IF(ISNUMBER(SEARCH("bench",$B30)),IF($C30>=0.8,IF($C30<0.9,$D30*$E30," ")," ")," ") | V30: =IF(ISNUMBER(SEARCH("bench",$B30)),IF($C30>=0.9,$D30*$E30," ")," ") | W30: =IF(ISNUMBER(SEARCH("deadlift",$B30)),IF($C30>=0.5,IF($C30<0.6,$D30*$E30," ")," ")," ") | X30: =IF(ISNUMBER(SEARCH("deadlift",$B30)),IF($C30>=0.6,IF($C30<0.7,$D30*$E30," ")," ")," ") | Y30: =IF(ISNUMBER(SEARCH("deadlift",$B30)),IF($C30>=0.7,IF($C30<0.8,$D30*$E30," ")," ")," ") | Z30: =IF(ISNUMBER(SEARCH("deadlift",$B30)),IF($C30>=0.8,IF($C30<0.9,$D30*$E30," ")," ")," ") | AA30: =IF(ISNUMBER(SEARCH("deadlift",$B30)),IF($C30>=0.9,$D30*$E30," ")," ")
B31: Bench press | C31: 0.7 | D31: 8 | E31: 1 | F31: =Max!$B$3*C31 -> 59.5 | I31: =D31*E31 -> 8 | J31: =F31*I31 -> 476 | R31: =IF(ISNUMBER(SEARCH("bench",$B31)),IF($C31>=0.5,IF($C31<0.6,$D31*$E31," ")," ")," ") | S31: =IF(ISNUMBER(SEARCH("bench",$B31)),IF($C31>=0.6,IF($C31<0.7,$D31*$E31," ")," ")," ") | T31: =IF(ISNUMBER(SEARCH("bench",$B31)),IF($C31>=0.7,IF($C31<0.8,$D31*$E31," ")," ")," ") -> 8 | U31: =IF(ISNUMBER(SEARCH("bench",$B31)),IF($C31>=0.8,IF($C31<0.9,$D31*$E31," ")," ")," ") | V31: =IF(ISNUMBER(SEARCH("bench",$B31)),IF($C31>=0.9,$D31*$E31," ")," ") | W31: =IF(ISNUMBER(SEARCH("deadlift",$B31)),IF($C31>=0.5,IF($C31<0.6,$D31*$E31," ")," ")," ") | X31: =IF(ISNUMBER(SEARCH("deadlift",$B31)),IF($C31>=0.6,IF($C31<0.7,$D31*$E31," ")," ")," ") | Y31: =IF(ISNUMBER(SEARCH("deadlift",$B31)),IF($C31>=0.7,IF($C31<0.8,$D31*$E31," ")," ")," ") | Z31: =IF(ISNUMBER(SEARCH("deadlift",$B31)),IF($C31>=0.8,IF($C31<0.9,$D31*$E31," ")," ")," ") | AA31: =IF(ISNUMBER(SEARCH("deadlift",$B31)),IF($C31>=0.9,$D31*$E31," ")," ")
A32: 3 | B32: Deadlift w/pause 5-7cm above knees | C32: 0.55 | D32: 3 | E32: 1 | F32: =Max!$B$4*C32 -> 88 | K32: =D32*E32 -> 3 | L32: =F32*K32 -> 264 | R32: =IF(ISNUMBER(SEARCH("bench",$B32)),IF($C32>=0.5,IF($C32<0.6,$D32*$E32," ")," ")," ") | S32: =IF(ISNUMBER(SEARCH("bench",$B32)),IF($C32>=0.6,IF($C32<0.7,$D32*$E32," ")," ")," ") | T32: =IF(ISNUMBER(SEARCH("bench",$B32)),IF($C32>=0.7,IF($C32<0.8,$D32*$E32," ")," ")," ") | U32: =IF(ISNUMBER(SEARCH("bench",$B32)),IF($C32>=0.8,IF($C32<0.9,$D32*$E32," ")," ")," ") | V32: =IF(ISNUMBER(SEARCH("bench",$B32)),IF($C32>=0.9,$D32*$E32," ")," ") | W32: =IF(ISNUMBER(SEARCH("deadlift",$B32)),IF($C32>=0.5,IF($C32<0.6,$D32*$E32," ")," ")," ") -> 3 | X32: =IF(ISNUMBER(SEARCH("deadlift",$B32)),IF($C32>=0.6,IF($C32<0.7,$D32*$E32," ")," ")," ") | Y32: =IF(ISNUMBER(SEARCH("deadlift",$B32)),IF($C32>=0.7,IF($C32<0.8,$D32*$E32," ")," ")," ") | Z32: =IF(ISNUMBER(SEARCH("deadlift",$B32)),IF($C32>=0.8,IF($C32<0.9,$D32*$E32," ")," ")," ") | AA32: =IF(ISNUMBER(SEARCH("deadlift",$B32)),IF($C32>=0.9,$D32*$E32," ")," ")
B33: Deadlift w/pause 5-7cm above knees | C33: 0.65 | D33: 3 | E33: 1 | F33: =Max!$B$4*C33 -> 104 | K33: =D33*E33 -> 3 | L33: =F33*K33 -> 312 | R33: =IF(ISNUMBER(SEARCH("bench",$B33)),IF($C33>=0.5,IF($C33<0.6,$D33*$E33," ")," ")," ") | S33: =IF(ISNUMBER(SEARCH("bench",$B33)),IF($C33>=0.6,IF($C33<0.7,$D33*$E33," ")," ")," ") | T33: =IF(ISNUMBER(SEARCH("bench",$B33)),IF($C33>=0.7,IF($C33<0.8,$D33*$E33," ")," ")," ") | U33: =IF(ISNUMBER(SEARCH("bench",$B33)),IF($C33>=0.8,IF($C33<0.9,$D33*$E33," ")," ")," ") | V33: =IF(ISNUMBER(SEARCH("bench",$B33)),IF($C33>=0.9,$D33*$E33," ")," ") | W33: =IF(ISNUMBER(SEARCH("deadlift",$B33)),IF($C33>=0.5,IF($C33<0.6,$D33*$E33," ")," ")," ") | X33: =IF(ISNUMBER(SEARCH("deadlift",$B33)),IF($C33>=0.6,IF($C33<0.7,$D33*$E33," ")," ")," ") -> 3 | Y33: =IF(ISNUMBER(SEARCH("deadlift",$B33)),IF($C33>=0.7,IF($C33<0.8,$D33*$E33," ")," ")," ") | Z33: =IF(ISNUMBER(SEARCH("deadlift",$B33)),IF($C33>=0.8,IF($C33<0.9,$D33*$E33," ")," ")," ") | AA33: =IF(ISNUMBER(SEARCH("deadlift",$B33)),IF($C33>=0.9,$D33*$E33," ")," ")
B34: Deadlift w/pause 5-7cm above knees | C34: 0.75 | D34: 2 | E34: 4 | F34: =Max!$B$4*C34 -> 120 | K34: =D34*E34 -> 8 | L34: =F34*K34 -> 960 | R34: =IF(ISNUMBER(SEARCH("bench",$B34)),IF($C34>=0.5,IF($C34<0.6,$D34*$E34," ")," ")," ") | S34: =IF(ISNUMBER(SEARCH("bench",$B34)),IF($C34>=0.6,IF($C34<0.7,$D34*$E34," ")," ")," ") | T34: =IF(ISNUMBER(SEARCH("bench",$B34)),IF($C34>=0.7,IF($C34<0.8,$D34*$E34," ")," ")," ") | U34: =IF(ISNUMBER(SEARCH("bench",$B34)),IF($C34>=0.8,IF($C34<0.9,$D34*$E34," ")," ")," ") | V34: =IF(ISNUMBER(SEARCH("bench",$B34)),IF($C34>=0.9,$D34*$E34," ")," ") | W34: =IF(ISNUMBER(SEARCH("deadlift",$B34)),IF($C34>=0.5,IF($C34<0.6,$D34*$E34," ")," ")," ") | X34: =IF(ISNUMBER(SEARCH("deadlift",$B34)),IF($C34>=0.6,IF($C34<0.7,$D34*$E34," ")," ")," ") | Y34: =IF(ISNUMBER(SEARCH("deadlift",$B34)),IF($C34>=0.7,IF($C34<0.8,$D34*$E34," ")," ")," ") -> 8 | Z34: =IF(ISNUMBER(SEARCH("deadlift",$B34)),IF($C34>=0.8,IF($C34<0.9,$D34*$E34," ")," ")," ") | AA34: =IF(ISNUMBER(SEARCH("deadlift",$B34)),IF($C34>=0.9,$D34*$E34," ")," ")
A35: 4 | B35: Lat muscles | D35: 6 | E35: 4
A36: 5 | B36: Good morning | D36: 5 | E36: 5
A38: 5 day (Friday) | C38: % | D38: reps | E38: sets | F38: weight
A39: 1 | B39: Bench press | C39: 0.5 | D39: 5 | E39: 1 | F39: =Max!$B$3*C39 -> 42.5 | I39: =D39*E39 -> 5 | J39: =F39*I39 -> 212.5 | M39: =IF(ISNUMBER(SEARCH("squat",$B39)),IF($C39>=0.5,IF($C39<0.6,$D39*$E39," ")," ")," ") | N39: =IF(ISNUMBER(SEARCH("squat",$B39)),IF($C39>=0.6,IF($C39<0.7,$D39*$E39," ")," ")," ") | O39: =IF(ISNUMBER(SEARCH("squat",$B39)),IF($C39>=0.7,IF($C39<0.8,$D39*$E39," ")," ")," ") | P39: =IF(ISNUMBER(SEARCH("squat",$B39)),IF($C39>=0.8,IF($C39<0.9,$D39*$E39," ")," ")," ") | Q39: =IF(ISNUMBER(SEARCH("squat",$B39)),IF($C39>=0.9,$D39*$E39," ")," ") | R39: =IF(ISNUMBER(SEARCH("bench",$B39)),IF($C39>=0.5,IF($C39<0.6,$D39*$E39," ")," ")," ") -> 5 | S39: =IF(ISNUMBER(SEARCH("bench",$B39)),IF($C39>=0.6,IF($C39<0.7,$D39*$E39," ")," ")," ") | T39: =IF(ISNUMBER(SEARCH("bench",$B39)),IF($C39>=0.7,IF($C39<0.8,$D39*$E39," ")," ")," ") | U39: =IF(ISNUMBER(SEARCH("bench",$B39)),IF($C39>=0.8,IF($C39<0.9,$D39*$E39," ")," ")," ") | V39: =IF(ISNUMBER(SEARCH("bench",$B39)),IF($C39>=0.9,$D39*$E39," ")," ")
B40: Bench press | C40: 0.6 | D40: 4 | E40: 1 | F40: =Max!$B$3*C40 -> 51 | I40: =D40*E40 -> 4 | J40: =F40*I40 -> 204 | M40: =IF(ISNUMBER(SEARCH("squat",$B40)),IF($C40>=0.5,IF($C40<0.6,$D40*$E40," ")," ")," ") | N40: =IF(ISNUMBER(SEARCH("squat",$B40)),IF($C40>=0.6,IF($C40<0.7,$D40*$E40," ")," ")," ") | O40: =IF(ISNUMBER(SEARCH("squat",$B40)),IF($C40>=0.7,IF($C40<0.8,$D40*$E40," ")," ")," ") | P40: =IF(ISNUMBER(SEARCH("squat",$B40)),IF($C40>=0.8,IF($C40<0.9,$D40*$E40," ")," ")," ") | Q40: =IF(ISNUMBER(SEARCH("squat",$B40)),IF($C40>=0.9,$D40*$E40," ")," ") | R40: =IF(ISNUMBER(SEARCH("bench",$B40)),IF($C40>=0.5,IF($C40<0.6,$D40*$E40," ")," ")," ") | S40: =IF(ISNUMBER(SEARCH("bench",$B40)),IF($C40>=0.6,IF($C40<0.7,$D40*$E40," ")," ")," ") -> 4 | T40: =IF(ISNUMBER(SEARCH("bench",$B40)),IF($C40>=0.7,IF($C40<0.8,$D40*$E40," ")," ")," ") | U40: =IF(ISNUMBER(SEARCH("bench",$B40)),IF($C40>=0.8,IF($C40<0.9,$D40*$E40," ")," ")," ") | V40: =IF(ISNUMBER(SEARCH("bench",$B40)),IF($C40>=0.9,$D40*$E40," ")," ")
