Workbook

Sheet Max
A1: Enter your maxes here: | Z1: Made by ChaseT 2008.05.09
A2: Squat | B2: 200
A3: Bench | B3: 85
A4: Deadlift | B4: 160

Sheet Volume Calcs
A1: Volume Calculations
C6: These graphs show you volume vs intensity | U6: These graphs show the type of loading | AT6: These graphs show the focus of the loading
B10: Adaptation
G28: Poundage | U28: Squat | AC28: Bench | AK28: Deadlift
A29: 4 Day Prep | B29: Squat | C29: Bench | D29: Dead | E29: NL | G29: Squat | H29: Bench | I29: Dead | K29: Avg Wt. | M29: Squat | N29: Bench | O29: Dead | U29: % | V29: Week 1 | W29: Week 2 | X29: Week 3 | Y29: Week 4 | Z29: Month | AC29: % | AD29: Week 1 | AE29: Week 2 | AF29: Week 3 | AG29: Week 4 | AH29: Month | AK29: % | AL29: Week 1 | AM29: Week 2 | AN29: Week 3 | AO29: Week 4 | AP29: Month | AT29: % of Lifts | AU29: Week 1 | AV29: Week 2 | AW29: Week 3 | AX29: Week 4 | AY29: Month
A30: 1 | B30: ='4 day Prep'!G64 -> 52 | C30: ='4 day Prep'!I64 -> 105 | D30: ='4 day Prep'!K64 -> 61 | E30: =SUM(B30:D30) -> 218 | G30: ='4 day Prep'!H64 -> 6020 | H30: ='4 day Prep'!J64 -> 6069 | I30: ='4 day Prep'!L64 -> 6528 | J30: =SUM(G30:I30) -> 18617 | K30: =J30/E30 -> 85.399083 | M30: =G30/B30/Max!B2 -> 0.57884615 | N30: =H30/C30/Max!B3 -> 0.68 | O30: =I30/D30/Max!B4 -> 0.66885246 | U30: 50-59 | V30: ='4 day Prep'!$M$64 -> 18 | W30: ='4 day Prep'!$M$117 -> 21 | X30: ='4 day Prep'!$M$185 -> 21 | Y30: ='4 day Prep'!$M$254 -> 23 | Z30: =SUM(V30:Y30) -> 83 | AC30: 50-59 | AD30: ='4 day Prep'!$R$64 -> 15 | AE30: ='4 day Prep'!$R$117 -> 12 | AF30: ='4 day Prep'!$R$185 -> 21 | AG30: ='4 day Prep'!$R$254 -> 19 | AH30: =SUM(AD30:AG30) -> 67 | AK30: 50-59 | AL30: ='4 day Prep'!$W$64 -> 12 | AM30: ='4 day Prep'!$W$117 -> 6 | AN30: ='4 day Prep'!$W$185 -> 9 | AO30: ='4 day Prep'!$W$254 -> 9 | AP30: =SUM(AL30:AO30) -> 36 | AT30: Squat | AU30: =V35/(V35+AD35+AL35) -> 0.20952381 | AV30: =W35/(W35+AE35+AM35) -> 0.27152318 | AW30: =X35/(X35+AF35+AN35) -> 0.2055336 | AX30: =Y35/(Y35+AG35+AO35) -> 0.23140496 | AY30: =Z35/(Z35+AH35+AP35) -> 0.22546729
A31: 2 | B31: ='4 day Prep'!G117 -> 49 | C31: ='4 day Prep'!I117 -> 78 | D31: ='4 day Prep'!K117 -> 32 | E31: =SUM(B31:D31) -> 159 | G31: ='4 day Prep'!H117 -> 5610 | H31: ='4 day Prep'!J117 -> 4488 | I31: ='4 day Prep'!L117 -> 3400 | J31: =SUM(G31:I31) -> 13498 | K31: =J31/E31 -> 84.893082 | M31: =G31/B31/Max!B2 -> 0.57244898 | N31: =H31/C31/Max!B3 -> 0.67692308 | O31: =I31/D31/Max!B4 -> 0.6640625 | U31: 60-69 | V31: ='4 day Prep'!$N$64 -> 6 | W31: ='4 day Prep'!$N$117 -> 4 | X31: ='4 day Prep'!$N$185 -> 7 | Y31: ='4 day Prep'!$N$254 -> 7 | Z31: =SUM(V31:Y31) -> 24 | AC31: 60-69 | AD31: ='4 day Prep'!$S$64 -> 16 | AE31: ='4 day Prep'!$S$117 -> 25 | AF31: ='4 day Prep'!$S$185 -> 52 | AG31: ='4 day Prep'!$S$254 -> 44 | AH31: =SUM(AD31:AG31) -> 137 | AK31: 60-69 | AL31: ='4 day Prep'!$X$64 -> 17 | AM31: ='4 day Prep'!$X$117 -> 6 | AN31: ='4 day Prep'!$X$185 -> 13 | AO31: ='4 day Prep'!$X$254 -> 12 | AP31: =SUM(AL31:AO31) -> 48 | AT31: Bench | AU31: =AD35/(V35+AD35+AL35) -> 0.5 | AV31: =AE35/(W35+AE35+AM35) -> 0.51655629 | AW31: =AF35/(X35+AF35+AN35) -> 0.49802372 | AX31: =AG35/(Y35+AG35+AO35) -> 0.5 | AY31: =AH35/(Z35+AH35+AP35) -> 0.50233645
A32: 3 | B32: ='4 day Prep'!G185 -> 56 | C32: ='4 day Prep'!I185 -> 126 | D32: ='4 day Prep'!K185 -> 75 | E32: =SUM(B32:D32) -> 257 | G32: ='4 day Prep'!H185 -> 6990 | H32: ='4 day Prep'!J185 -> 7067.75 | I32: ='4 day Prep'!L185 -> 8352 | J32: =SUM(G32:I32) -> 22409.75 | K32: =J32/E32 -> 87.197471 | M32: =G32/B32/Max!B2 -> 0.62410714 | N32: =H32/C32/Max!B3 -> 0.65992063 | O32: =I32/D32/Max!B4 -> 0.696 | U32: 70-79 | V32: ='4 day Prep'!$O$64 -> 20 | W32: ='4 day Prep'!$O$117 -> 6 | X32: ='4 day Prep'!$O$185 -> 14 | Y32: ='4 day Prep'!$O$254 -> 6 | Z32: =SUM(V32:Y32) -> 46 | AC32: 70-79 | AD32: ='4 day Prep'!$T$64 -> 62 | AE32: ='4 day Prep'!$T$117 -> 21 | AF32: ='4 day Prep'!$T$185 -> 36 | AG32: ='4 day Prep'!$T$254 -> 20 | AH32: =SUM(AD32:AG32) -> 139 | AK32: 70-79 | AL32: ='4 day Prep'!$Y$64 -> 26 | AM32: ='4 day Prep'!$Y$117 -> 20 | AN32: ='4 day Prep'!$Y$185 -> 37 | AO32: ='4 day Prep'!$Y$254 -> 29 | AP32: =SUM(AL32:AO32) -> 112 | AT32: Deadlift | AU32: =AL35/(AL35+AD35+V35) -> 0.29047619 | AV32: =AM35/(AM35+AE35+W35) -> 0.21192053 | AW32: =AN35/(AN35+AF35+X35) -> 0.29644269 | AX32: =AO35/(AO35+AG35+Y35) -> 0.26859504 | AY32: =AP35/(AP35+AH35+Z35) -> 0.27219626
A33: 4 | B33: ='4 day Prep'!G254 -> 62 | C33: ='4 day Prep'!I254 -> 121 | D33: ='4 day Prep'!K254 -> 65 | E33: =SUM(B33:D33) -> 248 | G33: ='4 day Prep'!H254 -> 7780 | H33: ='4 day Prep'!J254 -> 7059.25 | I33: ='4 day Prep'!L254 -> 7248 | J33: =SUM(G33:I33) -> 22087.25 | K33: =J33/E33 -> 89.061492 | M33: =G33/B33/Max!B2 -> 0.62741935 | N33: =H33/C33/Max!B3 -> 0.68636364 | O33: =I33/D33/Max!B4 -> 0.69692308 | U33: 80-89 | V33: ='4 day Prep'!$P$64 -> 0 | W33: ='4 day Prep'!$P$117 -> 10 | X33: ='4 day Prep'!$P$185 -> 10 | Y33: ='4 day Prep'!$P$254 -> 20 | Z33: =SUM(V33:Y33) -> 40 | AC33: 80-89 | AD33: ='4 day Prep'!$U$64 -> 12 | AE33: ='4 day Prep'!$U$117 -> 17 | AF33: ='4 day Prep'!$U$185 -> 14 | AG33: ='4 day Prep'!$U$254 -> 32 | AH33: =SUM(AD33:AG33) -> 75 | AK33: 80-89 | AL33: ='4 day Prep'!$Z$64 -> 6 | AM33: ='4 day Prep'!$Z$117 -> 0 | AN33: ='4 day Prep'!$Z$185 -> 16 | AO33: ='4 day Prep'!$Z$254 -> 9 | AP33: =SUM(AL33:AO33) -> 31
A34: Total | B34: =SUM(B30:B33) -> 219 | C34: =SUM(C30:C33) -> 430 | D34: =SUM(D30:D33) -> 233 | E34: =SUM(E30:E33) -> 882 | G34: =SUM(G30:G33) -> 26400 | H34: =SUM(H30:H33) -> 24684 | I34: =SUM(I30:I33) -> 25528 | J34: =SUM(J30:J33) -> 76612 | K34: =J34/E34 -> 86.861678 | M34: =G34/B34/Max!B2 -> 0.60273973 | N34: =H34/C34/Max!B3 -> 0.67534884 | O34: =I34/D34/Max!B4 -> 0.68476395 | U34: 90+ | V34: ='4 day Prep'!$Q$64 -> 0 | W34: ='4 day Prep'!$Q$117 -> 0 | X34: ='4 day Prep'!$Q$185 -> 0 | Y34: ='4 day Prep'!$Q$254 -> 0 | Z34: =SUM(V34:Y34) -> 0 | AC34: 90+ | AD34: ='4 day Prep'!$V$64 -> 0 | AE34: ='4 day Prep'!$V$117 -> 3 | AF34: ='4 day Prep'!$V$185 -> 3 | AG34: ='4 day Prep'!$V$254 -> 6 | AH34: =SUM(AD34:AG34) -> 12 | AK34: 90+ | AL34: ='4 day Prep'!$AA$64 -> 0 | AM34: ='4 day Prep'!$AA$117 -> 0 | AN34: ='4 day Prep'!$AA$185 -> 0 | AO34: ='4 day Prep'!$AA$254 -> 6 | AP34: =SUM(AL34:AO34) -> 6
U35: NL | V35: =SUM(V30:V34) -> 44 | W35: =SUM(W30:W34) -> 41 | X35: =SUM(X30:X34) -> 52 | Y35: =SUM(Y30:Y34) -> 56 | Z35: =SUM(V35:Y35) -> 193 | AC35: NL | AD35: =SUM(AD30:AD34) -> 105 | AE35: =SUM(AE30:AE34) -> 78 | AF35: =SUM(AF30:AF34) -> 126 | AG35: =SUM(AG30:AG34) -> 121 | AH35: =SUM(AD35:AG35) -> 430 | AK35: NL | AL35: =SUM(AL30:AL34) -> 61 | AM35: =SUM(AM30:AM34) -> 32 | AN35: =SUM(AN30:AN34) -> 75 | AO35: =SUM(AO30:AO34) -> 65 | AP35: =SUM(AL35:AO35) -> 233
U36: Avg. Int. | V36: =M30 -> 0.57884615 | W36: =M31 -> 0.57244898 | X36: =M32 -> 0.62410714 | Y36: =M33 -> 0.62741935 | Z36: =M34 -> 0.60273973 | AC36: Avg. Int. | AD36: =N30 -> 0.68 | AE36: =N31 -> 0.67692308 | AF36: =N32 -> 0.65992063 | AG36: =N33 -> 0.68636364 | AH36: =N34 -> 0.67534884 | AK36: Avg. Int. | AL36: =O30 -> 0.66885246 | AM36: =O31 -> 0.6640625 | AN36: =O32 -> 0.696 | AO36: =O33 -> 0.69692308 | AP36: =O34 -> 0.68476395
B40: Accumulation
G58: Poundage | U58: Squat | AC58: Bench | AK58: Deadlift
A59: 4 Day Prep2 | B59: Squat | C59: Bench | D59: Dead | E59: NL | G59: Squat | H59: Bench | I59: Dead | K59: Avg Wt. | M59: Squat | N59: Bench | O59: Dead | U59: % | V59: Week 1 | W59: Week 2 | X59: Week 3 | Y59: Week 4 | Z59: Week 5 | AA59: Week 6 | AB59: Cycle | AC59: % | AD59: Week 1 | AE59: Week 2 | AF59: Week 3 | AG59: Week 4 | AH59: Week 5 | AI59: Week 6 | AJ59: Cycle | AK59: % | AL59: Week 1 | AM59: Week 2 | AN59: Week 3 | AO59: Week 4 | AP59: Week 5 | AQ59: Week 6 | AR59: Cycle | AT59: % of Lifts | AU59: Week 1 | AV59: Week 2 | AW59: Week 3 | AX59: Week 4 | AY59: Week 5 | AZ59: Week 6 | BA59: Cycle
A60: 1 | B60: ='4 day Prep (2)'!G66 -> 59 | C60: ='4 day Prep (2)'!I66 -> 103 | D60: ='4 day Prep (2)'!K66 -> 59 | E60: =SUM(B60:D60) -> 221 | G60: ='4 day Prep (2)'!H66 -> 7840 | H60: ='4 day Prep (2)'!J66 -> 6103 | I60: ='4 day Prep (2)'!L66 -> 7064 | J60: =SUM(G60:I60) -> 21007 | K60: =J60/E60 -> 95.054299 | M60: =G60/B60/Max!B2 -> 0.66440678 | N60: =H60/C60/Max!B3 -> 0.69708738 | O60: =I60/D60/Max!B4 -> 0.74830508 | U60: 50-59 | V60: ='4 day Prep (2)'!$M$66 -> 10 | W60: ='4 day Prep (2)'!$M$124 -> 13 | X60: ='4 day Prep (2)'!$M$186 -> 14 | Y60: ='4 day Prep (2)'!$M$247 -> 10 | Z60: ='4 day Prep (2)'!$M$319 -> 14 | AA60: ='4 day Prep (2)'!$M$383 -> 15 | AB60: =SUM(V60:AA60) -> 76 | AC60: 50-59 | AD60: ='4 day Prep (2)'!$R$66 -> 17 | AE60: ='4 day Prep (2)'!$R$124 -> 18 | AF60: ='4 day Prep (2)'!$R$186 -> 21 | AG60: ='4 day Prep (2)'!$R$247 -> 16 | AH60: ='4 day Prep (2)'!$R$319 -> 35 | AI60: ='4 day Prep (2)'!$R$383 -> 19 | AJ60: =SUM(AD60:AI60) -> 126 | AK60: 50-59 | AL60: ='4 day Prep (2)'!$W$66 -> 3 | AM60: ='4 day Prep (2)'!$W$124 -> 9 | AN60: ='4 day Prep (2)'!$W$186 -> 6 | AO60: ='4 day Prep (2)'!$W$247 -> 9 | AP60: ='4 day Prep (2)'!$W$319 -> 14 | AQ60: ='4 day Prep (2)'!$W$383 -> 13 | AR60: =SUM(AL60:AQ60) -> 54 | AT60: Squat | AU60: =V65/(V65+AD65+AL65) -> 0.26696833 | AV60: =W65/(W65+AE65+AM65) -> 0.28061224 | AW60: =X65/(X65+AF65+AN65) -> 0.33870968 | AX60: =Y65/(Y65+AG65+AO65) -> 0.2320442 | AY60: =Z65/(Z65+AH65+AP65) -> 0.29354839 | AZ60: =AA65/(AA65+AI65+AQ65) -> 0.27169811 | BA60: =AB65/(AB65+AJ65+AR65) -> 0.2836031
A61: 2 | B61: ='4 day Prep (2)'!G124 -> 55 | C61: ='4 day Prep (2)'!I124 -> 93 | D61: ='4 day Prep (2)'!K124 -> 48 | E61: =SUM(B61:D61) -> 196 | G61: ='4 day Prep (2)'!H124 -> 7600 | H61: ='4 day Prep (2)'!J124 -> 5580.25 | I61: ='4 day Prep (2)'!L124 -> 5072 | J61: =SUM(G61:I61) -> 18252.25 | K61: =J61/E61 -> 93.123724 | M61: =G61/B61/Max!B2 -> 0.69090909 | N61: =H61/C61/Max!B3 -> 0.70591398 | O61: =I61/D61/Max!B4 -> 0.66041667 | U61: 60-69 | V61: ='4 day Prep (2)'!$N$66 -> 9 | W61: ='4 day Prep (2)'!$N$124 -> 11 | X61: ='4 day Prep (2)'!$N$186 -> 13 | Y61: ='4 day Prep (2)'!$N$247 -> 8 | Z61: ='4 day Prep (2)'!$N$319 -> 13 | AA61: ='4 day Prep (2)'!$N$383 -> 13 | AB61: =SUM(V61:AA61) -> 67 | AC61: 60-69 | AD61: ='4 day Prep (2)'!$S$66 -> 18 | AE61: ='4 day Prep (2)'!$S$124 -> 15 | AF61: ='4 day Prep (2)'!$S$186 -> 19 | AG61: ='4 day Prep (2)'!$S$247 -> 14 | AH61: ='4 day Prep (2)'!$S$319 -> 28 | AI61: ='4 day Prep (2)'!$S$383 -> 17 | AJ61: =SUM(AD61:AI61) -> 111 | AK61: 60-69 | AL61: ='4 day Prep (2)'!$X$66 -> 9 | AM61: ='4 day Prep (2)'!$X$124 -> 9 | AN61: ='4 day Prep (2)'!$X$186 -> 10 | AO61: ='4 day Prep (2)'!$X$247 -> 12 | AP61: ='4 day Prep (2)'!$X$319 -> 14 | AQ61: ='4 day Prep (2)'!$X$383 -> 19 | AR61: =SUM(AL61:AQ61) -> 73 | AT61: Bench | AU61: =AD65/(V65+AD65+AL65) -> 0.46606335 | AV61: =AE65/(W65+AE65+AM65) -> 0.4744898 | AW61: =AF65/(X65+AF65+AN65) -> 0.4233871 | AX61: =AG65/(Y65+AG65+AO65) -> 0.4640884 | AY61: =AH65/(Z65+AH65+AP65) -> 0.41612903 | AZ61: =AI65/(AA65+AI65+AQ65) -> 0.44528302 | BA61: =AJ65/(AB65+AJ65+AR65) -> 0.44475721
A62: 3 | B62: ='4 day Prep (2)'!G186 -> 84 | C62: ='4 day Prep (2)'!I186 -> 105 | D62: ='4 day Prep (2)'!K186 -> 59 | E62: =SUM(B62:D62) -> 248 | G62: ='4 day Prep (2)'!H186 -> 11100 | H62: ='4 day Prep (2)'!J186 -> 5996.75 | I62: ='4 day Prep (2)'!L186 -> 6608 | J62: =SUM(G62:I62) -> 23704.75 | K62: =J62/E62 -> 95.583669 | M62: =G62/B62/Max!B2 -> 0.66071429 | N62: =H62/C62/Max!B3 -> 0.67190476 | O62: =I62/D62/Max!B4 -> 0.7 | U62: 70-79 | V62: ='4 day Prep (2)'!$O$66 -> 32 | W62: ='4 day Prep (2)'!$O$124 -> 9 | X62: ='4 day Prep (2)'!$O$186 -> 49 | Y62: ='4 day Prep (2)'!$O$247 -> 6 | Z62: ='4 day Prep (2)'!$O$319 -> 64 | AA62: ='4 day Prep (2)'!$O$383 -> 26 | AB62: =SUM(V62:AA62) -> 186 | AC62: 70-79 | AD62: ='4 day Prep (2)'!$T$66 -> 36 | AE62: ='4 day Prep (2)'!$T$124 -> 25 | AF62: ='4 day Prep (2)'!$T$186 -> 45 | AG62: ='4 day Prep (2)'!$T$247 -> 12 | AH62: ='4 day Prep (2)'!$T$319 -> 36 | AI62: ='4 day Prep (2)'!$T$383 -> 72 | AJ62: =SUM(AD62:AI62) -> 226 | AK62: 70-79 | AL62: ='4 day Prep (2)'!$Y$66 -> 14 | AM62: ='4 day Prep (2)'!$Y$124 -> 30 | AN62: ='4 day Prep (2)'!$Y$186 -> 27 | AO62: ='4 day Prep (2)'!$Y$247 -> 17 | AP62: ='4 day Prep (2)'!$Y$319 -> 50 | AQ62: ='4 day Prep (2)'!$Y$383 -> 33 | AR62: =SUM(AL62:AQ62) -> 171 | AT62: Deadlift | AU62: =AL65/(AL65+AD65+V65) -> 0.26696833 | AV62: =AM65/(AM65+AE65+W65) -> 0.24489796 | AW62: =AN65/(AN65+AF65+X65) -> 0.23790323 | AX62: =AO65/(AO65+AG65+Y65) -> 0.3038674 | AY62: =AP65/(AP65+AH65+Z65) -> 0.29032258 | AZ62: =AQ65/(AQ65+AI65+AA65) -> 0.28301887 | BA62: =AR65/(AR65+AJ65+AB65) -> 0.27163969
A63: 4 | B63: ='4 day Prep (2)'!G247 -> 42 | C63: ='4 day Prep (2)'!I247 -> 84 | D63: ='4 day Prep (2)'!K247 -> 63 | E63: =SUM(B63:D63) -> 189 | G63: ='4 day Prep (2)'!H247 -> 5680 | H63: ='4 day Prep (2)'!J247 -> 5185 | I63: ='4 day Prep (2)'!L247 -> 6960 | J63: =SUM(G63:I63) -> 17825 | K63: =J63/E63 -> 94.312169 | M63: =G63/B63/Max!B2 -> 0.67619048 | N63: =H63/C63/Max!B3 -> 0.72619048 | O63: =I63/D63/Max!B4 -> 0.69047619 | U63: 80-89 | V63: ='4 day Prep (2)'!$P$66 -> 8 | W63: ='4 day Prep (2)'!$P$124 -> 22 | X63: ='4 day Prep (2)'!$P$186 -> 8 | Y63: ='4 day Prep (2)'!$P$247 -> 18 | Z63: ='4 day Prep (2)'!$P$319 -> 0 | AA63: ='4 day Prep (2)'!$P$383 -> 18 | AB63: =SUM(V63:AA63) -> 74 | AC63: 80-89 | AD63: ='4 day Prep (2)'!$U$66 -> 32 | AE63: ='4 day Prep (2)'!$U$124 -> 29 | AF63: ='4 day Prep (2)'!$U$186 -> 20 | AG63: ='4 day Prep (2)'!$U$247 -> 35 | AH63: ='4 day Prep (2)'!$U$319 -> 30 | AI63: ='4 day Prep (2)'!$U$383 -> 10 | AJ63: =SUM(AD63:AI63) -> 156 | AK63: 80-89 | AL63: ='4 day Prep (2)'!$Z$66 -> 33 | AM63: ='4 day Prep (2)'!$Z$124 -> 0 | AN63: ='4 day Prep (2)'!$Z$186 -> 16 | AO63: ='4 day Prep (2)'!$Z$247 -> 17 | AP63: ='4 day Prep (2)'!$Z$319 -> 12 | AQ63: ='4 day Prep (2)'!$Z$383 -> 10 | AR63: =SUM(AL63:AQ63) -> 88
A64: 5 | B64: ='4 day Prep (2)'!G319 -> 91 | C64: ='4 day Prep (2)'!I319 -> 129 | D64: ='4 day Prep (2)'!K319 -> 90 | E64: =SUM(B64:D64) -> 310 | G64: ='4 day Prep (2)'!H319 -> 12040 | H64: ='4 day Prep (2)'!J319 -> 7182.5 | I64: ='4 day Prep (2)'!L319 -> 9960 | J64: =SUM(G64:I64) -> 29182.5 | K64: =J64/E64 -> 94.137097 | M64: =G64/B64/Max!B2 -> 0.66153846 | N64: =H64/C64/Max!B3 -> 0.65503876 | O64: =I64/D64/Max!B4 -> 0.69166667 | U64: 90+ | V64: ='4 day Prep (2)'!$Q$66 -> 0 | W64: ='4 day Prep (2)'!$Q$124 -> 0 | X64: ='4 day Prep (2)'!$Q$186 -> 0 | Y64: ='4 day Prep (2)'!$Q$247 -> 0 | Z64: ='4 day Prep (2)'!$Q$319 -> 0 | AA64: ='4 day Prep (2)'!$Q$383 -> 0 | AB64: =SUM(V64:AA64) -> 0 | AC64: 90+ | AD64: ='4 day Prep (2)'!$V$66 -> 0 | AE64: ='4 day Prep (2)'!$V$124 -> 6 | AF64: ='4 day Prep (2)'!$V$186 -> 0 | AG64: ='4 day Prep (2)'!$V$247 -> 7 | AH64: ='4 day Prep (2)'!$V$319 -> 0 | AI64: ='4 day Prep (2)'!$V$383 -> 0 | AJ64: =SUM(AD64:AI64) -> 13 | AK64: 90+ | AL64: ='4 day Prep (2)'!$AA$66 -> 0 | AM64: ='4 day Prep (2)'!$AA$124 -> 0 | AN64: ='4 day Prep (2)'!$AA$186 -> 0 | AO64: ='4 day Prep (2)'!$AA$247 -> 0 | AP64: ='4 day Prep (2)'!$AA$319 -> 0 | AQ64: ='4 day Prep (2)'!$AA$383 -> 0 | AR64: =SUM(AL64:AQ64) -> 0
A65: 6 | B65: ='4 day Prep (2)'!G383 -> 42 | C65: ='4 day Prep (2)'!I383 -> 84 | D65: ='4 day Prep (2)'!K383 -> 63 | E65: =SUM(B65:D65) -> 189 | G65: ='4 day Prep (2)'!H383 -> 5680 | H65: ='4 day Prep (2)'!J383 -> 5185 | I65: ='4 day Prep (2)'!L383 -> 6960 | J65: =SUM(G65:I65) -> 17825 | K65: =J65/E65 -> 94.312169 | M65: =G65/B65/Max!B2 -> 0.67619048 | N65: =H65/C65/Max!B3 -> 0.72619048 | O65: =I65/D65/Max!B4 -> 0.69047619 | U65: NL | V65: =SUM(V60:V64) -> 59 | W65: =SUM(W60:W64) -> 55 | X65: =SUM(X60:X64) -> 84 | Y65: =SUM(Y60:Y64) -> 42 | Z65: =SUM(Z60:Z64) -> 91 | AA65: =SUM(AA60:AA64) -> 72 | AB65: =SUM(AB60:AB64) -> 403 | AC65: NL | AD65: =SUM(AD60:AD64) -> 103 | AE65: =SUM(AE60:AE64) -> 93 | AF65: =SUM(AF60:AF64) -> 105 | AG65: =SUM(AG60:AG64) -> 84 | AH65: =SUM(AH60:AH64) -> 129 | AI65: =SUM(AI60:AI64) -> 118 | AJ65: =SUM(AJ60:AJ64) -> 632 | AK65: NL | AL65: =SUM(AL60:AL64) -> 59 | AM65: =SUM(AM60:AM64) -> 48 | AN65: =SUM(AN60:AN64) -> 59 | AO65: =SUM(AO60:AO64) -> 55 | AP65: =SUM(AP60:AP64) -> 90 | AQ65: =SUM(AQ60:AQ64) -> 75 | AR65: =SUM(AL65:AQ65) -> 386
A66: Total | B66: ='4 day Prep (2)'!G386 -> 373 | C66: ='4 day Prep (2)'!I386 -> 598 | D66: ='4 day Prep (2)'!K386 -> 382 | E66: =SUM(E60:E65) -> 1353 | G66: =SUM(G60:G65) -> 49940 | H66: =SUM(H60:H65) -> 35232.5 | I66: =SUM(I60:I65) -> 42624 | J66: =SUM(J60:J65) -> 127796.5 | K66: =J66/E66 -> 94.454176 | M66: =G66/B66/Max!B2 -> 0.669437 | N66: =H66/C66/Max!B3 -> 0.69314381 | O66: =I66/D66/Max!B4 -> 0.6973822 | U66: Avg. Int. | V66: =M60 -> 0.66440678 | W66: =M61 -> 0.69090909 | X66: =M62 -> 0.66071429 | Y66: =M63 -> 0.67619048 | Z66: =M64 -> 0.66153846 | AA66: =M65 -> 0.67619048 | AB66: =M66 -> 0.669437 | AC66: Avg. Int. | AD66: =N60 -> 0.69708738 | AE66: =N61 -> 0.70591398 | AF66: =N62 -> 0.67190476 | AG66: =N63 -> 0.72619048 | AH66: =N64 -> 0.65503876 | AI66: =N65 -> 0.72619048 | AJ66: =N66 -> 0.69314381 | AK66: Avg. Int. | AL66: =O60 -> 0.74830508 | AM66: =O61 -> 0.66041667 | AN66: =O62 -> 0.7 | AO66: =O63 -> 0.69047619 | AP66: =O64 -> 0.69166667 | AQ66: =O65 -> 0.69047619 | AR66: =O66 -> 0.6973822
B70: Transmutation
G88: Poundage | U88: Squat | AC88: Bench | AK88: Deadlift
A89: 4 Day Prep3 | B89: Squat | C89: Bench | D89: Dead | E89: NL | G89: Squat | H89: Bench | I89: Dead | K89: Avg Wt. | M89: Squat | N89: Bench | O89: Dead | U89: % | V89: Week 1 | W89: Week 2 | X89: Week 3 | Y89: Week 4 | Z89: Week 5 | AA89: Cycle | AC89: % | AD89: Week 1 | AE89: Week 2 | AF89: Week 3 | AG89: Week 4 | AH89: Week 5 | AI89: Cycle | AK89: % | AL89: Week 1 | AM89: Week 2 | AN89: Week 3 | AO89: Week 4 | AP89: Week 5 | AQ89: Cycle | AT89: % of Lifts | AU89: Week 1 | AV89: Week 2 | AW89: Week 3 | AX89: Week 4 | AY89: Week 5 | AZ89: Cycle
A90: 1 | B90: ='4 day Prep (3)'!G58 -> 55 | C90: ='4 day Prep (3)'!I58 -> 62 | D90: ='4 day Prep (3)'!K58 -> 35 | E90: =SUM(B90:D90) -> 152 | G90: ='4 day Prep (3)'!H58 -> 7500 | H90: ='4 day Prep (3)'!J58 -> 3527.5 | I90: ='4 day Prep (3)'!L58 -> 4176 | J90: =SUM(G90:I90) -> 15203.5 | K90: =J90/E90 -> 100.02303 | M90: =G90/B90/Max!B2 -> 0.68181818 | N90: =H90/C90/Max!B3 -> 0.66935484 | O90: =I90/D90/Max!B4 -> 0.74571429 | U90: 50-59 | V90: ='4 day Prep (3)'!$M$58 -> 13 | W90: ='4 day Prep (3)'!$M$122 -> 15 | X90: ='4 day Prep (3)'!$M$187 -> 10 | Y90: ='4 day Prep (3)'!$M$253 -> 10 | Z90: ='4 day Prep (3)'!$M$314 -> 13 | AA90: =SUM(V90:Z90) -> 61 | AC90: 50-59 | AD90: ='4 day Prep (3)'!$R$58 -> 15 | AE90: ='4 day Prep (3)'!$R$122 -> 20 | AF90: ='4 day Prep (3)'!$R$187 -> 28 | AG90: ='4 day Prep (3)'!$R$253 -> 19 | AH90: ='4 day Prep (3)'!$R$314 -> 24 | AI90: =SUM(AD90:AH90) -> 106 | AK90: 50-59 | AL90: ='4 day Prep (3)'!$W$58 -> 3 | AM90: ='4 day Prep (3)'!$W$122 -> 8 | AN90: ='4 day Prep (3)'!$W$187 -> 11 | AO90: ='4 day Prep (3)'!$W$253 -> 7 | AP90: ='4 day Prep (3)'!$W$314 -> 9 | AQ90: =SUM(AL90:AP90) -> 38 | AT90: Squat | AU90: =V95/(V95+AD95+AL95) -> 0.36184211 | AV90: =W95/(W95+AE95+AM95) -> 0.30396476 | AW90: =X95/(X95+AF95+AN95) -> 0.24632353 | AX90: =Y95/(Y95+AG95+AO95) -> 0.28063241 | AY90: =Z95/(Z95+AH95+AP95) -> 0.21969697 | AZ90: =AA95/(AA95+AI95+AQ95) -> 0.2739726
A91: 2 | B91: ='4 day Prep (3)'!G122 -> 69 | C91: ='4 day Prep (3)'!I122 -> 94 | D91: ='4 day Prep (3)'!K122 -> 64 | E91: =SUM(B91:D91) -> 227 | G91: ='4 day Prep (3)'!H122 -> 8970 | H91: ='4 day Prep (3)'!J122 -> 5374.5 | I91: ='4 day Prep (3)'!L122 -> 6372.25 | J91: =SUM(G91:I91) -> 20716.75 | K91: =J91/E91 -> 91.263216 | M91: =G91/B91/Max!B2 -> 0.65 | N91: =H91/C91/Max!B3 -> 0.67265332 | O91: =I91/D91/Max!B4 -> 0.62229004 | U91: 60-69 | V91: ='4 day Prep (3)'!$N$58 -> 11 | W91: ='4 day Prep (3)'!$N$122 -> 13 | X91: ='4 day Prep (3)'!$N$187 -> 39 | Y91: ='4 day Prep (3)'!$N$253 -> 9 | Z91: ='4 day Prep (3)'!$N$314 -> 11 | AA91: =SUM(V91:Z91) -> 83 | AC91: 60-69 | AD91: ='4 day Prep (3)'!$S$58 -> 12 | AE91: ='4 day Prep (3)'!$S$122 -> 17 | AF91: ='4 day Prep (3)'!$S$187 -> 27 | AG91: ='4 day Prep (3)'!$S$253 -> 18 | AH91: ='4 day Prep (3)'!$S$314 -> 22 | AI91: =SUM(AD91:AH91) -> 96 | AK91: 60-69 | AL91: ='4 day Prep (3)'!$X$58 -> 6 | AM91: ='4 day Prep (3)'!$X$122 -> 11 | AN91: ='4 day Prep (3)'!$X$187 -> 11 | AO91: ='4 day Prep (3)'!$X$253 -> 10 | AP91: ='4 day Prep (3)'!$X$314 -> 12 | AQ91: =SUM(AL91:AP91) -> 50 | AT91: Bench | AU91: =AD95/(V95+AD95+AL95) -> 0.40789474 | AV91: =AE95/(W95+AE95+AM95) -> 0.41409692 | AW91: =AF95/(X95+AF95+AN95) -> 0.51470588 | AX91: =AG95/(Y95+AG95+AO95) -> 0.50592885 | AY91: =AH95/(Z95+AH95+AP95) -> 0.50757576 | AZ91: =AI95/(AA95+AI95+AQ95) -> 0.47773973
A92: 3 | B92: ='4 day Prep (3)'!G187 -> 67 | C92: ='4 day Prep (3)'!I187 -> 140 | D92: ='4 day Prep (3)'!K187 -> 65 | E92: =SUM(B92:D92) -> 272 | G92: ='4 day Prep (3)'!H187 -> 8800 | H92: ='4 day Prep (3)'!J187 -> 8075 | I92: ='4 day Prep (3)'!L187 -> 6912 | J92: =SUM(G92:I92) -> 23787 | K92: =J92/E92 -> 87.452206 | M92: =G92/B92/Max!B2 -> 0.65671642 | N92: =H92/C92/Max!B3 -> 0.67857143 | O92: =I92/D92/Max!B4 -> 0.66461538 | U92: 70-79 | V92: ='4 day Prep (3)'!$O$58 -> 17 | W92: ='4 day Prep (3)'!$O$122 -> 26 | X92: ='4 day Prep (3)'!$O$187 -> 3 | Y92: ='4 day Prep (3)'!$O$253 -> 36 | Z92: ='4 day Prep (3)'!$O$314 -> 18 | AA92: =SUM(V92:Z92) -> 100 | AC92: 70-79 | AD92: ='4 day Prep (3)'!$T$58 -> 17 | AE92: ='4 day Prep (3)'!$T$122 -> 50 | AF92: ='4 day Prep (3)'!$T$187 -> 34 | AG92: ='4 day Prep (3)'!$T$253 -> 61 | AH92: ='4 day Prep (3)'!$T$314 -> 76 | AI92: =SUM(AD92:AH92) -> 238 | AK92: 70-79 | AL92: ='4 day Prep (3)'!$Y$58 -> 14 | AM92: ='4 day Prep (3)'!$Y$122 -> 22 | AN92: ='4 day Prep (3)'!$Y$187 -> 43 | AO92: ='4 day Prep (3)'!$Y$253 -> 9 | AP92: ='4 day Prep (3)'!$Y$314 -> 29 | AQ92: =SUM(AL92:AP92) -> 117 | AT92: Deadlift | AU92: =AL95/(AL95+AD95+V95) -> 0.23026316 | AV92: =AM95/(AM95+AE95+W95) -> 0.28193833 | AW92: =AN95/(AN95+AF95+X95) -> 0.23897059 | AX92: =AO95/(AO95+AG95+Y95) -> 0.21343874 | AY92: =AP95/(AP95+AH95+Z95) -> 0.27272727 | AZ92: =AQ95/(AQ95+AI95+AA95) -> 0.24828767
A93: 4 | B93: ='4 day Prep (3)'!G253 -> 71 | C93: ='4 day Prep (3)'!I253 -> 128 | D93: ='4 day Prep (3)'!K253 -> 54 | E93: =SUM(B93:D93) -> 253 | G93: ='4 day Prep (3)'!H253 -> 9720 | H93: ='4 day Prep (3)'!J253 -> 7654.25 | I93: ='4 day Prep (3)'!L253 -> 6352 | J93: =SUM(G93:I93) -> 23726.25 | K93: =J93/E93 -> 93.779644 | M93: =G93/B93/Max!B2 -> 0.68450704 | N93: =H93/C93/Max!B3 -> 0.70351562 | O93: =I93/D93/Max!B4 -> 0.73518519 | U93: 80-89 | V93: ='4 day Prep (3)'!$P$58 -> 14 | W93: ='4 day Prep (3)'!$P$122 -> 10 | X93: ='4 day Prep (3)'!$P$187 -> 15 | Y93: ='4 day Prep (3)'!$P$253 -> 16 | Z93: ='4 day Prep (3)'!$P$314 -> 16 | AA93: =SUM(V93:Z93) -> 71 | AC93: 80-89 | AD93: ='4 day Prep (3)'!$U$58 -> 18 | AE93: ='4 day Prep (3)'!$U$122 -> 2 | AF93: ='4 day Prep (3)'!$U$187 -> 51 | AG93: ='4 day Prep (3)'!$U$253 -> 24 | AH93: ='4 day Prep (3)'!$U$314 -> 12 | AI93: =SUM(AD93:AH93) -> 107 | AK93: 80-89 | AL93: ='4 day Prep (3)'!$Z$58 -> 6 | AM93: ='4 day Prep (3)'!$Z$122 -> 18 | AN93: ='4 day Prep (3)'!$Z$187 -> 0 | AO93: ='4 day Prep (3)'!$Z$253 -> 22 | AP93: ='4 day Prep (3)'!$Z$314 -> 15 | AQ93: =SUM(AL93:AP93) -> 61
A94: 5 | B94: ='4 day Prep (3)'!G314 -> 58 | C94: ='4 day Prep (3)'!I314 -> 134 | D94: ='4 day Prep (3)'!K314 -> 72 | E94: =SUM(B94:D94) -> 264 | G94: ='4 day Prep (3)'!H314 -> 7880 | H94: ='4 day Prep (3)'!J314 -> 7514 | I94: ='4 day Prep (3)'!L314 -> 8360 | J94: =SUM(G94:I94) -> 23754 | K94: =J94/E94 -> 89.977273 | M94: =G94/B94/Max!B2 -> 0.67931034 | N94: =H94/C94/Max!B3 -> 0.65970149 | O94: =I94/D94/Max!B4 -> 0.72569444 | U94: 90+ | V94: ='4 day Prep (3)'!$Q$58 -> 0 | W94: ='4 day Prep (3)'!$Q$122 -> 5 | X94: ='4 day Prep (3)'!$Q$187 -> 0 | Y94: ='4 day Prep (3)'!$Q$253 -> 0 | Z94: ='4 day Prep (3)'!$Q$314 -> 0 | AA94: =SUM(V94:Z94) -> 5 | AC94: 90+ | AD94: ='4 day Prep (3)'!$V$58 -> 0 | AE94: ='4 day Prep (3)'!$V$122 -> 5 | AF94: ='4 day Prep (3)'!$V$187 -> 0 | AG94: ='4 day Prep (3)'!$V$253 -> 6 | AH94: ='4 day Prep (3)'!$V$314 -> 0 | AI94: =SUM(AD94:AH94) -> 11 | AK94: 90+ | AL94: ='4 day Prep (3)'!$AA$58 -> 6 | AM94: ='4 day Prep (3)'!$AA$122 -> 5 | AN94: ='4 day Prep (3)'!$AA$187 -> 0 | AO94: ='4 day Prep (3)'!$AA$253 -> 6 | AP94: ='4 day Prep (3)'!$AA$314 -> 7 | AQ94: =SUM(AL94:AP94) -> 24
A95: Total | B95: =SUM(B90:B94) -> 320 | C95: =SUM(C90:C94) -> 558 | D95: =SUM(D90:D94) -> 290 | E95: =SUM(E90:E94) -> 1168 | G95: =SUM(G90:G94) -> 42870 | H95: =SUM(H90:H94) -> 32145.25 | I95: =SUM(I90:I94) -> 32172.25 | J95: =SUM(J90:J94) -> 107187.5 | K95: =J95/E95 -> 91.77012 | M95: =G95/B95/Max!B2 -> 0.66984375 | N95: =H95/C95/Max!B3 -> 0.67774088 | O95: =I95/D95/Max!B4 -> 0.69336746 | U95: NL | V95: =SUM(V90:V94) -> 55 | W95: =SUM(W90:W94) -> 69 | X95: =SUM(X90:X94) -> 67 | Y95: =SUM(Y90:Y94) -> 71 | Z95: =SUM(Z90:Z94) -> 58 | AA95: =SUM(V95:Z95) -> 320 | AC95: NL | AD95: =SUM(AD90:AD94) -> 62 | AE95: =SUM(AE90:AE94) -> 94 | AF95: =SUM(AF90:AF94) -> 140 | AG95: =SUM(AG90:AG94) -> 128 | AH95: =SUM(AH90:AH94) -> 134 | AI95: =SUM(AD95:AH95) -> 558 | AK95: NL | AL95: =SUM(AL90:AL94) -> 35 | AM95: =SUM(AM90:AM94) -> 64 | AN95: =SUM(AN90:AN94) -> 65 | AO95: =SUM(AO90:AO94) -> 54 | AP95: =SUM(AP90:AP94) -> 72 | AQ95: =SUM(AL95:AP95) -> 290
U96: Avg. Int. | V96: =M90 -> 0.68181818 | W96: =M91 -> 0.65 | X96: =M92 -> 0.65671642 | Y96: =M93 -> 0.68450704 | Z96: =M94 -> 0.67931034 | AA96: =M95 -> 0.66984375 | AC96: Avg. Int. | AD96: =N90 -> 0.66935484 | AE96: =N91 -> 0.67265332 | AF96: =N92 -> 0.67857143 | AG96: =N93 -> 0.70351562 | AH96: =N94 -> 0.65970149 | AI96: =N95 -> 0.67774088 | AK96: Avg. Int. | AL96: =O90 -> 0.74571429 | AM96: =O91 -> 0.62229004 | AN96: =O92 -> 0.66461538 | AO96: =O93 -> 0.73518519 | AP96: =O94 -> 0.72569444 | AQ96: =O95 -> 0.69336746
B100: Realization
G118: Poundage | U118: Squat | AC118: Bench | AK118: Deadlift
A119: 4 Day Comp | B119: Squat | C119: Bench | D119: Dead | E119: NL | G119: Squat | H119: Bench | I119: Dead | K119: Avg Wt. | M119: Squat | N119: Bench | O119: Dead | U119: % | V119: Week 1 | W119: Week 2 | X119: Week 3 | Y119: Week 4 | Z119: Week 5 | AA119: Month | AC119: % | AD119: Week 1 | AE119: Week 2 | AF119: Week 3 | AG119: Week 4 | AH119: Week 5 | AI119: Month | AK119: % | AL119: Week 1 | AM119: Week 2 | AN119: Week 3 | AO119: Week 4 | AP119: Week 5 | AQ119: Month | AT119: % of Lifts | AU119: Week 1 | AV119: Week 2 | AW119: Week 3 | AX119: Week 4 | AY119: Week 5 | AZ119: Month
A120: 1 | B120: ='4 day Comp'!G62 -> 40 | C120: ='4 day Comp'!I62 -> 85 | D120: ='4 day Comp'!K62 -> 38 | E120: =SUM(B120:D120) -> 163 | G120: ='4 day Comp'!H62 -> 5550 | H120: ='4 day Comp'!J62 -> 5066 | I120: ='4 day Comp'!L62 -> 4296 | J120: =SUM(G120:I120) -> 14912 | K120: =J120/E120 -> 91.484663 | M120: =G120/B120/Max!B2 -> 0.69375 | N120: =H120/C120/Max!B3 -> 0.70117647 | O120: =I120/D120/Max!B4 -> 0.70657895 | U120: 50-59 | V120: ='4 day Comp'!$M$62 -> 8 | W120: ='4 day Comp'!$M$117 -> 6 | X120: ='4 day Comp'!$M$169 -> 6 | Y120: ='4 day Comp'!$M$208 -> 6 | Z120: ='4 day Comp'!$M$230 -> 3 | AA120: ='4 day Comp'!$M$196 -> 3 | AC120: 50-59 | AD120: ='4 day Comp'!$R$62 -> 18 | AE120: ='4 day Comp'!$R$117 -> 9 | AF120: ='4 day Comp'!$R$169 -> 9 | AG120: ='4 day Comp'!$R$208 -> 9 | AH120: ='4 day Comp'!$R$230 -> 6 | AI120: ='4 day Comp'!$R$196 -> 0 | AK120: 50-59 | AL120: ='4 day Comp'!$W$62 -> 6 | AM120: ='4 day Comp'!$W$117 -> 6 | AN120: ='4 day Comp'!$W$169 -> 9 | AO120: ='4 day Comp'!$W$208 -> 2 | AP120: ='4 day Comp'!$W$230 -> 3 | AQ120: ='4 day Comp'!$W$196 -> 0 | AT120: Squat | AU120: =V125/(V125+AD125+AL125) -> 0.24539877 | AV120: =W125/(W125+AE125+AM125) -> 0.28301887 | AW120: =X125/(X125+AF125+AN125) -> 0.23134328 | AX120: =Y125/(Y125+AG125+AO125) -> 0.35714286 | AY120: =Z125/(Z125+AH125+AP125) -> 0.17777778 | AZ120: =AA125/(AA125+AI125+AQ125) -> 1
A121: 2 | B121: ='4 day Comp'!G117 -> 30 | C121: ='4 day Comp'!I117 -> 47 | D121: ='4 day Comp'!K117 -> 29 | E121: =SUM(B121:D121) -> 106 | G121: ='4 day Comp'!H117 -> 4130 | H121: ='4 day Comp'!J117 -> 2724.25 | I121: ='4 day Comp'!L117 -> 3192 | J121: =SUM(G121:I121) -> 10046.25 | K121: =J121/E121 -> 94.775943 | M121: =G121/B121/Max!B2 -> 0.68833333 | N121: =H121/C121/Max!B3 -> 0.68191489 | O121: =I121/D121/Max!B4 -> 0.68793103 | U121: 60-69 | V121: ='4 day Comp'!$N$62 -> 7 | W121: ='4 day Comp'!$N$117 -> 6 | X121: ='4 day Comp'!$N$169 -> 6 | Y121: ='4 day Comp'!$N$208 -> 6 | Z121: ='4 day Comp'!$N$230 -> 2 | AA121: ='4 day Comp'!$N$196 | AC121: 60-69 | AD121: ='4 day Comp'!$S$62 -> 15 | AE121: ='4 day Comp'!$S$117 -> 9 | AF121: ='4 day Comp'!$S$169 -> 9 | AG121: ='4 day Comp'!$S$208 -> 9 | AH121: ='4 day Comp'!$S$230 -> 6 | AI121: ='4 day Comp'!$S$196 -> 0 | AK121: 60-69 | AL121: ='4 day Comp'!$X$62 -> 9 | AM121: ='4 day Comp'!$X$117 -> 6 | AN121: ='4 day Comp'!$X$169 -> 9 | AO121: ='4 day Comp'!$X$208 -> 2 | AP121: ='4 day Comp'!$X$230 -> 3 | AQ121: ='4 day Comp'!$X$196 -> 0 | AT121: Bench | AU121: =AD125/(V125+AD125+AL125) -> 0.52147239 | AV121: =AE125/(W125+AE125+AM125) -> 0.44339623 | AW121: =AF125/(X125+AF125+AN125) -> 0.41791045 | AX121: =AG125/(Y125+AG125+AO125) -> 0.52380952 | AY121: =AH125/(Z125+AH125+AP125) -> 0.55555556 | AZ121: =AI125/(AA125+AI125+AQ125) -> 0
A122: 3 | B122: ='4 day Comp'!G169 -> 31 | C122: ='4 day Comp'!I169 -> 56 | D122: ='4 day Comp'!K169 -> 47 | E122: =SUM(B122:D122) -> 134 | G122: ='4 day Comp'!H169 -> 4360 | H122: ='4 day Comp'!J169 -> 3361.75 | I122: ='4 day Comp'!L169 -> 5224 | J122: =SUM(G122:I122) -> 12945.75 | K122: =J122/E122 -> 96.610075 | M122: =G122/B122/Max!B2 -> 0.70322581 | N122: =H122/C122/Max!B3 -> 0.70625 | O122: =I122/D122/Max!B4 -> 0.69468085 | U122: 70-79 | V122: ='4 day Comp'!$O$62 -> 6 | W122: ='4 day Comp'!$O$117 -> 12 | X122: ='4 day Comp'!$O$169 -> 7 | Y122: ='4 day Comp'!$O$208 -> 10 | Z122: ='4 day Comp'!$O$230 -> 3 | AA122: ='4 day Comp'!$O$196 | AC122: 70-79 | AD122: ='4 day Comp'!$T$62 -> 12 | AE122: ='4 day Comp'!$T$117 -> 23 | AF122: ='4 day Comp'!$T$169 -> 9 | AG122: ='4 day Comp'!$T$208 -> 15 | AH122: ='4 day Comp'!$T$230 -> 13 | AI122: ='4 day Comp'!$T$196 -> 0 | AK122: 70-79 | AL122: ='4 day Comp'!$Y$62 -> 10 | AM122: ='4 day Comp'!$Y$117 -> 11 | AN122: ='4 day Comp'!$Y$169 -> 15 | AO122: ='4 day Comp'!$Y$208 -> 6 | AP122: ='4 day Comp'!$Y$230 -> 6 | AQ122: ='4 day Comp'!$Y$196 -> 0 | AT122: Deadlift | AU122: =AL125/(AL125+AD125+V125) -> 0.23312883 | AV122: =AM125/(AM125+AE125+W125) -> 0.27358491 | AW122: =AN125/(AN125+AF125+X125) -> 0.35074627 | AX122: =AO125/(AO125+AG125+Y125) -> 0.11904762 | AY122: =AP125/(AP125+AH125+Z125) -> 0.26666667 | AZ122: =AQ125/(AQ125+AI125+AA125) -> 0
A123: 4 | B123: ='4 day Comp'!G208 -> 30 | C123: ='4 day Comp'!I208 -> 44 | D123: ='4 day Comp'!K208 -> 10 | E123: =SUM(B123:D123) -> 84 | G123: ='4 day Comp'!H208 -> 4030 | H123: ='4 day Comp'!J208 -> 2520.25 | I123: ='4 day Comp'!L208 -> 1024 | J123: =SUM(G123:I123) -> 7574.25 | K123: =J123/E123 -> 90.169643 | M123: =G123/B123/Max!B2 -> 0.67166667 | N123: =H123/C123/Max!B3 -> 0.67386364 | O123: =I123/D123/Max!B4 -> 0.64 | U123: 80-89 | V123: ='4 day Comp'!$P$62 -> 19 | W123: ='4 day Comp'!$P$117 -> 2 | X123: ='4 day Comp'!$P$169 -> 12 | Y123: ='4 day Comp'!$P$208 -> 8 | Z123: ='4 day Comp'!$P$230 -> 0 | AA123: ='4 day Comp'!$P$196 | AC123: 80-89 | AD123: ='4 day Comp'!$U$62 -> 40 | AE123: ='4 day Comp'!$U$117 -> 2 | AF123: ='4 day Comp'!$U$169 -> 29 | AG123: ='4 day Comp'!$U$208 -> 11 | AH123: ='4 day Comp'!$U$230 -> 0 | AI123: ='4 day Comp'!$U$196 -> 0 | AK123: 80-89 | AL123: ='4 day Comp'!$Z$62 -> 10 | AM123: ='4 day Comp'!$Z$117 -> 2 | AN123: ='4 day Comp'!$Z$169 -> 14 | AO123: ='4 day Comp'!$Z$208 -> 0 | AP123: ='4 day Comp'!$Z$230 -> 0 | AQ123: ='4 day Comp'!$Z$196 -> 0
A124: 5 | B124: ='4 day Comp'!G230 -> 8 | C124: ='4 day Comp'!I230 -> 25 | D124: ='4 day Comp'!K230 -> 12 | E124: =SUM(B124:D124) -> 45 | G124: ='4 day Comp'!H230 -> 960 | H124: ='4 day Comp'!J230 -> 1347.25 | I124: ='4 day Comp'!L230 -> 1200 | J124: =SUM(G124:I124) -> 3507.25 | K124: =J124/E124 -> 77.938889 | M124: =G124/B124/Max!B2 -> 0.6 | N124: =H124/C124/Max!B3 -> 0.634 | O124: =I124/D124/Max!B4 -> 0.625 | U124: 90+ | V124: ='4 day Comp'!$Q$62 -> 0 | W124: ='4 day Comp'!$Q$117 -> 4 | X124: ='4 day Comp'!$Q$169 -> 0 | Y124: ='4 day Comp'!$Q$208 -> 0 | Z124: ='4 day Comp'!$Q$230 -> 0 | AA124: ='4 day Comp'!$Q$196 | AC124: 90+ | AD124: ='4 day Comp'!$V$62 -> 0 | AE124: ='4 day Comp'!$V$117 -> 4 | AF124: ='4 day Comp'!$V$169 -> 0 | AG124: ='4 day Comp'!$V$208 -> 0 | AH124: ='4 day Comp'!$V$230 -> 0 | AI124: ='4 day Comp'!$V$196 -> 0 | AK124: 90+ | AL124: ='4 day Comp'!$AA$62 -> 3 | AM124: ='4 day Comp'!$AA$117 -> 4 | AN124: ='4 day Comp'!$AA$169 -> 0 | AO124: ='4 day Comp'!$AA$208 -> 0 | AP124: ='4 day Comp'!$AA$230 -> 0 | AQ124: ='4 day Comp'!$AA$196 -> 0
A125: Total | B125: ='4 day Comp'!G232 -> 139 | C125: ='4 day Comp'!I232 -> 257 | D125: ='4 day Comp'!K232 -> 136 | E125: =SUM(E120:E124) -> 532 | G125: =SUM(G120:G124) -> 19030 | H125: =SUM(H120:H124) -> 15019.5 | I125: =SUM(I120:I124) -> 14936 | J125: =SUM(J120:J124) -> 48985.5 | K125: =J125/E125 -> 92.078008 | M125: =G125/B125/Max!B2 -> 0.68453237 | N125: =H125/C125/Max!B3 -> 0.68754864 | O125: =I125/D125/Max!B4 -> 0.68639706 | U125: NL | V125: =SUM(V120:V124) -> 40 | W125: =SUM(W120:W124) -> 30 | X125: =SUM(X120:X124) -> 31 | Y125: =SUM(Y120:Y124) -> 30 | Z125: =SUM(Z120:Z124) -> 8 | AA125: =SUM(AA120:AA124) -> 3 | AC125: NL | AD125: =SUM(AD120:AD124) -> 85 | AE125: =SUM(AE120:AE124) -> 47 | AF125: =SUM(AF120:AF124) -> 56 | AG125: =SUM(AG120:AG124) -> 44 | AH125: =SUM(AH120:AH124) -> 25 | AI125: =SUM(AI120:AI124) -> 0 | AK125: NL | AL125: =SUM(AL120:AL124) -> 38 | AM125: =SUM(AM120:AM124) -> 29 | AN125: =SUM(AN120:AN124) -> 47 | AO125: =SUM(AO120:AO124) -> 10 | AP125: =SUM(AP120:AP124) -> 12 | AQ125: =SUM(AQ120:AQ124) -> 0
U126: Avg. Int. | V126: =M120 -> 0.69375 | W126: =M121 -> 0.68833333 | X126: =M122 -> 0.70322581 | Y126: =M123 -> 0.67166667 | Z126: =M124 -> 0.6 | AA126: =M125 -> 0.68453237 | AC126: Avg. Int. | AD126: =N120 -> 0.70117647 | AE126: =N121 -> 0.68191489 | AF126: =N122 -> 0.70625 | AG126: =N123 -> 0.67386364 | AH126: =N124 -> 0.634 | AI126: =N125 -> 0.68754864 | AK126: Avg. Int. | AL126: =O120 -> 0.70657895 | AM126: =O121 -> 0.68793103 | AN126: =O122 -> 0.69468085 | AO126: =O123 -> 0.64 | AP126: =O124 -> 0.625 | AQ126: =O125 -> 0.68639706

Sheet 4 day Prep
B1: Sheiko
B2: Preparatory Period for Class 1 & CMS
A5: week 1 | M5: squat | R5: bench | W5: deadlift
A6: 1 day (Monday) | C6: % | D6: reps | E6: sets | F6: weight | M6: 50-59 | N6: 60-69 | O6: 70-79 | P6: 80-89 | Q6: 90+ | R6: 50-59 | S6: 60-69 | T6: 70-79 | U6: 80-89 | V6: 90+ | W6: 50-59 | X6: 60-69 | Y6: 70-79 | Z6: 80-89 | AA6: 90+
A7: 1 | B7: Front squat | C7: 0.3 | D7: 4 | E7: 1 | F7: =Max!$B$2*C7 -> 60 | G7: =D7*E7 -> 4 | H7: =F7*G7 -> 240 | M7: =IF(ISNUMBER(SEARCH("squat",$B7)),IF($C7>=0.5,IF($C7<0.6,$D7*$E7," ")," ")," ") | N7: =IF(ISNUMBER(SEARCH("squat",$B7)),IF($C7>=0.6,IF($C7<0.7,$D7*$E7," ")," ")," ") | O7: =IF(ISNUMBER(SEARCH("squat",$B7)),IF($C7>=0.7,IF($C7<0.8,$D7*$E7," ")," ")," ") | P7: =IF(ISNUMBER(SEARCH("squat",$B7)),IF($C7>=0.8,IF($C7<0.9,$D7*$E7," ")," ")," ") | Q7: =IF(ISNUMBER(SEARCH("squat",$B7)),IF($C7>=0.9,$D7*$E7," ")," ") | R7: =IF(ISNUMBER(SEARCH("bench",$B7)),IF($C7>=0.5,IF($C7<0.6,$D7*$E7," ")," ")," ") | S7: =IF(ISNUMBER(SEARCH("bench",$B7)),IF($C7>=0.6,IF($C7<0.7,$D7*$E7," ")," ")," ") | T7: =IF(ISNUMBER(SEARCH("bench",$B7)),IF($C7>=0.7,IF($C7<0.8,$D7*$E7," ")," ")," ") | U7: =IF(ISNUMBER(SEARCH("bench",$B7)),IF($C7>=0.8,IF($C7<0.9,$D7*$E7," ")," ")," ") | V7: =IF(ISNUMBER(SEARCH("bench",$B7)),IF($C7>=0.9,$D7*$E7," ")," ")
B8: Front squat | C8: 0.4 | D8: 4 | E8: 1 | F8: =Max!$B$2*C8 -> 80 | G8: =D8*E8 -> 4 | H8: =F8*G8 -> 320 | M8: =IF(ISNUMBER(SEARCH("squat",$B8)),IF($C8>=0.5,IF($C8<0.6,$D8*$E8," ")," ")," ") | N8: =IF(ISNUMBER(SEARCH("squat",$B8)),IF($C8>=0.6,IF($C8<0.7,$D8*$E8," ")," ")," ") | O8: =IF(ISNUMBER(SEARCH("squat",$B8)),IF($C8>=0.7,IF($C8<0.8,$D8*$E8," ")," ")," ") | P8: =IF(ISNUMBER(SEARCH("squat",$B8)),IF($C8>=0.8,IF($C8<0.9,$D8*$E8," ")," ")," ") | Q8: =IF(ISNUMBER(SEARCH("squat",$B8)),IF($C8>=0.9,$D8*$E8," ")," ") | R8: =IF(ISNUMBER(SEARCH("bench",$B8)),IF($C8>=0.5,IF($C8<0.6,$D8*$E8," ")," ")," ") | S8: =IF(ISNUMBER(SEARCH("bench",$B8)),IF($C8>=0.6,IF($C8<0.7,$D8*$E8," ")," ")," ") | T8: =IF(ISNUMBER(SEARCH("bench",$B8)),IF($C8>=0.7,IF($C8<0.8,$D8*$E8," ")," ")," ") | U8: =IF(ISNUMBER(SEARCH("bench",$B8)),IF($C8>=0.8,IF($C8<0.9,$D8*$E8," ")," ")," ") | V8: =IF(ISNUMBER(SEARCH("bench",$B8)),IF($C8>=0.9,$D8*$E8," ")," ")
B9: Front squat | C9: 0.5 | D9: 4 | E9: 3 | F9: =Max!$B$2*C9 -> 100 | G9: =D9*E9 -> 12 | H9: =F9*G9 -> 1200 | M9: =IF(ISNUMBER(SEARCH("squat",$B9)),IF($C9>=0.5,IF($C9<0.6,$D9*$E9," ")," ")," ") -> 12 | N9: =IF(ISNUMBER(SEARCH("squat",$B9)),IF($C9>=0.6,IF($C9<0.7,$D9*$E9," ")," ")," ") | O9: =IF(ISNUMBER(SEARCH("squat",$B9)),IF($C9>=0.7,IF($C9<0.8,$D9*$E9," ")," ")," ") | P9: =IF(ISNUMBER(SEARCH("squat",$B9)),IF($C9>=0.8,IF($C9<0.9,$D9*$E9," ")," ")," ") | Q9: =IF(ISNUMBER(SEARCH("squat",$B9)),IF($C9>=0.9,$D9*$E9," ")," ") | R9: =IF(ISNUMBER(SEARCH("bench",$B9)),IF($C9>=0.5,IF($C9<0.6,$D9*$E9," ")," ")," ") | S9: =IF(ISNUMBER(SEARCH("bench",$B9)),IF($C9>=0.6,IF($C9<0.7,$D9*$E9," ")," ")," ") | T9: =IF(ISNUMBER(SEARCH("bench",$B9)),IF($C9>=0.7,IF($C9<0.8,$D9*$E9," ")," ")," ") | U9: =IF(ISNUMBER(SEARCH("bench",$B9)),IF($C9>=0.8,IF($C9<0.9,$D9*$E9," ")," ")," ") | V9: =IF(ISNUMBER(SEARCH("bench",$B9)),IF($C9>=0.9,$D9*$E9," ")," ")
A10: 2 | B10: Bench press | C10: 0.5 | D10: 5 | E10: 1 | F10: =Max!$B$3*C10 -> 42.5 | I10: =D10*E10 -> 5 | J10: =F10*I10 -> 212.5 | M10: =IF(ISNUMBER(SEARCH("squat",$B10)),IF($C10>=0.5,IF($C10<0.6,$D10*$E10," ")," ")," ") | N10: =IF(ISNUMBER(SEARCH("squat",$B10)),IF($C10>=0.6,IF($C10<0.7,$D10*$E10," ")," ")," ") | O10: =IF(ISNUMBER(SEARCH("squat",$B10)),IF($C10>=0.7,IF($C10<0.8,$D10*$E10," ")," ")," ") | P10: =IF(ISNUMBER(SEARCH("squat",$B10)),IF($C10>=0.8,IF($C10<0.9,$D10*$E10," ")," ")," ") | Q10: =IF(ISNUMBER(SEARCH("squat",$B10)),IF($C10>=0.9,$D10*$E10," ")," ") | R10: =IF(ISNUMBER(SEARCH("bench",$B10)),IF($C10>=0.5,IF($C10<0.6,$D10*$E10," ")," ")," ") -> 5 | S10: =IF(ISNUMBER(SEARCH("bench",$B10)),IF($C10>=0.6,IF($C10<0.7,$D10*$E10," ")," ")," ") | T10: =IF(ISNUMBER(SEARCH("bench",$B10)),IF($C10>=0.7,IF($C10<0.8,$D10*$E10," ")," ")," ") | U10: =IF(ISNUMBER(SEARCH("bench",$B10)),IF($C10>=0.8,IF($C10<0.9,$D10*$E10," ")," ")," ") | V10: =IF(ISNUMBER(SEARCH("bench",$B10)),IF($C10>=0.9,$D10*$E10," ")," ")
B11: Bench press | C11: 0.6 | D11: 4 | E11: 1 | F11: =Max!$B$3*C11 -> 51 | I11: =D11*E11 -> 4 | J11: =F11*I11 -> 204 | M11: =IF(ISNUMBER(SEARCH("squat",$B11)),IF($C11>=0.5,IF($C11<0.6,$D11*$E11," ")," ")," ") | N11: =IF(ISNUMBER(SEARCH("squat",$B11)),IF($C11>=0.6,IF($C11<0.7,$D11*$E11," ")," ")," ") | O11: =IF(ISNUMBER(SEARCH("squat",$B11)),IF($C11>=0.7,IF($C11<0.8,$D11*$E11," ")," ")," ") | P11: =IF(ISNUMBER(SEARCH("squat",$B11)),IF($C11>=0.8,IF($C11<0.9,$D11*$E11," ")," ")," ") | Q11: =IF(ISNUMBER(SEARCH("squat",$B11)),IF($C11>=0.9,$D11*$E11," ")," ") | R11: =IF(ISNUMBER(SEARCH("bench",$B11)),IF($C11>=0.5,IF($C11<0.6,$D11*$E11," ")," ")," ") | S11: =IF(ISNUMBER(SEARCH("bench",$B11)),IF($C11>=0.6,IF($C11<0.7,$D11*$E11," ")," ")," ") -> 4 | T11: =IF(ISNUMBER(SEARCH("bench",$B11)),IF($C11>=0.7,IF($C11<0.8,$D11*$E11," ")," ")," ") | U11: =IF(ISNUMBER(SEARCH("bench",$B11)),IF($C11>=0.8,IF($C11<0.9,$D11*$E11," ")," ")," ") | V11: =IF(ISNUMBER(SEARCH("bench",$B11)),IF($C11>=0.9,$D11*$E11," ")," ")
B12: Bench press | C12: 0.7 | D12: 3 | E12: 1 | F12: =Max!$B$3*C12 -> 59.5 | I12: =D12*E12 -> 3 | J12: =F12*I12 -> 178.5 | M12: =IF(ISNUMBER(SEARCH("squat",$B12)),IF($C12>=0.5,IF($C12<0.6,$D12*$E12," ")," ")," ") | N12: =IF(ISNUMBER(SEARCH("squat",$B12)),IF($C12>=0.6,IF($C12<0.7,$D12*$E12," ")," ")," ") | O12: =IF(ISNUMBER(SEARCH("squat",$B12)),IF($C12>=0.7,IF($C12<0.8,$D12*$E12," ")," ")," ") | P12: =IF(ISNUMBER(SEARCH("squat",$B12)),IF($C12>=0.8,IF($C12<0.9,$D12*$E12," ")," ")," ") | Q12: =IF(ISNUMBER(SEARCH("squat",$B12)),IF($C12>=0.9,$D12*$E12," ")," ") | R12: =IF(ISNUMBER(SEARCH("bench",$B12)),IF($C12>=0.5,IF($C12<0.6,$D12*$E12," ")," ")," ") | S12: =IF(ISNUMBER(SEARCH("bench",$B12)),IF($C12>=0.6,IF($C12<0.7,$D12*$E12," ")," ")," ") | T12: =IF(ISNUMBER(SEARCH("bench",$B12)),IF($C12>=0.7,IF($C12<0.8,$D12*$E12," ")," ")," ") -> 3 | U12: =IF(ISNUMBER(SEARCH("bench",$B12)),IF($C12>=0.8,IF($C12<0.9,$D12*$E12," ")," ")," ") | V12: =IF(ISNUMBER(SEARCH("bench",$B12)),IF($C12>=0.9,$D12*$E12," ")," ")
B13: Bench press | C13: 0.75 | D13: 2 | E13: 4 | F13: =Max!$B$3*C13 -> 63.75 | I13: =D13*E13 -> 8 | J13: =F13*I13 -> 510 | M13: =IF(ISNUMBER(SEARCH("squat",$B13)),IF($C13>=0.5,IF($C13<0.6,$D13*$E13," ")," ")," ") | N13: =IF(ISNUMBER(SEARCH("squat",$B13)),IF($C13>=0.6,IF($C13<0.7,$D13*$E13," ")," ")," ") | O13: =IF(ISNUMBER(SEARCH("squat",$B13)),IF($C13>=0.7,IF($C13<0.8,$D13*$E13," ")," ")," ") | P13: =IF(ISNUMBER(SEARCH("squat",$B13)),IF($C13>=0.8,IF($C13<0.9,$D13*$E13," ")," ")," ") | Q13: =IF(ISNUMBER(SEARCH("squat",$B13)),IF($C13>=0.9,$D13*$E13," ")," ") | R13: =IF(ISNUMBER(SEARCH("bench",$B13)),IF($C13>=0.5,IF($C13<0.6,$D13*$E13," ")," ")," ") | S13: =IF(ISNUMBER(SEARCH("bench",$B13)),IF($C13>=0.6,IF($C13<0.7,$D13*$E13," ")," ")," ") | T13: =IF(ISNUMBER(SEARCH("bench",$B13)),IF($C13>=0.7,IF($C13<0.8,$D13*$E13," ")," ")," ") -> 8 | U13: =IF(ISNUMBER(SEARCH("bench",$B13)),IF($C13>=0.8,IF($C13<0.9,$D13*$E13," ")," ")," ") | V13: =IF(ISNUMBER(SEARCH("bench",$B13)),IF($C13>=0.9,$D13*$E13," ")," ")
A14: 3 | B14: Squat | C14: 0.55 | D14: 3 | E14: 1 | F14: =Max!$B$2*C14 -> 110 | G14: =D14*E14 -> 3 | H14: =F14*G14 -> 330 | M14: =IF(ISNUMBER(SEARCH("squat",$B14)),IF($C14>=0.5,IF($C14<0.6,$D14*$E14," ")," ")," ") -> 3 | N14: =IF(ISNUMBER(SEARCH("squat",$B14)),IF($C14>=0.6,IF($C14<0.7,$D14*$E14," ")," ")," ") | O14: =IF(ISNUMBER(SEARCH("squat",$B14)),IF($C14>=0.7,IF($C14<0.8,$D14*$E14," ")," ")," ") | P14: =IF(ISNUMBER(SEARCH("squat",$B14)),IF($C14>=0.8,IF($C14<0.9,$D14*$E14," ")," ")," ") | Q14: =IF(ISNUMBER(SEARCH("squat",$B14)),IF($C14>=0.9,$D14*$E14," ")," ") | R14: =IF(ISNUMBER(SEARCH("bench",$B14)),IF($C14>=0.5,IF($C14<0.6,$D14*$E14," ")," ")," ") | S14: =IF(ISNUMBER(SEARCH("bench",$B14)),IF($C14>=0.6,IF($C14<0.7,$D14*$E14," ")," ")," ") | T14: =IF(ISNUMBER(SEARCH("bench",$B14)),IF($C14>=0.7,IF($C14<0.8,$D14*$E14," ")," ")," ") | U14: =IF(ISNUMBER(SEARCH("bench",$B14)),IF($C14>=0.8,IF($C14<0.9,$D14*$E14," ")," ")," ") | V14: =IF(ISNUMBER(SEARCH("bench",$B14)),IF($C14>=0.9,$D14*$E14," ")," ")
B15: Squat | C15: 0.65 | D15: 3 | E15: 1 | F15: =Max!$B$2*C15 -> 130 | G15: =D15*E15 -> 3 | H15: =F15*G15 -> 390 | M15: =IF(ISNUMBER(SEARCH("squat",$B15)),IF($C15>=0.5,IF($C15<0.6,$D15*$E15," ")," ")," ") | N15: =IF(ISNUMBER(SEARCH("squat",$B15)),IF($C15>=0.6,IF($C15<0.7,$D15*$E15," ")," ")," ") -> 3 | O15: =IF(ISNUMBER(SEARCH("squat",$B15)),IF($C15>=0.7,IF($C15<0.8,$D15*$E15," ")," ")," ") | P15: =IF(ISNUMBER(SEARCH("squat",$B15)),IF($C15>=0.8,IF($C15<0.9,$D15*$E15," ")," ")," ") | Q15: =IF(ISNUMBER(SEARCH("squat",$B15)),IF($C15>=0.9,$D15*$E15," ")," ") | R15: =IF(ISNUMBER(SEARCH("bench",$B15)),IF($C15>=0.5,IF($C15<0.6,$D15*$E15," ")," ")," ") | S15: =IF(ISNUMBER(SEARCH("bench",$B15)),IF($C15>=0.6,IF($C15<0.7,$D15*$E15," ")," ")," ") | T15: =IF(ISNUMBER(SEARCH("bench",$B15)),IF($C15>=0.7,IF($C15<0.8,$D15*$E15," ")," ")," ") | U15: =IF(ISNUMBER(SEARCH("bench",$B15)),IF($C15>=0.8,IF($C15<0.9,$D15*$E15," ")," ")," ") | V15: =IF(ISNUMBER(SEARCH("bench",$B15)),IF($C15>=0.9,$D15*$E15," ")," ")
B16: Squat | C16: 0.75 | D16: 2 | E16: 4 | F16: =Max!$B$2*C16 -> 150 | G16: =D16*E16 -> 8 | H16: =F16*G16 -> 1200 | M16: =IF(ISNUMBER(SEARCH("squat",$B16)),IF($C16>=0.5,IF($C16<0.6,$D16*$E16," ")," ")," ") | N16: =IF(ISNUMBER(SEARCH("squat",$B16)),IF($C16>=0.6,IF($C16<0.7,$D16*$E16," ")," ")," ") | O16: =IF(ISNUMBER(SEARCH("squat",$B16)),IF($C16>=0.7,IF($C16<0.8,$D16*$E16," ")," ")," ") -> 8 | P16: =IF(ISNUMBER(SEARCH("squat",$B16)),IF($C16>=0.8,IF($C16<0.9,$D16*$E16," ")," ")," ") | Q16: =IF(ISNUMBER(SEARCH("squat",$B16)),IF($C16>=0.9,$D16*$E16," ")," ") | R16: =IF(ISNUMBER(SEARCH("bench",$B16)),IF($C16>=0.5,IF($C16<0.6,$D16*$E16," ")," ")," ") | S16: =IF(ISNUMBER(SEARCH("bench",$B16)),IF($C16>=0.6,IF($C16<0.7,$D16*$E16," ")," ")," ") | T16: =IF(ISNUMBER(SEARCH("bench",$B16)),IF($C16>=0.7,IF($C16<0.8,$D16*$E16," ")," ")," ") | U16: =IF(ISNUMBER(SEARCH("bench",$B16)),IF($C16>=0.8,IF($C16<0.9,$D16*$E16," ")," ")," ") | V16: =IF(ISNUMBER(SEARCH("bench",$B16)),IF($C16>=0.9,$D16*$E16," ")," ")
A17: 4 | B17: Chest muscles | D17: 8 | E17: 4
A18: 5 | B18: Abs | D18: 10 | E18: 3
A20: 3 day (Wednesday) | C20: % | D20: reps | E20: sets | F20: weight
A21: 1 | B21: Deadlift to knees w/2s pause | C21: 0.5 | D21: 3 | E21: 1 | F21: =Max!$B$4*C21 -> 80 | K21: =D21*E21 -> 3 | L21: =F21*K21 -> 240 | R21: =IF(ISNUMBER(SEARCH("bench",$B21)),IF($C21>=0.5,IF($C21<0.6,$D21*$E21," ")," ")," ") | S21: =IF(ISNUMBER(SEARCH("bench",$B21)),IF($C21>=0.6,IF($C21<0.7,$D21*$E21," ")," ")," ") | T21: =IF(ISNUMBER(SEARCH("bench",$B21)),IF($C21>=0.7,IF($C21<0.8,$D21*$E21," ")," ")," ") | U21: =IF(ISNUMBER(SEARCH("bench",$B21)),IF($C21>=0.8,IF($C21<0.9,$D21*$E21," ")," ")," ") | V21: =IF(ISNUMBER(SEARCH("bench",$B21)),IF($C21>=0.9,$D21*$E21," ")," ") | W21: =IF(ISNUMBER(SEARCH("deadlift",$B21)),IF($C21>=0.5,IF($C21<0.6,$D21*$E21," ")," ")," ") -> 3 | X21: =IF(ISNUMBER(SEARCH("deadlift",$B21)),IF($C21>=0.6,IF($C21<0.7,$D21*$E21," ")," ")," ") | Y21: =IF(ISNUMBER(SEARCH("deadlift",$B21)),IF($C21>=0.7,IF($C21<0.8,$D21*$E21," ")," ")," ") | Z21: =IF(ISNUMBER(SEARCH("deadlift",$B21)),IF($C21>=0.8,IF($C21<0.9,$D21*$E21," ")," ")," ") | AA21: =IF(ISNUMBER(SEARCH("deadlift",$B21)),IF($C21>=0.9,$D21*$E21," ")," ")
B22: Deadlift to knees w/2s pause | C22: 0.6 | D22: 3 | E22: 1 | F22: =Max!$B$4*C22 -> 96 | K22: =D22*E22 -> 3 | L22: =F22*K22 -> 288 | R22: =IF(ISNUMBER(SEARCH("bench",$B22)),IF($C22>=0.5,IF($C22<0.6,$D22*$E22," ")," ")," ") | S22: =IF(ISNUMBER(SEARCH("bench",$B22)),IF($C22>=0.6,IF($C22<0.7,$D22*$E22," ")," ")," ") | T22: =IF(ISNUMBER(SEARCH("bench",$B22)),IF($C22>=0.7,IF($C22<0.8,$D22*$E22," ")," ")," ") | U22: =IF(ISNUMBER(SEARCH("bench",$B22)),IF($C22>=0.8,IF($C22<0.9,$D22*$E22," ")," ")," ") | V22: =IF(ISNUMBER(SEARCH("bench",$B22)),IF($C22>=0.9,$D22*$E22," ")," ") | W22: =IF(ISNUMBER(SEARCH("deadlift",$B22)),IF($C22>=0.5,IF($C22<0.6,$D22*$E22," ")," ")," ") | X22: =IF(ISNUMBER(SEARCH("deadlift",$B22)),IF($C22>=0.6,IF($C22<0.7,$D22*$E22," ")," ")," ") -> 3 | Y22: =IF(ISNUMBER(SEARCH("deadlift",$B22)),IF($C22>=0.7,IF($C22<0.8,$D22*$E22," ")," ")," ") | Z22: =IF(ISNUMBER(SEARCH("deadlift",$B22)),IF($C22>=0.8,IF($C22<0.9,$D22*$E22," ")," ")," ") | AA22: =IF(ISNUMBER(SEARCH("deadlift",$B22)),IF($C22>=0.9,$D22*$E22," ")," ")
B23: Deadlift to knees w/2s pause | C23: 0.7 | D23: 3 | E23: 4 | F23: =Max!$B$4*C23 -> 112 | K23: =D23*E23 -> 12 | L23: =F23*K23 -> 1344 | R23: =IF(ISNUMBER(SEARCH("bench",$B23)),IF($C23>=0.5,IF($C23<0.6,$D23*$E23," ")," ")," ") | S23: =IF(ISNUMBER(SEARCH("bench",$B23)),IF($C23>=0.6,IF($C23<0.7,$D23*$E23," ")," ")," ") | T23: =IF(ISNUMBER(SEARCH("bench",$B23)),IF($C23>=0.7,IF($C23<0.8,$D23*$E23," ")," ")," ") | U23: =IF(ISNUMBER(SEARCH("bench",$B23)),IF($C23>=0.8,IF($C23<0.9,$D23*$E23," ")," ")," ") | V23: =IF(ISNUMBER(SEARCH("bench",$B23)),IF($C23>=0.9,$D23*$E23," ")," ") | W23: =IF(ISNUMBER(SEARCH("deadlift",$B23)),IF($C23>=0.5,IF($C23<0.6,$D23*$E23," ")," ")," ") | X23: =IF(ISNUMBER(SEARCH("deadlift",$B23)),IF($C23>=0.6,IF($C23<0.7,$D23*$E23," ")," ")," ") | Y23: =IF(ISNUMBER(SEARCH("deadlift",$B23)),IF($C23>=0.7,IF($C23<0.8,$D23*$E23," ")," ")," ") -> 12 | Z23: =IF(ISNUMBER(SEARCH("deadlift",$B23)),IF($C23>=0.8,IF($C23<0.9,$D23*$E23," ")," ")," ") | AA23: =IF(ISNUMBER(SEARCH("deadlift",$B23)),IF($C23>=0.9,$D23*$E23," ")," ")
A24: 2 | B24: Bench press | C24: 0.5 | D24: 5 | E24: 1 | F24: =Max!$B$3*C24 -> 42.5 | I24: =D24*E24 -> 5 | J24: =F24*I24 -> 212.5 | R24: =IF(ISNUMBER(SEARCH("bench",$B24)),IF($C24>=0.5,IF($C24<0.6,$D24*$E24," ")," ")," ") -> 5 | S24: =IF(ISNUMBER(SEARCH("bench",$B24)),IF($C24>=0.6,IF($C24<0.7,$D24*$E24," ")," ")," ") | T24: =IF(ISNUMBER(SEARCH("bench",$B24)),IF($C24>=0.7,IF($C24<0.8,$D24*$E24," ")," ")," ") | U24: =IF(ISNUMBER(SEARCH("bench",$B24)),IF($C24>=0.8,IF($C24<0.9,$D24*$E24," ")," ")," ") | V24: =IF(ISNUMBER(SEARCH("bench",$B24)),IF($C24>=0.9,$D24*$E24," ")," ") | W24: =IF(ISNUMBER(SEARCH("deadlift",$B24)),IF($C24>=0.5,IF($C24<0.6,$D24*$E24," ")," ")," ") | X24: =IF(ISNUMBER(SEARCH("deadlift",$B24)),IF($C24>=0.6,IF($C24<0.7,$D24*$E24," ")," ")," ") | Y24: =IF(ISNUMBER(SEARCH("deadlift",$B24)),IF($C24>=0.7,IF($C24<0.8,$D24*$E24," ")," ")," ") | Z24: =IF(ISNUMBER(SEARCH("deadlift",$B24)),IF($C24>=0.8,IF($C24<0.9,$D24*$E24," ")," ")," ") | AA24: =IF(ISNUMBER(SEARCH("deadlift",$B24)),IF($C24>=0.9,$D24*$E24," ")," ")
B25: Bench press | C25: 0.6 | D25: 5 | E25: 1 | F25: =Max!$B$3*C25 -> 51 | I25: =D25*E25 -> 5 | J25: =F25*I25 -> 255 | R25: =IF(ISNUMBER(SEARCH("bench",$B25)),IF($C25>=0.5,IF($C25<0.6,$D25*$E25," ")," ")," ") | S25: =IF(ISNUMBER(SEARCH("bench",$B25)),IF($C25>=0.6,IF($C25<0.7,$D25*$E25," ")," ")," ") -> 5 | T25: =IF(ISNUMBER(SEARCH("bench",$B25)),IF($C25>=0.7,IF($C25<0.8,$D25*$E25," ")," ")," ") | U25: =IF(ISNUMBER(SEARCH("bench",$B25)),IF($C25>=0.8,IF($C25<0.9,$D25*$E25," ")," ")," ") | V25: =IF(ISNUMBER(SEARCH("bench",$B25)),IF($C25>=0.9,$D25*$E25," ")," ") | W25: =IF(ISNUMBER(SEARCH("deadlift",$B25)),IF($C25>=0.5,IF($C25<0.6,$D25*$E25," ")," ")," ") | X25: =IF(ISNUMBER(SEARCH("deadlift",$B25)),IF($C25>=0.6,IF($C25<0.7,$D25*$E25," ")," ")," ") | Y25: =IF(ISNUMBER(SEARCH("deadlift",$B25)),IF($C25>=0.7,IF($C25<0.8,$D25*$E25," ")," ")," ") | Z25: =IF(ISNUMBER(SEARCH("deadlift",$B25)),IF($C25>=0.8,IF($C25<0.9,$D25*$E25," ")," ")," ") | AA25: =IF(ISNUMBER(SEARCH("deadlift",$B25)),IF($C25>=0.9,$D25*$E25," ")," ")
B26: Bench press | C26: 0.7 | D26: 3 | E26: 1 | F26: =Max!$B$3*C26 -> 59.5 | I26: =D26*E26 -> 3 | J26: =F26*I26 -> 178.5 | R26: =IF(ISNUMBER(SEARCH("bench",$B26)),IF($C26>=0.5,IF($C26<0.6,$D26*$E26," ")," ")," ") | S26: =IF(ISNUMBER(SEARCH("bench",$B26)),IF($C26>=0.6,IF($C26<0.7,$D26*$E26," ")," ")," ") | T26: =IF(ISNUMBER(SEARCH("bench",$B26)),IF($C26>=0.7,IF($C26<0.8,$D26*$E26," ")," ")," ") -> 3 | U26: =IF(ISNUMBER(SEARCH("bench",$B26)),IF($C26>=0.8,IF($C26<0.9,$D26*$E26," ")," ")," ") | V26: =IF(ISNUMBER(SEARCH("bench",$B26)),IF($C26>=0.9,$D26*$E26," ")," ") | W26: =IF(ISNUMBER(SEARCH("deadlift",$B26)),IF($C26>=0.5,IF($C26<0.6,$D26*$E26," ")," ")," ") | X26: =IF(ISNUMBER(SEARCH("deadlift",$B26)),IF($C26>=0.6,IF($C26<0.7,$D26*$E26," ")," ")," ") | Y26: =IF(ISNUMBER(SEARCH("deadlift",$B26)),IF($C26>=0.7,IF($C26<0.8,$D26*$E26," ")," ")," ") | Z26: =IF(ISNUMBER(SEARCH("deadlift",$B26)),IF($C26>=0.8,IF($C26<0.9,$D26*$E26," ")," ")," ") | AA26: =IF(ISNUMBER(SEARCH("deadlift",$B26)),IF($C26>=0.9,$D26*$E26," ")," ")
B27: Bench press | C27: 0.7 | D27: 5 | E27: 1 | F27: =Max!$B$3*C27 -> 59.5 | I27: =D27*E27 -> 5 | J27: =F27*I27 -> 297.5 | R27: =IF(ISNUMBER(SEARCH("bench",$B27)),IF($C27>=0.5,IF($C27<0.6,$D27*$E27," ")," ")," ") | S27: =IF(ISNUMBER(SEARCH("bench",$B27)),IF($C27>=0.6,IF($C27<0.7,$D27*$E27," ")," ")," ") | T27: =IF(ISNUMBER(SEARCH("bench",$B27)),IF($C27>=0.7,IF($C27<0.8,$D27*$E27," ")," ")," ") -> 5 | U27: =IF(ISNUMBER(SEARCH("bench",$B27)),IF($C27>=0.8,IF($C27<0.9,$D27*$E27," ")," ")," ") | V27: =IF(ISNUMBER(SEARCH("bench",$B27)),IF($C27>=0.9,$D27*$E27," ")," ") | W27: =IF(ISNUMBER(SEARCH("deadlift",$B27)),IF($C27>=0.5,IF($C27<0.6,$D27*$E27," ")," ")," ") | X27: =IF(ISNUMBER(SEARCH("deadlift",$B27)),IF($C27>=0.6,IF($C27<0.7,$D27*$E27," ")," ")," ") | Y27: =IF(ISNUMBER(SEARCH("deadlift",$B27)),IF($C27>=0.7,IF($C27<0.8,$D27*$E27," ")," ")," ") | Z27: =IF(ISNUMBER(SEARCH("deadlift",$B27)),IF($C27>=0.8,IF($C27<0.9,$D27*$E27," ")," ")," ") | AA27: =IF(ISNUMBER(SEARCH("deadlift",$B27)),IF($C27>=0.9,$D27*$E27," ")," ")
B28: Bench press | C28: 0.7 | D28: 7 | E28: 1 | F28: =Max!$B$3*C28 -> 59.5 | I28: =D28*E28 -> 7 | J28: =F28*I28 -> 416.5 | R28: =IF(ISNUMBER(SEARCH("bench",$B28)),IF($C28>=0.5,IF($C28<0.6,$D28*$E28," ")," ")," ") | S28: =IF(ISNUMBER(SEARCH("bench",$B28)),IF($C28>=0.6,IF($C28<0.7,$D28*$E28," ")," ")," ") | T28: =IF(ISNUMBER(SEARCH("bench",$B28)),IF($C28>=0.7,IF($C28<0.8,$D28*$E28," ")," ")," ") -> 7 | U28: =IF(ISNUMBER(SEARCH("bench",$B28)),IF($C28>=0.8,IF($C28<0.9,$D28*$E28," ")," ")," ") | V28: =IF(ISNUMBER(SEARCH("bench",$B28)),IF($C28>=0.9,$D28*$E28," ")," ") | W28: =IF(ISNUMBER(SEARCH("deadlift",$B28)),IF($C28>=0.5,IF($C28<0.6,$D28*$E28," ")," ")," ") | X28: =IF(ISNUMBER(SEARCH("deadlift",$B28)),IF($C28>=0.6,IF($C28<0.7,$D28*$E28," ")," ")," ") | Y28: =IF(ISNUMBER(SEARCH("deadlift",$B28)),IF($C28>=0.7,IF($C28<0.8,$D28*$E28," ")," ")," ") | Z28: =IF(ISNUMBER(SEARCH("deadlift",$B28)),IF($C28>=0.8,IF($C28<0.9,$D28*$E28," ")," ")," ") | AA28: =IF(ISNUMBER(SEARCH("deadlift",$B28)),IF($C28>=0.9,$D28*$E28," ")," ")
B29: Bench press | C29: 0.7 | D29: 4 | E29: 1 | F29: =Max!$B$3*C29 -> 59.5 | I29: =D29*E29 -> 4 | J29: =F29*I29 -> 238 | R29: =IF(ISNUMBER(SEARCH("bench",$B29)),IF($C29>=0.5,IF($C29<0.6,$D29*$E29," ")," ")," ") | S29: =IF(ISNUMBER(SEARCH("bench",$B29)),IF($C29>=0.6,IF($C29<0.7,$D29*$E29," ")," ")," ") | T29: =IF(ISNUMBER(SEARCH("bench",$B29)),IF($C29>=0.7,IF($C29<0.8,$D29*$E29," ")," ")," ") -> 4 | U29: =IF(ISNUMBER(SEARCH("bench",$B29)),IF($C29>=0.8,IF($C29<0.9,$D29*$E29," ")," ")," ") | V29: =IF(ISNUMBER(SEARCH("bench",$B29)),IF($C29>=0.9,$D29*$E29," ")," ") | W29: =IF(ISNUMBER(SEARCH("deadlift",$B29)),IF($C29>=0.5,IF($C29<0.6,$D29*$E29," ")," ")," ") | X29: =IF(ISNUMBER(SEARCH("deadlift",$B29)),IF($C29>=0.6,IF($C29<0.7,$D29*$E29," ")," ")," ") | Y29: =IF(ISNUMBER(SEARCH("deadlift",$B29)),IF($C29>=0.7,IF($C29<0.8,$D29*$E29," ")," ")," ") | Z29: =IF(ISNUMBER(SEARCH("deadlift",$B29)),IF($C29>=0.8,IF($C29<0.9,$D29*$E29," ")," ")," ") | AA29: =IF(ISNUMBER(SEARCH("deadlift",$B29)),IF($C29>=0.9,$D29*$E29," ")," ")
B30: Bench press | C30: 0.7 | D30: 6 | E30: 1 | F30: =Max!$B$3*C30 -> 59.5 | I30: =D30*E30 -> 6 | J30: =F30*I30 -> 357 | R30: =IF(ISNUMBER(SEARCH("bench",$B30)),IF($C30>=0.5,IF($C30<0.6,$D30*$E30," ")," ")," ") | S30: =IF(ISNUMBER(SEARCH("bench",$B30)),IF($C30>=0.6,IF($C30<0.7,$D30*$E30," ")," ")," ") | T30: =IF(ISNUMBER(SEARCH("bench",$B30)),IF($C30>=0.7,IF($C30<0.8,$D30*$E30," ")," ")," ") -> 6 | U30: =IF(ISNUMBER(SEARCH("bench",$B30)),IF($C30>=0.8,IF($C30<0.9,$D30*$E30," ")," ")," ") | V30: =IF(ISNUMBER(SEARCH("bench",$B30)),IF($C30>=0.9,$D30*$E30," ")," ") | W30: =IF(ISNUMBER(SEARCH("deadlift",$B30)),IF($C30>=0.5,IF($C30<0.6,$D30*$E30," ")," ")," ") | X30: =IF(ISNUMBER(SEARCH("deadlift",$B30)),IF($C30>=0.6,IF($C30<0.7,$D30*$E30," ")," ")," ") | Y30: =IF(ISNUMBER(SEARCH("deadlift",$B30)),IF($C30>=0.7,IF($C30<0.8,$D30*$E30," ")," ")," ") | Z30: =IF(ISNUMBER(SEARCH("deadlift",$B30)),IF($C30>=0.8,IF($C30<0.9,$D30*$E30," ")," ")," ") | AA30: =IF(ISNUMBER(SEARCH("deadlift",$B30)),IF($C30>=0.9,$D30*$E30," ")," ")
B31: Bench press | C31: 0.7 | D31: 8 | E31: 1 | F31: =Max!$B$3*C31 -> 59.5 | I31: =D31*E31 -> 8 | J31: =F31*I31 -> 476 | R31: =IF(ISNUMBER(SEARCH("bench",$B31)),IF($C31>=0.5,IF($C31<0.6,$D31*$E31," ")," ")," ") | S31: =IF(ISNUMBER(SEARCH("bench",$B31)),IF($C31>=0.6,IF($C31<0.7,$D31*$E31," ")," ")," ") | T31: =IF(ISNUMBER(SEARCH("bench",$B31)),IF($C31>=0.7,IF($C31<0.8,$D31*$E31," ")," ")," ") -> 8 | U31: =IF(ISNUMBER(SEARCH("bench",$B31)),IF($C31>=0.8,IF($C31<0.9,$D31*$E31," ")," ")," ") | V31: =IF(ISNUMBER(SEARCH("bench",$B31)),IF($C31>=0.9,$D31*$E31," ")," ") | W31: =IF(ISNUMBER(SEARCH("deadlift",$B31)),IF($C31>=0.5,IF($C31<0.6,$D31*$E31," ")," ")," ") | X31: =IF(ISNUMBER(SEARCH("deadlift",$B31)),IF($C31>=0.6,IF($C31<0.7,$D31*$E31," ")," ")," ") | Y31: =IF(ISNUMBER(SEARCH("deadlift",$B31)),IF($C31>=0.7,IF($C31<0.8,$D31*$E31," ")," ")," ") | Z31: =IF(ISNUMBER(SEARCH("deadlift",$B31)),IF($C31>=0.8,IF($C31<0.9,$D31*$E31," ")," ")," ") | AA31: =IF(ISNUMBER(SEARCH("deadlift",$B31)),IF($C31>=0.9,$D31*$E31," ")," ")
A32: 3 | B32: Deadlift w/pause 5-7cm above knees | C32: 0.55 | D32: 3 | E32: 1 | F32: =Max!$B$4*C32 -> 88 | K32: =D32*E32 -> 3 | L32: =F32*K32 -> 264 | R32: =IF(ISNUMBER(SEARCH("bench",$B32)),IF($C32>=0.5,IF($C32<0.6,$D32*$E32," ")," ")," ") | S32: =IF(ISNUMBER(SEARCH("bench",$B32)),IF($C32>=0.6,IF($C32<0.7,$D32*$E32," ")," ")," ") | T32: =IF(ISNUMBER(SEARCH("bench",$B32)),IF($C32>=0.7,IF($C32<0.8,$D32*$E32," ")," ")," ") | U32: =IF(ISNUMBER(SEARCH("bench",$B32)),IF($C32>=0.8,IF($C32<0.9,$D32*$E32," ")," ")," ") | V32: =IF(ISNUMBER(SEARCH("bench",$B32)),IF($C32>=0.9,$D32*$E32," ")," ") | W32: =IF(ISNUMBER(SEARCH("deadlift",$B32)),IF($C32>=0.5,IF($C32<0.6,$D32*$E32," ")," ")," ") -> 3 | X32: =IF(ISNUMBER(SEARCH("deadlift",$B32)),IF($C32>=0.6,IF($C32<0.7,$D32*$E32," ")," ")," ") | Y32: =IF(ISNUMBER(SEARCH("deadlift",$B32)),IF($C32>=0.7,IF($C32<0.8,$D32*$E32," ")," ")," ") | Z32: =IF(ISNUMBER(SEARCH("deadlift",$B32)),IF($C32>=0.8,IF($C32<0.9,$D32*$E32," ")," ")," ") | AA32: =IF(ISNUMBER(SEARCH("deadlift",$B32)),IF($C32>=0.9,$D32*$E32," ")," ")
B33: Deadlift w/pause 5-7cm above knees | C33: 0.65 | D33: 3 | E33: 1 | F33: =Max!$B$4*C33 -> 104 | K33: =D33*E33 -> 3 | L33: =F33*K33 -> 312 | R33: =IF(ISNUMBER(SEARCH("bench",$B33)),IF($C33>=0.5,IF($C33<0.6,$D33*$E33," ")," ")," ") | S33: =IF(ISNUMBER(SEARCH("bench",$B33)),IF($C33>=0.6,IF($C33<0.7,$D33*$E33," ")," ")," ") | T33: =IF(ISNUMBER(SEARCH("bench",$B33)),IF($C33>=0.7,IF($C33<0.8,$D33*$E33," ")," ")," ") | U33: =IF(ISNUMBER(SEARCH("bench",$B33)),IF($C33>=0.8,IF($C33<0.9,$D33*$E33," ")," ")," ") | V33: =IF(ISNUMBER(SEARCH("bench",$B33)),IF($C33>=0.9,$D33*$E33," ")," ") | W33: =IF(ISNUMBER(SEARCH("deadlift",$B33)),IF($C33>=0.5,IF($C33<0.6,$D33*$E33," ")," ")," ") | X33: =IF(ISNUMBER(SEARCH("deadlift",$B33)),IF($C33>=0.6,IF($C33<0.7,$D33*$E33," ")," ")," ") -> 3 | Y33: =IF(ISNUMBER(SEARCH("deadlift",$B33)),IF($C33>=0.7,IF($C33<0.8,$D33*$E33," ")," ")," ") | Z33: =IF(ISNUMBER(SEARCH("deadlift",$B33)),IF($C33>=0.8,IF($C33<0.9,$D33*$E33," ")," ")," ") | AA33: =IF(ISNUMBER(SEARCH("deadlift",$B33)),IF($C33>=0.9,$D33*$E33," ")," ")
B34: Deadlift w/pause 5-7cm above knees | C34: 0.75 | D34: 2 | E34: 4 | F34: =Max!$B$4*C34 -> 120 | K34: =D34*E34 -> 8 | L34: =F34*K34 -> 960 | R34: =IF(ISNUMBER(SEARCH("bench",$B34)),IF($C34>=0.5,IF($C34<0.6,$D34*$E34," ")," ")," ") | S34: =IF(ISNUMBER(SEARCH("bench",$B34)),IF($C34>=0.6,IF($C34<0.7,$D34*$E34," ")," ")," ") | T34: =IF(ISNUMBER(SEARCH("bench",$B34)),IF($C34>=0.7,IF($C34<0.8,$D34*$E34," ")," ")," ") | U34: =IF(ISNUMBER(SEARCH("bench",$B34)),IF($C34>=0.8,IF($C34<0.9,$D34*$E34," ")," ")," ") | V34: =IF(ISNUMBER(SEARCH("bench",$B34)),IF($C34>=0.9,$D34*$E34," ")," ") | W34: =IF(ISNUMBER(SEARCH("deadlift",$B34)),IF($C34>=0.5,IF($C34<0.6,$D34*$E34," ")," ")," ") | X34: =IF(ISNUMBER(SEARCH("deadlift",$B34)),IF($C34>=0.6,IF($C34<0.7,$D34*$E34," ")," ")," ") | Y34: =IF(ISNUMBER(SEARCH("deadlift",$B34)),IF($C34>=0.7,IF($C34<0.8,$D34*$E34," ")," ")," ") -> 8 | Z34: =IF(ISNUMBER(SEARCH("deadlift",$B34)),IF($C34>=0.8,IF($C34<0.9,$D34*$E34," ")," ")," ") | AA34: =IF(ISNUMBER(SEARCH("deadlift",$B34)),IF($C34>=0.9,$D34*$E34," ")," ")
A35: 4 | B35: Lat muscles | D35: 6 | E35: 4
A36: 5 | B36: Good morning | D36: 5 | E36: 5
A38: 5 day (Friday) | C38: % | D38: reps | E38: sets | F38: weight
A39: 1 | B39: Bench press | C39: 0.5 | D39: 5 | E39: 1 | F39: =Max!$B$3*C39 -> 42.5 | I39: =D39*E39 -> 5 | J39: =F39*I39 -> 212.5 | M39: =IF(ISNUMBER(SEARCH("squat",$B39)),IF($C39>=0.5,IF($C39<0.6,$D39*$E39," ")," ")," ") | N39: =IF(ISNUMBER(SEARCH("squat",$B39)),IF($C39>=0.6,IF($C39<0.7,$D39*$E39," ")," ")," ") | O39: =IF(ISNUMBER(SEARCH("squat",$B39)),IF($C39>=0.7,IF($C39<0.8,$D39*$E39," ")," ")," ") | P39: =IF(ISNUMBER(SEARCH("squat",$B39)),IF($C39>=0.8,IF($C39<0.9,$D39*$E39," ")," ")," ") | Q39: =IF(ISNUMBER(SEARCH("squat",$B39)),IF($C39>=0.9,$D39*$E39," ")," ") | R39: =IF(ISNUMBER(SEARCH("bench",$B39)),IF($C39>=0.5,IF($C39<0.6,$D39*$E39," ")," ")," ") -> 5 | S39: =IF(ISNUMBER(SEARCH("bench",$B39)),IF($C39>=0.6,IF($C39<0.7,$D39*$E39," ")," ")," ") | T39: =IF(ISNUMBER(SEARCH("bench",$B39)),IF($C39>=0.7,IF($C39<0.8,$D39*$E39," ")," ")," ") | U39: =IF(ISNUMBER(SEARCH("bench",$B39)),IF($C39>=0.8,IF($C39<0.9,$D39*$E39," ")," ")," ") | V39: =IF(ISNUMBER(SEARCH("bench",$B39)),IF($C39>=0.9,$D39*$E39," ")," ")
B40: Bench press | C40: 0.6 | D40: 4 | E40: 1 | F40: =Max!$B$3*C40 -> 51 | I40: =D40*E40 -> 4 | J40: =F40*I40 -> 204 | M40: =IF(ISNUMBER(SEARCH("squat",$B40)),IF($C40>=0.5,IF($C40<0.6,$D40*$E40," ")," ")," ") | N40: =IF(ISNUMBER(SEARCH("squat",$B40)),IF($C40>=0.6,IF($C40<0.7,$D40*$E40," ")," ")," ") | O40: =IF(ISNUMBER(SEARCH("squat",$B40)),IF($C40>=0.7,IF($C40<0.8,$D40*$E40," ")," ")," ") | P40: =IF(ISNUMBER(SEARCH("squat",$B40)),IF($C40>=0.8,IF($C40<0.9,$D40*$E40," ")," ")," ") | Q40: =IF(ISNUMBER(SEARCH("squat",$B40)),IF($C40>=0.9,$D40*$E40," ")," ") | R40: =IF(ISNUMBER(SEARCH("bench",$B40)),IF($C40>=0.5,IF($C40<0.6,$D40*$E40," ")," ")," ") | S40: =IF(ISNUMBER(SEARCH("bench",$B40)),IF($C40>=0.6,IF($C40<0.7,$D40*$E40," ")," ")," ") -> 4 | T40: =IF(ISNUMBER(SEARCH("bench",$B40)),IF($C40>=0.7,IF($C40<0.8,$D40*$E40," ")," ")," ") | U40: =IF(ISNUMBER(SEARCH("bench",$B40)),IF($C40>=0.8,IF($C40<0.9,$D40*$E40," ")," ")," ") | V40: =IF(ISNUMBER(SEARCH("bench",$B40)),IF($C40>=0.9,$D40*$E40," ")," ")
B41: Bench press | C41: 0.7 | D41: 3 | E41: 1 | F41: =Max!$B$3*C41 -> 59.5 | I41: =D41*E41 -> 3 | J41: =F41*I41 -> 178.5 | M41: =IF(ISNUMBER(SEARCH("squat",$B41)),IF($C41>=0.5,IF($C41<0.6,$D41*$E41," ")," ")," ") | N41: =IF(ISNUMBER(SEARCH("squat",$B41)),IF($C41>=0.6,IF($C41<0.7,$D41*$E41," ")," ")," ") | O41: =IF(ISNUMBER(SEARCH("squat",$B41)),IF($C41>=0.7,IF($C41<0.8,$D41*$E41," ")," ")," ") | P41: =IF(ISNUMBER(SEARCH("squat",$B41)),IF($C41>=0.8,IF($C41<0.9,$D41*$E41," ")," ")," ") | Q41: =IF(ISNUMBER(SEARCH("squat",$B41)),IF($C41>=0.9,$D41*$E41," ")," ") | R41: =IF(ISNUMBER(SEARCH("bench",$B41)),IF($C41>=0.5,IF($C41<0.6,$D41*$E41," ")," ")," ") | S41: =IF(ISNUMBER(SEARCH("bench",$B41)),IF($C41>=0.6,IF($C41<0.7,$D41*$E41," ")," ")," ") | T41: =IF(ISNUMBER(SEARCH("bench",$B41)),IF($C41>=0.7,IF($C41<0.8,$D41*$E41," ")," ")," ") -> 3 | U41: =IF(ISNUMBER(SEARCH("bench",$B41)),IF($C41>=0.8,IF($C41<0.9,$D41*$E41," ")," ")," ") | V41: =IF(ISNUMBER(SEARCH("bench",$B41)),IF($C41>=0.9,$D41*$E41," ")," ")
B42: Bench press | C42: 0.75 | D42: 3 | E42: 4 | F42: =Max!$B$3*C42 -> 63.75 | I42: =D42*E42 -> 12 | J42: =F42*I42 -> 765 | M42: =IF(ISNUMBER(SEARCH("squat",$B42)),IF($C42>=0.5,IF($C42<0.6,$D42*$E42," ")," ")," ") | N42: =IF(ISNUMBER(SEARCH("squat",$B42)),IF($C42>=0.6,IF($C42<0.7,$D42*$E42," ")," ")," ") | O42: =IF(ISNUMBER(SEARCH("squat",$B42)),IF($C42>=0.7,IF($C42<0.8,$D42*$E42," ")," ")," ") | P42: =IF(ISNUMBER(SEARCH("squat",$B42)),IF($C42>=0.8,IF($C42<0.9,$D42*$E42," ")," ")," ") | Q42: =IF(ISNUMBER(SEARCH("squat",$B42)),IF($C42>=0.9,$D42*$E42," ")," ") | R42: =IF(ISNUMBER(SEARCH("bench",$B42)),IF($C42>=0.5,IF($C42<0.6,$D42*$E42," ")," ")," ") | S42: =IF(ISNUMBER(SEARCH("bench",$B42)),IF($C42>=0.6,IF($C42<0.7,$D42*$E42," ")," ")," ") | T42: =IF(ISNUMBER(SEARCH("bench",$B42)),IF($C42>=0.7,IF($C42<0.8,$D42*$E42," ")," ")," ") -> 12 | U42: =IF(ISNUMBER(SEARCH("bench",$B42)),IF($C42>=0.8,IF($C42<0.9,$D42*$E42," ")," ")," ") | V42: =IF(ISNUMBER(SEARCH("bench",$B42)),IF($C42>=0.9,$D42*$E42," ")," ")
A43: 2 | B43: Squat w/pause at half squat position on the way down | C43: 0.5 | D43: 3 | E43: 1 | F43: =Max!$B$2*C43 -> 100 | G43: =D43*E43 -> 3 | H43: =F43*G43 -> 300 | M43: =IF(ISNUMBER(SEARCH("squat",$B43)),IF($C43>=0.5,IF($C43<0.6,$D43*$E43," ")," ")," ") -> 3 | N43: =IF(ISNUMBER(SEARCH("squat",$B43)),IF($C43>=0.6,IF($C43<0.7,$D43*$E43," ")," ")," ") | O43: =IF(ISNUMBER(SEARCH("squat",$B43)),IF($C43>=0.7,IF($C43<0.8,$D43*$E43," ")," ")," ") | P43: =IF(ISNUMBER(SEARCH("squat",$B43)),IF($C43>=0.8,IF($C43<0.9,$D43*$E43," ")," ")," ") | Q43: =IF(ISNUMBER(SEARCH("squat",$B43)),IF($C43>=0.9,$D43*$E43," ")," ") | R43: =IF(ISNUMBER(SEARCH("bench",$B43)),IF($C43>=0.5,IF($C43<0.6,$D43*$E43," ")," ")," ") | S43: =IF(ISNUMBER(SEARCH("bench",$B43)),IF($C43>=0.6,IF($C43<0.7,$D43*$E43," ")," ")," ") | T43: =IF(ISNUMBER(SEARCH("bench",$B43)),IF($C43>=0.7,IF($C43<0.8,$D43*$E43," ")," ")," ") | U43: =IF(ISNUMBER(SEARCH("bench",$B43)),IF($C43>=0.8,IF($C43<0.9,$D43*$E43," ")," ")," ") | V43: =IF(ISNUMBER(SEARCH("bench",$B43)),IF($C43>=0.9,$D43*$E43," ")," ")
B44: Squat w/pause at half squat position on the way down | C44: 0.6 | D44: 3 | E44: 1 | F44: =Max!$B$2*C44 -> 120 | G44: =D44*E44 -> 3 | H44: =F44*G44 -> 360 | M44: =IF(ISNUMBER(SEARCH("squat",$B44)),IF($C44>=0.5,IF($C44<0.6,$D44*$E44," ")," ")," ") | N44: =IF(ISNUMBER(SEARCH("squat",$B44)),IF($C44>=0.6,IF($C44<0.7,$D44*$E44," ")," ")," ") -> 3 | O44: =IF(ISNUMBER(SEARCH("squat",$B44)),IF($C44>=0.7,IF($C44<0.8,$D44*$E44," ")," ")," ") | P44: =IF(ISNUMBER(SEARCH("squat",$B44)),IF($C44>=0.8,IF($C44<0.9,$D44*$E44," ")," ")," ") | Q44: =IF(ISNUMBER(SEARCH("squat",$B44)),IF($C44>=0.9,$D44*$E44," ")," ") | R44: =IF(ISNUMBER(SEARCH("bench",$B44)),IF($C44>=0.5,IF($C44<0.6,$D44*$E44," ")," ")," ") | S44: =IF(ISNUMBER(SEARCH("bench",$B44)),IF($C44>=0.6,IF($C44<0.7,$D44*$E44," ")," ")," ") | T44: =IF(ISNUMBER(SEARCH("bench",$B44)),IF($C44>=0.7,IF($C44<0.8,$D44*$E44," ")," ")," ") | U44: =IF(ISNUMBER(SEARCH("bench",$B44)),IF($C44>=0.8,IF($C44<0.9,$D44*$E44," ")," ")," ") | V44: =IF(ISNUMBER(SEARCH("bench",$B44)),IF($C44>=0.9,$D44*$E44," ")," ")
B45: Squat w/pause at half squat position on the way down | C45: 0.7 | D45: 3 | E45: 4 | F45: =Max!$B$2*C45 -> 140 | G45: =D45*E45 -> 12 | H45: =F45*G45 -> 1680 | M45: =IF(ISNUMBER(SEARCH("squat",$B45)),IF($C45>=0.5,IF($C45<0.6,$D45*$E45," ")," ")," ") | N45: =IF(ISNUMBER(SEARCH("squat",$B45)),IF($C45>=0.6,IF($C45<0.7,$D45*$E45," ")," ")," ") | O45: =IF(ISNUMBER(SEARCH("squat",$B45)),IF($C45>=0.7,IF($C45<0.8,$D45*$E45," ")," ")," ") -> 12 | P45: =IF(ISNUMBER(SEARCH("squat",$B45)),IF($C45>=0.8,IF($C45<0.9,$D45*$E45," ")," ")," ") | Q45: =IF(ISNUMBER(SEARCH("squat",$B45)),IF($C45>=0.9,$D45*$E45," ")," ") | R45: =IF(ISNUMBER(SEARCH("bench",$B45)),IF($C45>=0.5,IF($C45<0.6,$D45*$E45," ")," ")," ") | S45: =IF(ISNUMBER(SEARCH("bench",$B45)),IF($C45>=0.6,IF($C45<0.7,$D45*$E45," ")," ")," ") | T45: =IF(ISNUMBER(SEARCH("bench",$B45)),IF($C45>=0.7,IF($C45<0.8,$D45*$E45," ")," ")," ") | U45: =IF(ISNUMBER(SEARCH("bench",$B45)),IF($C45>=0.8,IF($C45<0.9,$D45*$E45," ")," ")," ") | V45: =IF(ISNUMBER(SEARCH("bench",$B45)),IF($C45>=0.9,$D45*$E45," ")," ")
A46: 3 | B46: Board bench press | C46: 0.6 | D46: 3 | E46: 1 | F46: =Max!$B$3*C46 -> 51 | I46: =D46*E46 -> 3 | J46: =F46*I46 -> 153 | M46: =IF(ISNUMBER(SEARCH("squat",$B46)),IF($C46>=0.5,IF($C46<0.6,$D46*$E46," ")," ")," ") | N46: =IF(ISNUMBER(SEARCH("squat",$B46)),IF($C46>=0.6,IF($C46<0.7,$D46*$E46," ")," ")," ") | O46: =IF(ISNUMBER(SEARCH("squat",$B46)),IF($C46>=0.7,IF($C46<0.8,$D46*$E46," ")," ")," ") | P46: =IF(ISNUMBER(SEARCH("squat",$B46)),IF($C46>=0.8,IF($C46<0.9,$D46*$E46," ")," ")," ") | Q46: =IF(ISNUMBER(SEARCH("squat",$B46)),IF($C46>=0.9,$D46*$E46," ")," ") | R46: =IF(ISNUMBER(SEARCH("bench",$B46)),IF($C46>=0.5,IF($C46<0.6,$D46*$E46," ")," ")," ") | S46: =IF(ISNUMBER(SEARCH("bench",$B46)),IF($C46>=0.6,IF($C46<0.7,$D46*$E46," ")," ")," ") -> 3 | T46: =IF(ISNUMBER(SEARCH("bench",$B46)),IF($C46>=0.7,IF($C46<0.8,$D46*$E46," ")," ")," ") | U46: =IF(ISNUMBER(SEARCH("bench",$B46)),IF($C46>=0.8,IF($C46<0.9,$D46*$E46," ")," ")," ") | V46: =IF(ISNUMBER(SEARCH("bench",$B46)),IF($C46>=0.9,$D46*$E46," ")," ")
B47: Board bench press | C47: 0.7 | D47: 3 | E47: 1 | F47: =Max!$B$3*C47 -> 59.5 | I47: =D47*E47 -> 3 | J47: =F47*I47 -> 178.5 | M47: =IF(ISNUMBER(SEARCH("squat",$B47)),IF($C47>=0.5,IF($C47<0.6,$D47*$E47," ")," ")," ") | N47: =IF(ISNUMBER(SEARCH("squat",$B47)),IF($C47>=0.6,IF($C47<0.7,$D47*$E47," ")," ")," ") | O47: =IF(ISNUMBER(SEARCH("squat",$B47)),IF($C47>=0.7,IF($C47<0.8,$D47*$E47," ")," ")," ") | P47: =IF(ISNUMBER(SEARCH("squat",$B47)),IF($C47>=0.8,IF($C47<0.9,$D47*$E47," ")," ")," ") | Q47: =IF(ISNUMBER(SEARCH("squat",$B47)),IF($C47>=0.9,$D47*$E47," ")," ") | R47: =IF(ISNUMBER(SEARCH("bench",$B47)),IF($C47>=0.5,IF($C47<0.6,$D47*$E47," ")," ")," ") | S47: =IF(ISNUMBER(SEARCH("bench",$B47)),IF($C47>=0.6,IF($C47<0.7,$D47*$E47," ")," ")," ") | T47: =IF(ISNUMBER(SEARCH("bench",$B47)),IF($C47>=0.7,IF($C47<0.8,$D47*$E47," ")," ")," ") -> 3 | U47: =IF(ISNUMBER(SEARCH("bench",$B47)),IF($C47>=0.8,IF($C47<0.9,$D47*$E47," ")," ")," ") | V47: =IF(ISNUMBER(SEARCH("bench",$B47)),IF($C47>=0.9,$D47*$E47," ")," ")
B48: Board bench press | C48: 0.8 | D48: 3 | E48: 2 | F48: =Max!$B$3*C48 -> 68 | I48: =D48*E48 -> 6 | J48: =F48*I48 -> 408 | M48: =IF(ISNUMBER(SEARCH("squat",$B48)),IF($C48>=0.5,IF($C48<0.6,$D48*$E48," ")," ")," ") | N48: =IF(ISNUMBER(SEARCH("squat",$B48)),IF($C48>=0.6,IF($C48<0.7,$D48*$E48," ")," ")," ") | O48: =IF(ISNUMBER(SEARCH("squat",$B48)),IF($C48>=0.7,IF($C48<0.8,$D48*$E48," ")," ")," ") | P48: =IF(ISNUMBER(SEARCH("squat",$B48)),IF($C48>=0.8,IF($C48<0.9,$D48*$E48," ")," ")," ") | Q48: =IF(ISNUMBER(SEARCH("squat",$B48)),IF($C48>=0.9,$D48*$E48," ")," ") | R48: =IF(ISNUMBER(SEARCH("bench",$B48)),IF($C48>=0.5,IF($C48<0.6,$D48*$E48," ")," ")," ") | S48: =IF(ISNUMBER(SEARCH("bench",$B48)),IF($C48>=0.6,IF($C48<0.7,$D48*$E48," ")," ")," ") | T48: =IF(ISNUMBER(SEARCH("bench",$B48)),IF($C48>=0.7,IF($C48<0.8,$D48*$E48," ")," ")," ") | U48: =IF(ISNUMBER(SEARCH("bench",$B48)),IF($C48>=0.8,IF($C48<0.9,$D48*$E48," ")," ")," ") -> 6 | V48: =IF(ISNUMBER(SEARCH("bench",$B48)),IF($C48>=0.9,$D48*$E48," ")," ")
B49: Board bench press | C49: 0.85 | D49: 2 | E49: 3 | F49: =Max!$B$3*C49 -> 72.25 | I49: =D49*E49 -> 6 | J49: =F49*I49 -> 433.5 | M49: =IF(ISNUMBER(SEARCH("squat",$B49)),IF($C49>=0.5,IF($C49<0.6,$D49*$E49," ")," ")," ") | N49: =IF(ISNUMBER(SEARCH("squat",$B49)),IF($C49>=0.6,IF($C49<0.7,$D49*$E49," ")," ")," ") | O49: =IF(ISNUMBER(SEARCH("squat",$B49)),IF($C49>=0.7,IF($C49<0.8,$D49*$E49," ")," ")," ") | P49: =IF(ISNUMBER(SEARCH("squat",$B49)),IF($C49>=0.8,IF($C49<0.9,$D49*$E49," ")," ")," ") | Q49: =IF(ISNUMBER(SEARCH("squat",$B49)),IF($C49>=0.9,$D49*$E49," ")," ") | R49: =IF(ISNUMBER(SEARCH("bench",$B49)),IF($C49>=0.5,IF($C49<0.6,$D49*$E49," ")," ")," ") | S49: =IF(ISNUMBER(SEARCH("bench",$B49)),IF($C49>=0.6,IF($C49<0.7,$D49*$E49," ")," ")," ") | T49: =IF(ISNUMBER(SEARCH("bench",$B49)),IF($C49>=0.7,IF($C49<0.8,$D49*$E49," ")," ")," ") | U49: =IF(ISNUMBER(SEARCH("bench",$B49)),IF($C49>=0.8,IF($C49<0.9,$D49*$E49," ")," ")," ") -> 6 | V49: =IF(ISNUMBER(SEARCH("bench",$B49)),IF($C49>=0.9,$D49*$E49," ")," ")
A50: 4 | B50: Chest muscles | D50: 8 | E50: 4
A51: 5 | B51: Hyperextension | D51: 8 | E51: 4
A53: 6 day (Saturday) | C53: % | D53: reps | E53: sets | F53: weight
A54: 1 | B54: Deficit deadlift | C54: 0.5 | D54: 3 | E54: 1 | F54: =Max!$B$4*C54 -> 80 | K54: =D54*E54 -> 3 | L54: =F54*K54 -> 240 | W54: =IF(ISNUMBER(SEARCH("deadlift",$B54)),IF($C54>=0.5,IF($C54<0.6,$D54*$E54," ")," ")," ") -> 3 | X54: =IF(ISNUMBER(SEARCH("deadlift",$B54)),IF($C54>=0.6,IF($C54<0.7,$D54*$E54," ")," ")," ") | Y54: =IF(ISNUMBER(SEARCH("deadlift",$B54)),IF($C54>=0.7,IF($C54<0.8,$D54*$E54," ")," ")," ") | Z54: =IF(ISNUMBER(SEARCH("deadlift",$B54)),IF($C54>=0.8,IF($C54<0.9,$D54*$E54," ")," ")," ") | AA54: =IF(ISNUMBER(SEARCH("deadlift",$B54)),IF($C54>=0.9,$D54*$E54," ")," ")
B55: Deficit deadlift | C55: 0.6 | D55: 2 | E55: 4 | F55: =Max!$B$4*C55 -> 96 | K55: =D55*E55 -> 8 | L55: =F55*K55 -> 768 | W55: =IF(ISNUMBER(SEARCH("deadlift",$B55)),IF($C55>=0.5,IF($C55<0.6,$D55*$E55," ")," ")," ") | X55: =IF(ISNUMBER(SEARCH("deadlift",$B55)),IF($C55>=0.6,IF($C55<0.7,$D55*$E55," ")," ")," ") -> 8 | Y55: =IF(ISNUMBER(SEARCH("deadlift",$B55)),IF($C55>=0.7,IF($C55<0.8,$D55*$E55," ")," ")," ") | Z55: =IF(ISNUMBER(SEARCH("deadlift",$B55)),IF($C55>=0.8,IF($C55<0.9,$D55*$E55," ")," ")," ") | AA55: =IF(ISNUMBER(SEARCH("deadlift",$B55)),IF($C55>=0.9,$D55*$E55," ")," ")
A56: 2 | B56: Incline Bench press | D56: 3 | E56: 5 | W56: =IF(ISNUMBER(SEARCH("deadlift",$B56)),IF($C56>=0.5,IF($C56<0.6,$D56*$E56," ")," ")," ") | X56: =IF(ISNUMBER(SEARCH("deadlift",$B56)),IF($C56>=0.6,IF($C56<0.7,$D56*$E56," ")," ")," ") | Y56: =IF(ISNUMBER(SEARCH("deadlift",$B56)),IF($C56>=0.7,IF($C56<0.8,$D56*$E56," ")," ")," ") | Z56: =IF(ISNUMBER(SEARCH("deadlift",$B56)),IF($C56>=0.8,IF($C56<0.9,$D56*$E56," ")," ")," ") | AA56: =IF(ISNUMBER(SEARCH("deadlift",$B56)),IF($C56>=0.9,$D56*$E56," ")," ")
A57: 3 | B57: Deadlift off boxes, bar is 5-7cm below knees | C57: 0.55 | D57: 3 | E57: 1 | F57: =Max!$B$4*C57 -> 88 | K57: =D57*E57 -> 3 | L57: =F57*K57 -> 264 | W57: =IF(ISNUMBER(SEARCH("deadlift",$B57)),IF($C57>=0.5,IF($C57<0.6,$D57*$E57," ")," ")," ") -> 3 | X57: =IF(ISNUMBER(SEARCH("deadlift",$B57)),IF($C57>=0.6,IF($C57<0.7,$D57*$E57," ")," ")," ") | Y57: =IF(ISNUMBER(SEARCH("deadlift",$B57)),IF($C57>=0.7,IF($C57<0.8,$D57*$E57," ")," ")," ") | Z57: =IF(ISNUMBER(SEARCH("deadlift",$B57)),IF($C57>=0.8,IF($C57<0.9,$D57*$E57," ")," ")," ") | AA57: =IF(ISNUMBER(SEARCH("deadlift",$B57)),IF($C57>=0.9,$D57*$E57," ")," ")
B58: Deadlift off boxes, bar is 5-7cm below knees | C58: 0.65 | D58: 3 | E58: 1 | F58: =Max!$B$4*C58 -> 104 | K58: =D58*E58 -> 3 | L58: =F58*K58 -> 312 | W58: =IF(ISNUMBER(SEARCH("deadlift",$B58)),IF($C58>=0.5,IF($C58<0.6,$D58*$E58," ")," ")," ") | X58: =IF(ISNUMBER(SEARCH("deadlift",$B58)),IF($C58>=0.6,IF($C58<0.7,$D58*$E58," ")," ")," ") -> 3 | Y58: =IF(ISNUMBER(SEARCH("deadlift",$B58)),IF($C58>=0.7,IF($C58<0.8,$D58*$E58," ")," ")," ") | Z58: =IF(ISNUMBER(SEARCH("deadlift",$B58)),IF($C58>=0.8,IF($C58<0.9,$D58*$E58," ")," ")," ") | AA58: =IF(ISNUMBER(SEARCH("deadlift",$B58)),IF($C58>=0.9,$D58*$E58," ")," ")
B59: Deadlift off boxes, bar is 5-7cm below knees | C59: 0.75 | D59: 3 | E59: 2 | F59: =Max!$B$4*C59 -> 120 | K59: =D59*E59 -> 6 | L59: =F59*K59 -> 720 | W59: =IF(ISNUMBER(SEARCH("deadlift",$B59)),IF($C59>=0.5,IF($C59<0.6,$D59*$E59," ")," ")," ") | X59: =IF(ISNUMBER(SEARCH("deadlift",$B59)),IF($C59>=0.6,IF($C59<0.7,$D59*$E59," ")," ")," ") | Y59: =IF(ISNUMBER(SEARCH("deadlift",$B59)),IF($C59>=0.7,IF($C59<0.8,$D59*$E59," ")," ")," ") -> 6 | Z59: =IF(ISNUMBER(SEARCH("deadlift",$B59)),IF($C59>=0.8,IF($C59<0.9,$D59*$E59," ")," ")," ") | AA59: =IF(ISNUMBER(SEARCH("deadlift",$B59)),IF($C59>=0.9,$D59*$E59," ")," ")
B60: Deadlift off boxes, bar is 5-7cm below knees | C60: 0.85 | D60: 2 | E60: 3 | F60: =Max!$B$4*C60 -> 136 | K60: =D60*E60 -> 6 | L60: =F60*K60 -> 816 | W60: =IF(ISNUMBER(SEARCH("deadlift",$B60)),IF($C60>=0.5,IF($C60<0.6,$D60*$E60," ")," ")," ") | X60: =IF(ISNUMBER(SEARCH("deadlift",$B60)),IF($C60>=0.6,IF($C60<0.7,$D60*$E60," ")," ")," ") | Y60: =IF(ISNUMBER(SEARCH("deadlift",$B60)),IF($C60>=0.7,IF($C60<0.8,$D60*$E60," ")," ")," ") | Z60: =IF(ISNUMBER(SEARCH("deadlift",$B60)),IF($C60>=0.8,IF($C60<0.9,$D60*$E60," ")," ")," ") -> 6 | AA60: =IF(ISNUMBER(SEARCH("deadlift",$B60)),IF($C60>=0.9,$D60*$E60," ")," ")
A61: 4 | B61: Dip (with weights) | D61: 4 | E61: 5
A62: 5 | B62: Leg press (80-90% of squat 1RM) | D62: 5 | E62: 5
A63: 6 | B63: Reverse hyperextension | D63: 8 | E63: 4
G64: =SUM(G7:G63) -> 52 | H64: =SUM(H7:H63) -> 6020 | I64: =SUM(I7:I63) -> 105 | J64: =SUM(J7:J63) -> 6069 | K64: =SUM(K7:K63) -> 61 | L64: =SUM(L7:L63) -> 6528 | M64: =SUM(M7:M63) -> 18 | N64: =SUM(N7:N63) -> 6 | ... AA64: =SUM(AA7:AA63) -> 0
A65: week 2
A66: 1 day (Monday) | C66: % | D66: reps | E66: sets | F66: weight
A67: 1 | B67: Squat | C67: 0.5 | D67: 5 | E67: 1 | F67: =Max!$B$2*C67 -> 100 | G67: =D67*E67 -> 5 | H67: =F67*G67 -> 500 | M67: =IF(ISNUMBER(SEARCH("squat",$B67)),IF($C67>=0.5,IF($C67<0.6,$D67*$E67," ")," ")," ") -> 5 | N67: =IF(ISNUMBER(SEARCH("squat",$B67)),IF($C67>=0.6,IF($C67<0.7,$D67*$E67," ")," ")," ") | O67: =IF(ISNUMBER(SEARCH("squat",$B67)),IF($C67>=0.7,IF($C67<0.8,$D67*$E67," ")," ")," ") | P67: =IF(ISNUMBER(SEARCH("squat",$B67)),IF($C67>=0.8,IF($C67<0.9,$D67*$E67," ")," ")," ") | Q67: =IF(ISNUMBER(SEARCH("squat",$B67)),IF($C67>=0.9,$D67*$E67," ")," ") | R67: =IF(ISNUMBER(SEARCH("bench",$B67)),IF($C67>=0.5,IF($C67<0.6,$D67*$E67," ")," ")," ") | S67: =IF(ISNUMBER(SEARCH("bench",$B67)),IF($C67>=0.6,IF($C67<0.7,$D67*$E67," ")," ")," ") | T67: =IF(ISNUMBER(SEARCH("bench",$B67)),IF($C67>=0.7,IF($C67<0.8,$D67*$E67," ")," ")," ") | U67: =IF(ISNUMBER(SEARCH("bench",$B67)),IF($C67>=0.8,IF($C67<0.9,$D67*$E67," ")," ")," ") | V67: =IF(ISNUMBER(SEARCH("bench",$B67)),IF($C67>=0.9,$D67*$E67," ")," ")
B68: Squat | C68: 0.6 | D68: 4 | E68: 1 | F68: =Max!$B$2*C68 -> 120 | G68: =D68*E68 -> 4 | H68: =F68*G68 -> 480 | M68: =IF(ISNUMBER(SEARCH("squat",$B68)),IF($C68>=0.5,IF($C68<0.6,$D68*$E68," ")," ")," ") | N68: =IF(ISNUMBER(SEARCH("squat",$B68)),IF($C68>=0.6,IF($C68<0.7,$D68*$E68," ")," ")," ") -> 4 | O68: =IF(ISNUMBER(SEARCH("squat",$B68)),IF($C68>=0.7,IF($C68<0.8,$D68*$E68," ")," ")," ") | P68: =IF(ISNUMBER(SEARCH("squat",$B68)),IF($C68>=0.8,IF($C68<0.9,$D68*$E68," ")," ")," ") | Q68: =IF(ISNUMBER(SEARCH("squat",$B68)),IF($C68>=0.9,$D68*$E68," ")," ") | R68: =IF(ISNUMBER(SEARCH("bench",$B68)),IF($C68>=0.5,IF($C68<0.6,$D68*$E68," ")," ")," ") | S68: =IF(ISNUMBER(SEARCH("bench",$B68)),IF($C68>=0.6,IF($C68<0.7,$D68*$E68," ")," ")," ") | T68: =IF(ISNUMBER(SEARCH("bench",$B68)),IF($C68>=0.7,IF($C68<0.8,$D68*$E68," ")," ")," ") | U68: =IF(ISNUMBER(SEARCH("bench",$B68)),IF($C68>=0.8,IF($C68<0.9,$D68*$E68," ")," ")," ") | V68: =IF(ISNUMBER(SEARCH("bench",$B68)),IF($C68>=0.9,$D68*$E68," ")," ")
B69: Squat | C69: 0.7 | D69: 3 | E69: 1 | F69: =Max!$B$2*C69 -> 140 | G69: =D69*E69 -> 3 | H69: =F69*G69 -> 420 | M69: =IF(ISNUMBER(SEARCH("squat",$B69)),IF($C69>=0.5,IF($C69<0.6,$D69*$E69," ")," ")," ") | N69: =IF(ISNUMBER(SEARCH("squat",$B69)),IF($C69>=0.6,IF($C69<0.7,$D69*$E69," ")," ")," ") | O69: =IF(ISNUMBER(SEARCH("squat",$B69)),IF($C69>=0.7,IF($C69<0.8,$D69*$E69," ")," ")," ") -> 3 | P69: =IF(ISNUMBER(SEARCH("squat",$B69)),IF($C69>=0.8,IF($C69<0.9,$D69*$E69," ")," ")," ") | Q69: =IF(ISNUMBER(SEARCH("squat",$B69)),IF($C69>=0.9,$D69*$E69," ")," ") | R69: =IF(ISNUMBER(SEARCH("bench",$B69)),IF($C69>=0.5,IF($C69<0.6,$D69*$E69," ")," ")," ") | S69: =IF(ISNUMBER(SEARCH("bench",$B69)),IF($C69>=0.6,IF($C69<0.7,$D69*$E69," ")," ")," ") | T69: =IF(ISNUMBER(SEARCH("bench",$B69)),IF($C69>=0.7,IF($C69<0.8,$D69*$E69," ")," ")," ") | U69: =IF(ISNUMBER(SEARCH("bench",$B69)),IF($C69>=0.8,IF($C69<0.9,$D69*$E69," ")," ")," ") | V69: =IF(ISNUMBER(SEARCH("bench",$B69)),IF($C69>=0.9,$D69*$E69," ")," ")
B70: Squat | C70: 0.75 | D70: 3 | E70: 1 | F70: =Max!$B$2*C70 -> 150 | G70: =D70*E70 -> 3 | H70: =F70*G70 -> 450 | M70: =IF(ISNUMBER(SEARCH("squat",$B70)),IF($C70>=0.5,IF($C70<0.6,$D70*$E70," ")," ")," ") | N70: =IF(ISNUMBER(SEARCH("squat",$B70)),IF($C70>=0.6,IF($C70<0.7,$D70*$E70," ")," ")," ") | O70: =IF(ISNUMBER(SEARCH("squat",$B70)),IF($C70>=0.7,IF($C70<0.8,$D70*$E70," ")," ")," ") -> 3 | P70: =IF(ISNUMBER(SEARCH("squat",$B70)),IF($C70>=0.8,IF($C70<0.9,$D70*$E70," ")," ")," ") | Q70: =IF(ISNUMBER(SEARCH("squat",$B70)),IF($C70>=0.9,$D70*$E70," ")," ") | R70: =IF(ISNUMBER(SEARCH("bench",$B70)),IF($C70>=0.5,IF($C70<0.6,$D70*$E70," ")," ")," ") | S70: =IF(ISNUMBER(SEARCH("bench",$B70)),IF($C70>=0.6,IF($C70<0.7,$D70*$E70," ")," ")," ") | T70: =IF(ISNUMBER(SEARCH("bench",$B70)),IF($C70>=0.7,IF($C70<0.8,$D70*$E70," ")," ")," ") | U70: =IF(ISNUMBER(SEARCH("bench",$B70)),IF($C70>=0.8,IF($C70<0.9,$D70*$E70," ")," ")," ") | V70: =IF(ISNUMBER(SEARCH("bench",$B70)),IF($C70>=0.9,$D70*$E70," ")," ")
B71: Squat | C71: 0.8 | D71: 2 | E71: 5 | F71: =Max!$B$2*C71 -> 160 | G71: =D71*E71 -> 10 | H71: =F71*G71 -> 1600 | M71: =IF(ISNUMBER(SEARCH("squat",$B71)),IF($C71>=0.5,IF($C71<0.6,$D71*$E71," ")," ")," ") | N71: =IF(ISNUMBER(SEARCH("squat",$B71)),IF($C71>=0.6,IF($C71<0.7,$D71*$E71," ")," ")," ") | O71: =IF(ISNUMBER(SEARCH("squat",$B71)),IF($C71>=0.7,IF($C71<0.8,$D71*$E71," ")," ")," ") | P71: =IF(ISNUMBER(SEARCH("squat",$B71)),IF($C71>=0.8,IF($C71<0.9,$D71*$E71," ")," ")," ") -> 10 | Q71: =IF(ISNUMBER(SEARCH("squat",$B71)),IF($C71>=0.9,$D71*$E71," ")," ") | R71: =IF(ISNUMBER(SEARCH("bench",$B71)),IF($C71>=0.5,IF($C71<0.6,$D71*$E71," ")," ")," ") | S71: =IF(ISNUMBER(SEARCH("bench",$B71)),IF($C71>=0.6,IF($C71<0.7,$D71*$E71," ")," ")," ") | T71: =IF(ISNUMBER(SEARCH("bench",$B71)),IF($C71>=0.7,IF($C71<0.8,$D71*$E71," ")," ")," ") | U71: =IF(ISNUMBER(SEARCH("bench",$B71)),IF($C71>=0.8,IF($C71<0.9,$D71*$E71," ")," ")," ") | V71: =IF(ISNUMBER(SEARCH("bench",$B71)),IF($C71>=0.9,$D71*$E71," ")," ")
A72: 2 | B72: Bench press | C72: 0.5 | D72: 5 | E72: 1 | F72: =Max!$B$3*C72 -> 42.5 | I72: =D72*E72 -> 5 | J72: =F72*I72 -> 212.5 | M72: =IF(ISNUMBER(SEARCH("squat",$B72)),IF($C72>=0.5,IF($C72<0.6,$D72*$E72," ")," ")," ") | N72: =IF(ISNUMBER(SEARCH("squat",$B72)),IF($C72>=0.6,IF($C72<0.7,$D72*$E72," ")," ")," ") | O72: =IF(ISNUMBER(SEARCH("squat",$B72)),IF($C72>=0.7,IF($C72<0.8,$D72*$E72," ")," ")," ") | P72: =IF(ISNUMBER(SEARCH("squat",$B72)),IF($C72>=0.8,IF($C72<0.9,$D72*$E72," ")," ")," ") | Q72: =IF(ISNUMBER(SEARCH("squat",$B72)),IF($C72>=0.9,$D72*$E72," ")," ") | R72: =IF(ISNUMBER(SEARCH("bench",$B72)),IF($C72>=0.5,IF($C72<0.6,$D72*$E72," ")," ")," ") -> 5 | S72: =IF(ISNUMBER(SEARCH("bench",$B72)),IF($C72>=0.6,IF($C72<0.7,$D72*$E72," ")," ")," ") | T72: =IF(ISNUMBER(SEARCH("bench",$B72)),IF($C72>=0.7,IF($C72<0.8,$D72*$E72," ")," ")," ") | U72: =IF(ISNUMBER(SEARCH("bench",$B72)),IF($C72>=0.8,IF($C72<0.9,$D72*$E72," ")," ")," ") | V72: =IF(ISNUMBER(SEARCH("bench",$B72)),IF($C72>=0.9,$D72*$E72," ")," ")
B73: Bench press | C73: 0.6 | D73: 4 | E73: 1 | F73: =Max!$B$3*C73 -> 51 | I73: =D73*E73 -> 4 | J73: =F73*I73 -> 204 | M73: =IF(ISNUMBER(SEARCH("squat",$B73)),IF($C73>=0.5,IF($C73<0.6,$D73*$E73," ")," ")," ") | N73: =IF(ISNUMBER(SEARCH("squat",$B73)),IF($C73>=0.6,IF($C73<0.7,$D73*$E73," ")," ")," ") | O73: =IF(ISNUMBER(SEARCH("squat",$B73)),IF($C73>=0.7,IF($C73<0.8,$D73*$E73," ")," ")," ") | P73: =IF(ISNUMBER(SEARCH("squat",$B73)),IF($C73>=0.8,IF($C73<0.9,$D73*$E73," ")," ")," ") | Q73: =IF(ISNUMBER(SEARCH("squat",$B73)),IF($C73>=0.9,$D73*$E73," ")," ") | R73: =IF(ISNUMBER(SEARCH("bench",$B73)),IF($C73>=0.5,IF($C73<0.6,$D73*$E73," ")," ")," ") | S73: =IF(ISNUMBER(SEARCH("bench",$B73)),IF($C73>=0.6,IF($C73<0.7,$D73*$E73," ")," ")," ") -> 4 | T73: =IF(ISNUMBER(SEARCH("bench",$B73)),IF($C73>=0.7,IF($C73<0.8,$D73*$E73," ")," ")," ") | U73: =IF(ISNUMBER(SEARCH("bench",$B73)),IF($C73>=0.8,IF($C73<0.9,$D73*$E73," ")," ")," ") | V73: =IF(ISNUMBER(SEARCH("bench",$B73)),IF($C73>=0.9,$D73*$E73," ")," ")
B74: Bench press | C74: 0.7 | D74: 3 | E74: 1 | F74: =Max!$B$3*C74 -> 59.5 | I74: =D74*E74 -> 3 | J74: =F74*I74 -> 178.5 | M74: =IF(ISNUMBER(SEARCH("squat",$B74)),IF($C74>=0.5,IF($C74<0.6,$D74*$E74," ")," ")," ") | N74: =IF(ISNUMBER(SEARCH("squat",$B74)),IF($C74>=0.6,IF($C74<0.7,$D74*$E74," ")," ")," ") | O74: =IF(ISNUMBER(SEARCH("squat",$B74)),IF($C74>=0.7,IF($C74<0.8,$D74*$E74," ")," ")," ") | P74: =IF(ISNUMBER(SEARCH("squat",$B74)),IF($C74>=0.8,IF($C74<0.9,$D74*$E74," ")," ")," ") | Q74: =IF(ISNUMBER(SEARCH("squat",$B74)),IF($C74>=0.9,$D74*$E74," ")," ") | R74: =IF(ISNUMBER(SEARCH("bench",$B74)),IF($C74>=0.5,IF($C74<0.6,$D74*$E74," ")," ")," ") | S74: =IF(ISNUMBER(SEARCH("bench",$B74)),IF($C74>=0.6,IF($C74<0.7,$D74*$E74," ")," ")," ") | T74: =IF(ISNUMBER(SEARCH("bench",$B74)),IF($C74>=0.7,IF($C74<0.8,$D74*$E74," ")," ")," ") -> 3 | U74: =IF(ISNUMBER(SEARCH("bench",$B74)),IF($C74>=0.8,IF($C74<0.9,$D74*$E74," ")," ")," ") | V74: =IF(ISNUMBER(SEARCH("bench",$B74)),IF($C74>=0.9,$D74*$E74," ")," ")
B75: Bench press | C75: 0.8 | D75: 2 | E75: 5 | F75: =Max!$B$3*C75 -> 68 | I75: =D75*E75 -> 10 | J75: =F75*I75 -> 680 | M75: =IF(ISNUMBER(SEARCH("squat",$B75)),IF($C75>=0.5,IF($C75<0.6,$D75*$E75," ")," ")," ") | N75: =IF(ISNUMBER(SEARCH("squat",$B75)),IF($C75>=0.6,IF($C75<0.7,$D75*$E75," ")," ")," ") | O75: =IF(ISNUMBER(SEARCH("squat",$B75)),IF($C75>=0.7,IF($C75<0.8,$D75*$E75," ")," ")," ") | P75: =IF(ISNUMBER(SEARCH("squat",$B75)),IF($C75>=0.8,IF($C75<0.9,$D75*$E75," ")," ")," ") | Q75: =IF(ISNUMBER(SEARCH("squat",$B75)),IF($C75>=0.9,$D75*$E75," ")," ") | R75: =IF(ISNUMBER(SEARCH("bench",$B75)),IF($C75>=0.5,IF($C75<0.6,$D75*$E75," ")," ")," ") | S75: =IF(ISNUMBER(SEARCH("bench",$B75)),IF($C75>=0.6,IF($C75<0.7,$D75*$E75," ")," ")," ") | T75: =IF(ISNUMBER(SEARCH("bench",$B75)),IF($C75>=0.7,IF($C75<0.8,$D75*$E75," ")," ")," ") | U75: =IF(ISNUMBER(SEARCH("bench",$B75)),IF($C75>=0.8,IF($C75<0.9,$D75*$E75," ")," ")," ") -> 10 | V75: =IF(ISNUMBER(SEARCH("bench",$B75)),IF($C75>=0.9,$D75*$E75," ")," ")
A76: 3 | B76: French press lying | D76: 6 | E76: 5
A77: 4 | B77: Chest muscles | D77: 8 | E77: 4
A78: 5 | B78: Hyperextension | D78: 8 | E78: 4
A80: 3 day (Wednesday) | C80: % | D80: reps | E80: sets | F80: weight
A81: 1 | B81: Bench press w/chains plus 8-10 kg to each side in addition to this weight | C81: 0.5 | D81: 3 | E81: 1 | F81: =Max!$B$3*C81 -> 42.5 | I81: =D81*E81 -> 3 | J81: =F81*I81 -> 127.5 | R81: =IF(ISNUMBER(SEARCH("bench",$B81)),IF($C81>=0.5,IF($C81<0.6,$D81*$E81," ")," ")," ") -> 3 | S81: =IF(ISNUMBER(SEARCH("bench",$B81)),IF($C81>=0.6,IF($C81<0.7,$D81*$E81," ")," ")," ") | T81: =IF(ISNUMBER(SEARCH("bench",$B81)),IF($C81>=0.7,IF($C81<0.8,$D81*$E81," ")," ")," ") | U81: =IF(ISNUMBER(SEARCH("bench",$B81)),IF($C81>=0.8,IF($C81<0.9,$D81*$E81," ")," ")," ") | V81: =IF(ISNUMBER(SEARCH("bench",$B81)),IF($C81>=0.9,$D81*$E81," ")," ") | W81: =IF(ISNUMBER(SEARCH("deadlift",$B81)),IF($C81>=0.5,IF($C81<0.6,$D81*$E81," ")," ")," ") | X81: =IF(ISNUMBER(SEARCH("deadlift",$B81)),IF($C81>=0.6,IF($C81<0.7,$D81*$E81," ")," ")," ") | Y81: =IF(ISNUMBER(SEARCH("deadlift",$B81)),IF($C81>=0.7,IF($C81<0.8,$D81*$E81," ")," ")," ") | Z81: =IF(ISNUMBER(SEARCH("deadlift",$B81)),IF($C81>=0.8,IF($C81<0.9,$D81*$E81," ")," ")," ") | AA81: =IF(ISNUMBER(SEARCH("deadlift",$B81)),IF($C81>=0.9,$D81*$E81," ")," ")
B82: Bench press w/chains plus 8-10 kg to each side in addition to this weight | C82: 0.6 | D82: 3 | E82: 1 | F82: =Max!$B$3*C82 -> 51 | I82: =D82*E82 -> 3 | J82: =F82*I82 -> 153 | R82: =IF(ISNUMBER(SEARCH("bench",$B82)),IF($C82>=0.5,IF($C82<0.6,$D82*$E82," ")," ")," ") | S82: =IF(ISNUMBER(SEARCH("bench",$B82)),IF($C82>=0.6,IF($C82<0.7,$D82*$E82," ")," ")," ") -> 3 | T82: =IF(ISNUMBER(SEARCH("bench",$B82)),IF($C82>=0.7,IF($C82<0.8,$D82*$E82," ")," ")," ") | U82: =IF(ISNUMBER(SEARCH("bench",$B82)),IF($C82>=0.8,IF($C82<0.9,$D82*$E82," ")," ")," ") | V82: =IF(ISNUMBER(SEARCH("bench",$B82)),IF($C82>=0.9,$D82*$E82," ")," ") | W82: =IF(ISNUMBER(SEARCH("deadlift",$B82)),IF($C82>=0.5,IF($C82<0.6,$D82*$E82," ")," ")," ") | X82: =IF(ISNUMBER(SEARCH("deadlift",$B82)),IF($C82>=0.6,IF($C82<0.7,$D82*$E82," ")," ")," ") | Y82: =IF(ISNUMBER(SEARCH("deadlift",$B82)),IF($C82>=0.7,IF($C82<0.8,$D82*$E82," ")," ")," ") | Z82: =IF(ISNUMBER(SEARCH("deadlift",$B82)),IF($C82>=0.8,IF($C82<0.9,$D82*$E82," ")," ")," ") | AA82: =IF(ISNUMBER(SEARCH("deadlift",$B82)),IF($C82>=0.9,$D82*$E82," ")," ")
B83: Bench press w/chains plus 8-10 kg to each side in addition to this weight | C83: 0.7 | D83: 3 | E83: 5 | F83: =Max!$B$3*C83 -> 59.5 | I83: =D83*E83 -> 15 | J83: =F83*I83 -> 892.5 | R83: =IF(ISNUMBER(SEARCH("bench",$B83)),IF($C83>=0.5,IF($C83<0.6,$D83*$E83," ")," ")," ") | S83: =IF(ISNUMBER(SEARCH("bench",$B83)),IF($C83>=0.6,IF($C83<0.7,$D83*$E83," ")," ")," ") | T83: =IF(ISNUMBER(SEARCH("bench",$B83)),IF($C83>=0.7,IF($C83<0.8,$D83*$E83," ")," ")," ") -> 15 | U83: =IF(ISNUMBER(SEARCH("bench",$B83)),IF($C83>=0.8,IF($C83<0.9,$D83*$E83," ")," ")," ") | V83: =IF(ISNUMBER(SEARCH("bench",$B83)),IF($C83>=0.9,$D83*$E83," ")," ") | W83: =IF(ISNUMBER(SEARCH("deadlift",$B83)),IF($C83>=0.5,IF($C83<0.6,$D83*$E83," ")," ")," ") | X83: =IF(ISNUMBER(SEARCH("deadlift",$B83)),IF($C83>=0.6,IF($C83<0.7,$D83*$E83," ")," ")," ") | Y83: =IF(ISNUMBER(SEARCH("deadlift",$B83)),IF($C83>=0.7,IF($C83<0.8,$D83*$E83," ")," ")," ") | Z83: =IF(ISNUMBER(SEARCH("deadlift",$B83)),IF($C83>=0.8,IF($C83<0.9,$D83*$E83," ")," ")," ") | AA83: =IF(ISNUMBER(SEARCH("deadlift",$B83)),IF($C83>=0.9,$D83*$E83," ")," ")
A84: 2 | B84: Deadlift w/pause 5-7cm below knees | C84: 0.5 | D84: 3 | E84: 1 | F84: =Max!$B$4*C84 -> 80 | K84: =D84*E84 -> 3 | L84: =F84*K84 -> 240 | R84: =IF(ISNUMBER(SEARCH("bench",$B84)),IF($C84>=0.5,IF($C84<0.6,$D84*$E84," ")," ")," ") | S84: =IF(ISNUMBER(SEARCH("bench",$B84)),IF($C84>=0.6,IF($C84<0.7,$D84*$E84," ")," ")," ") | T84: =IF(ISNUMBER(SEARCH("bench",$B84)),IF($C84>=0.7,IF($C84<0.8,$D84*$E84," ")," ")," ") | U84: =IF(ISNUMBER(SEARCH("bench",$B84)),IF($C84>=0.8,IF($C84<0.9,$D84*$E84," ")," ")," ") | V84: =IF(ISNUMBER(SEARCH("bench",$B84)),IF($C84>=0.9,$D84*$E84," ")," ") | W84: =IF(ISNUMBER(SEARCH("deadlift",$B84)),IF($C84>=0.5,IF($C84<0.6,$D84*$E84," ")," ")," ") -> 3 | X84: =IF(ISNUMBER(SEARCH("deadlift",$B84)),IF($C84>=0.6,IF($C84<0.7,$D84*$E84," ")," ")," ") | Y84: =IF(ISNUMBER(SEARCH("deadlift",$B84)),IF($C84>=0.7,IF($C84<0.8,$D84*$E84," ")," ")," ") | Z84: =IF(ISNUMBER(SEARCH("deadlift",$B84)),IF($C84>=0.8,IF($C84<0.9,$D84*$E84," ")," ")," ") | AA84: =IF(ISNUMBER(SEARCH("deadlift",$B84)),IF($C84>=0.9,$D84*$E84," ")," ")
B85: Deadlift w/pause 5-7cm below knees | C85: 0.6 | D85: 3 | E85: 1 | F85: =Max!$B$4*C85 -> 96 | K85: =D85*E85 -> 3 | L85: =F85*K85 -> 288 | R85: =IF(ISNUMBER(SEARCH("bench",$B85)),IF($C85>=0.5,IF($C85<0.6,$D85*$E85," ")," ")," ") | S85: =IF(ISNUMBER(SEARCH("bench",$B85)),IF($C85>=0.6,IF($C85<0.7,$D85*$E85," ")," ")," ") | T85: =IF(ISNUMBER(SEARCH("bench",$B85)),IF($C85>=0.7,IF($C85<0.8,$D85*$E85," ")," ")," ") | U85: =IF(ISNUMBER(SEARCH("bench",$B85)),IF($C85>=0.8,IF($C85<0.9,$D85*$E85," ")," ")," ") | V85: =IF(ISNUMBER(SEARCH("bench",$B85)),IF($C85>=0.9,$D85*$E85," ")," ") | W85: =IF(ISNUMBER(SEARCH("deadlift",$B85)),IF($C85>=0.5,IF($C85<0.6,$D85*$E85," ")," ")," ") | X85: =IF(ISNUMBER(SEARCH("deadlift",$B85)),IF($C85>=0.6,IF($C85<0.7,$D85*$E85," ")," ")," ") -> 3 | Y85: =IF(ISNUMBER(SEARCH("deadlift",$B85)),IF($C85>=0.7,IF($C85<0.8,$D85*$E85," ")," ")," ") | Z85: =IF(ISNUMBER(SEARCH("deadlift",$B85)),IF($C85>=0.8,IF($C85<0.9,$D85*$E85," ")," ")," ") | AA85: =IF(ISNUMBER(SEARCH("deadlift",$B85)),IF($C85>=0.9,$D85*$E85," ")," ")
B86: Deadlift w/pause 5-7cm below knees | C86: 0.7 | D86: 3 | E86: 1 | F86: =Max!$B$4*C86 -> 112 | K86: =D86*E86 -> 3 | L86: =F86*K86 -> 336 | R86: =IF(ISNUMBER(SEARCH("bench",$B86)),IF($C86>=0.5,IF($C86<0.6,$D86*$E86," ")," ")," ") | S86: =IF(ISNUMBER(SEARCH("bench",$B86)),IF($C86>=0.6,IF($C86<0.7,$D86*$E86," ")," ")," ") | T86: =IF(ISNUMBER(SEARCH("bench",$B86)),IF($C86>=0.7,IF($C86<0.8,$D86*$E86," ")," ")," ") | U86: =IF(ISNUMBER(SEARCH("bench",$B86)),IF($C86>=0.8,IF($C86<0.9,$D86*$E86," ")," ")," ") | V86: =IF(ISNUMBER(SEARCH("bench",$B86)),IF($C86>=0.9,$D86*$E86," ")," ") | W86: =IF(ISNUMBER(SEARCH("deadlift",$B86)),IF($C86>=0.5,IF($C86<0.6,$D86*$E86," ")," ")," ") | X86: =IF(ISNUMBER(SEARCH("deadlift",$B86)),IF($C86>=0.6,IF($C86<0.7,$D86*$E86," ")," ")," ") | Y86: =IF(ISNUMBER(SEARCH("deadlift",$B86)),IF($C86>=0.7,IF($C86<0.8,$D86*$E86," ")," ")," ") -> 3 | Z86: =IF(ISNUMBER(SEARCH("deadlift",$B86)),IF($C86>=0.8,IF($C86<0.9,$D86*$E86," ")," ")," ") | AA86: =IF(ISNUMBER(SEARCH("deadlift",$B86)),IF($C86>=0.9,$D86*$E86," ")," ")
B87: Deadlift w/pause 5-7cm below knees | C87: 0.75 | D87: 2 | E87: 5 | F87: =Max!$B$4*C87 -> 120 | K87: =D87*E87 -> 10 | L87: =F87*K87 -> 1200 | R87: =IF(ISNUMBER(SEARCH("bench",$B87)),IF($C87>=0.5,IF($C87<0.6,$D87*$E87," ")," ")," ") | S87: =IF(ISNUMBER(SEARCH("bench",$B87)),IF($C87>=0.6,IF($C87<0.7,$D87*$E87," ")," ")," ") | T87: =IF(ISNUMBER(SEARCH("bench",$B87)),IF($C87>=0.7,IF($C87<0.8,$D87*$E87," ")," ")," ") | U87: =IF(ISNUMBER(SEARCH("bench",$B87)),IF($C87>=0.8,IF($C87<0.9,$D87*$E87," ")," ")," ") | V87: =IF(ISNUMBER(SEARCH("bench",$B87)),IF($C87>=0.9,$D87*$E87," ")," ") | W87: =IF(ISNUMBER(SEARCH("deadlift",$B87)),IF($C87>=0.5,IF($C87<0.6,$D87*$E87," ")," ")," ") | X87: =IF(ISNUMBER(SEARCH("deadlift",$B87)),IF($C87>=0.6,IF($C87<0.7,$D87*$E87," ")," ")," ") | Y87: =IF(ISNUMBER(SEARCH("deadlift",$B87)),IF($C87>=0.7,IF($C87<0.8,$D87*$E87," ")," ")," ") -> 10 | Z87: =IF(ISNUMBER(SEARCH("deadlift",$B87)),IF($C87>=0.8,IF($C87<0.9,$D87*$E87," ")," ")," ") | AA87: =IF(ISNUMBER(SEARCH("deadlift",$B87)),IF($C87>=0.9,$D87*$E87," ")," ")
A88: 3 | B88: Delts | D88: 6 | E88: 5
A89: 4 | B89: Leg extension (1 sec pause every rep | D89: 6 | E89: 5
B90: at the top)
A91: 5 | B91: Abs | D91: 8 | E91: 4
A93: 5 day (Friday) | C93: % | D93: reps | E93: sets | F93: weight
A94: 1 | B94: Front squat | C94: 0.3 | D94: 4 | E94: 1 | F94: =Max!$B$2*C94 -> 60 | G94: =D94*E94 -> 4 | H94: =F94*G94 -> 240 | M94: =IF(ISNUMBER(SEARCH("squat",$B94)),IF($C94>=0.5,IF($C94<0.6,$D94*$E94," ")," ")," ") | N94: =IF(ISNUMBER(SEARCH("squat",$B94)),IF($C94>=0.6,IF($C94<0.7,$D94*$E94," ")," ")," ") | O94: =IF(ISNUMBER(SEARCH("squat",$B94)),IF($C94>=0.7,IF($C94<0.8,$D94*$E94," ")," ")," ") | P94: =IF(ISNUMBER(SEARCH("squat",$B94)),IF($C94>=0.8,IF($C94<0.9,$D94*$E94," ")," ")," ") | Q94: =IF(ISNUMBER(SEARCH("squat",$B94)),IF($C94>=0.9,$D94*$E94," ")," ") | R94: =IF(ISNUMBER(SEARCH("bench",$B94)),IF($C94>=0.5,IF($C94<0.6,$D94*$E94," ")," ")," ") | S94: =IF(ISNUMBER(SEARCH("bench",$B94)),IF($C94>=0.6,IF($C94<0.7,$D94*$E94," ")," ")," ") | T94: =IF(ISNUMBER(SEARCH("bench",$B94)),IF($C94>=0.7,IF($C94<0.8,$D94*$E94," ")," ")," ") | U94: =IF(ISNUMBER(SEARCH("bench",$B94)),IF($C94>=0.8,IF($C94<0.9,$D94*$E94," ")," ")," ") | V94: =IF(ISNUMBER(SEARCH("bench",$B94)),IF($C94>=0.9,$D94*$E94," ")," ")
B95: Front squat | C95: 0.4 | D95: 4 | E95: 1 | F95: =Max!$B$2*C95 -> 80 | G95: =D95*E95 -> 4 | H95: =F95*G95 -> 320 | M95: =IF(ISNUMBER(SEARCH("squat",$B95)),IF($C95>=0.5,IF($C95<0.6,$D95*$E95," ")," ")," ") | N95: =IF(ISNUMBER(SEARCH("squat",$B95)),IF($C95>=0.6,IF($C95<0.7,$D95*$E95," ")," ")," ") | O95: =IF(ISNUMBER(SEARCH("squat",$B95)),IF($C95>=0.7,IF($C95<0.8,$D95*$E95," ")," ")," ") | P95: =IF(ISNUMBER(SEARCH("squat",$B95)),IF($C95>=0.8,IF($C95<0.9,$D95*$E95," ")," ")," ") | Q95: =IF(ISNUMBER(SEARCH("squat",$B95)),IF($C95>=0.9,$D95*$E95," ")," ") | R95: =IF(ISNUMBER(SEARCH("bench",$B95)),IF($C95>=0.5,IF($C95<0.6,$D95*$E95," ")," ")," ") | S95: =IF(ISNUMBER(SEARCH("bench",$B95)),IF($C95>=0.6,IF($C95<0.7,$D95*$E95," ")," ")," ") | T95: =IF(ISNUMBER(SEARCH("bench",$B95)),IF($C95>=0.7,IF($C95<0.8,$D95*$E95," ")," ")," ") | U95: =IF(ISNUMBER(SEARCH("bench",$B95)),IF($C95>=0.8,IF($C95<0.9,$D95*$E95," ")," ")," ") | V95: =IF(ISNUMBER(SEARCH("bench",$B95)),IF($C95>=0.9,$D95*$E95," ")," ")
B96: Front squat | C96: 0.5 | D96: 4 | E96: 4 | F96: =Max!$B$2*C96 -> 100 | G96: =D96*E96 -> 16 | H96: =F96*G96 -> 1600 | M96: =IF(ISNUMBER(SEARCH("squat",$B96)),IF($C96>=0.5,IF($C96<0.6,$D96*$E96," ")," ")," ") -> 16 | N96: =IF(ISNUMBER(SEARCH("squat",$B96)),IF($C96>=0.6,IF($C96<0.7,$D96*$E96," ")," ")," ") | O96: =IF(ISNUMBER(SEARCH("squat",$B96)),IF($C96>=0.7,IF($C96<0.8,$D96*$E96," ")," ")," ") | P96: =IF(ISNUMBER(SEARCH("squat",$B96)),IF($C96>=0.8,IF($C96<0.9,$D96*$E96," ")," ")," ") | Q96: =IF(ISNUMBER(SEARCH("squat",$B96)),IF($C96>=0.9,$D96*$E96," ")," ") | R96: =IF(ISNUMBER(SEARCH("bench",$B96)),IF($C96>=0.5,IF($C96<0.6,$D96*$E96," ")," ")," ") | S96: =IF(ISNUMBER(SEARCH("bench",$B96)),IF($C96>=0.6,IF($C96<0.7,$D96*$E96," ")," ")," ") | T96: =IF(ISNUMBER(SEARCH("bench",$B96)),IF($C96>=0.7,IF($C96<0.8,$D96*$E96," ")," ")," ") | U96: =IF(ISNUMBER(SEARCH("bench",$B96)),IF($C96>=0.8,IF($C96<0.9,$D96*$E96," ")," ")," ") | V96: =IF(ISNUMBER(SEARCH("bench",$B96)),IF($C96>=0.9,$D96*$E96," ")," ")
A97: 2 | B97: Board bench press | C97: 0.6 | D97: 3 | E97: 1 | F97: =Max!$B$3*C97 -> 51 | I97: =D97*E97 -> 3 | J97: =F97*I97 -> 153 | M97: =IF(ISNUMBER(SEARCH("squat",$B97)),IF($C97>=0.5,IF($C97<0.6,$D97*$E97," ")," ")," ") | N97: =IF(ISNUMBER(SEARCH("squat",$B97)),IF($C97>=0.6,IF($C97<0.7,$D97*$E97," ")," ")," ") | O97: =IF(ISNUMBER(SEARCH("squat",$B97)),IF($C97>=0.7,IF($C97<0.8,$D97*$E97," ")," ")," ") | P97: =IF(ISNUMBER(SEARCH("squat",$B97)),IF($C97>=0.8,IF($C97<0.9,$D97*$E97," ")," ")," ") | Q97: =IF(ISNUMBER(SEARCH("squat",$B97)),IF($C97>=0.9,$D97*$E97," ")," ") | R97: =IF(ISNUMBER(SEARCH("bench",$B97)),IF($C97>=0.5,IF($C97<0.6,$D97*$E97," ")," ")," ") | S97: =IF(ISNUMBER(SEARCH("bench",$B97)),IF($C97>=0.6,IF($C97<0.7,$D97*$E97," ")," ")," ") -> 3 | T97: =IF(ISNUMBER(SEARCH("bench",$B97)),IF($C97>=0.7,IF($C97<0.8,$D97*$E97," ")," ")," ") | U97: =IF(ISNUMBER(SEARCH("bench",$B97)),IF($C97>=0.8,IF($C97<0.9,$D97*$E97," ")," ")," ") | V97: =IF(ISNUMBER(SEARCH("bench",$B97)),IF($C97>=0.9,$D97*$E97," ")," ")
B98: Board bench press | C98: 0.7 | D98: 3 | E98: 1 | F98: =Max!$B$3*C98 -> 59.5 | I98: =D98*E98 -> 3 | J98: =F98*I98 -> 178.5 | M98: =IF(ISNUMBER(SEARCH("squat",$B98)),IF($C98>=0.5,IF($C98<0.6,$D98*$E98," ")," ")," ") | N98: =IF(ISNUMBER(SEARCH("squat",$B98)),IF($C98>=0.6,IF($C98<0.7,$D98*$E98," ")," ")," ") | O98: =IF(ISNUMBER(SEARCH("squat",$B98)),IF($C98>=0.7,IF($C98<0.8,$D98*$E98," ")," ")," ") | P98: =IF(ISNUMBER(SEARCH("squat",$B98)),IF($C98>=0.8,IF($C98<0.9,$D98*$E98," ")," ")," ") | Q98: =IF(ISNUMBER(SEARCH("squat",$B98)),IF($C98>=0.9,$D98*$E98," ")," ") | R98: =IF(ISNUMBER(SEARCH("bench",$B98)),IF($C98>=0.5,IF($C98<0.6,$D98*$E98," ")," ")," ") | S98: =IF(ISNUMBER(SEARCH("bench",$B98)),IF($C98>=0.6,IF($C98<0.7,$D98*$E98," ")," ")," ") | T98: =IF(ISNUMBER(SEARCH("bench",$B98)),IF($C98>=0.7,IF($C98<0.8,$D98*$E98," ")," ")," ") -> 3 | U98: =IF(ISNUMBER(SEARCH("bench",$B98)),IF($C98>=0.8,IF($C98<0.9,$D98*$E98," ")," ")," ") | V98: =IF(ISNUMBER(SEARCH("bench",$B98)),IF($C98>=0.9,$D98*$E98," ")," ")
B99: Board bench press | C99: 0.8 | D99: 3 | E99: 1 | F99: =Max!$B$3*C99 -> 68 | I99: =D99*E99 -> 3 | J99: =F99*I99 -> 204 | M99: =IF(ISNUMBER(SEARCH("squat",$B99)),IF($C99>=0.5,IF($C99<0.6,$D99*$E99," ")," ")," ") | N99: =IF(ISNUMBER(SEARCH("squat",$B99)),IF($C99>=0.6,IF($C99<0.7,$D99*$E99," ")," ")," ") | O99: =IF(ISNUMBER(SEARCH("squat",$B99)),IF($C99>=0.7,IF($C99<0.8,$D99*$E99," ")," ")," ") | P99: =IF(ISNUMBER(SEARCH("squat",$B99)),IF($C99>=0.8,IF($C99<0.9,$D99*$E99," ")," ")," ") | Q99: =IF(ISNUMBER(SEARCH("squat",$B99)),IF($C99>=0.9,$D99*$E99," ")," ") | R99: =IF(ISNUMBER(SEARCH("bench",$B99)),IF($C99>=0.5,IF($C99<0.6,$D99*$E99," ")," ")," ") | S99: =IF(ISNUMBER(SEARCH("bench",$B99)),IF($C99>=0.6,IF($C99<0.7,$D99*$E99," ")," ")," ") | T99: =IF(ISNUMBER(SEARCH("bench",$B99)),IF($C99>=0.7,IF($C99<0.8,$D99*$E99," ")," ")," ") | U99: =IF(ISNUMBER(SEARCH("bench",$B99)),IF($C99>=0.8,IF($C99<0.9,$D99*$E99," ")," ")," ") -> 3 | V99: =IF(ISNUMBER(SEARCH("bench",$B99)),IF($C99>=0.9,$D99*$E99," ")," ")
B100: Board bench press | C100: 0.85 | D100: 2 | E100: 2 | F100: =Max!$B$3*C100 -> 72.25 | I100: =D100*E100 -> 4 | J100: =F100*I100 -> 289 | M100: =IF(ISNUMBER(SEARCH("squat",$B100)),IF($C100>=0.5,IF($C100<0.6,$D100*$E100," ")," ")," ") | N100: =IF(ISNUMBER(SEARCH("squat",$B100)),IF($C100>=0.6,IF($C100<0.7,$D100*$E100," ")," ")," ") | O100: =IF(ISNUMBER(SEARCH("squat",$B100)),IF($C100>=0.7,IF($C100<0.8,$D100*$E100," ")," ")," ") | P100: =IF(ISNUMBER(SEARCH("squat",$B100)),IF($C100>=0.8,IF($C100<0.9,$D100*$E100," ")," ")," ") | Q100: =IF(ISNUMBER(SEARCH("squat",$B100)),IF($C100>=0.9,$D100*$E100," ")," ") | R100: =IF(ISNUMBER(SEARCH("bench",$B100)),IF($C100>=0.5,IF($C100<0.6,$D100*$E100," ")," ")," ") | S100: =IF(ISNUMBER(SEARCH("bench",$B100)),IF($C100>=0.6,IF($C100<0.7,$D100*$E100," ")," ")," ") | T100: =IF(ISNUMBER(SEARCH("bench",$B100)),IF($C100>=0.7,IF($C100<0.8,$D100*$E100," ")," ")," ") | U100: =IF(ISNUMBER(SEARCH("bench",$B100)),IF($C100>=0.8,IF($C100<0.9,$D100*$E100," ")," ")," ") -> 4 | V100: =IF(ISNUMBER(SEARCH("bench",$B100)),IF($C100>=0.9,$D100*$E100," ")," ")
B101: Board bench press | C101: 0.9 | D101: 1 | E101: 3 | F101: =Max!$B$3*C101 -> 76.5 | I101: =D101*E101 -> 3 | J101: =F101*I101 -> 229.5 | M101: =IF(ISNUMBER(SEARCH("squat",$B101)),IF($C101>=0.5,IF($C101<0.6,$D101*$E101," ")," ")," ") | N101: =IF(ISNUMBER(SEARCH("squat",$B101)),IF($C101>=0.6,IF($C101<0.7,$D101*$E101," ")," ")," ") | O101: =IF(ISNUMBER(SEARCH("squat",$B101)),IF($C101>=0.7,IF($C101<0.8,$D101*$E101," ")," ")," ") | P101: =IF(ISNUMBER(SEARCH("squat",$B101)),IF($C101>=0.8,IF($C101<0.9,$D101*$E101," ")," ")," ") | Q101: =IF(ISNUMBER(SEARCH("squat",$B101)),IF($C101>=0.9,$D101*$E101," ")," ") | R101: =IF(ISNUMBER(SEARCH("bench",$B101)),IF($C101>=0.5,IF($C101<0.6,$D101*$E101," ")," ")," ") | S101: =IF(ISNUMBER(SEARCH("bench",$B101)),IF($C101>=0.6,IF($C101<0.7,$D101*$E101," ")," ")," ") | T101: =IF(ISNUMBER(SEARCH("bench",$B101)),IF($C101>=0.7,IF($C101<0.8,$D101*$E101," ")," ")," ") | U101: =IF(ISNUMBER(SEARCH("bench",$B101)),IF($C101>=0.8,IF($C101<0.9,$D101*$E101," ")," ")," ") | V101: =IF(ISNUMBER(SEARCH("bench",$B101)),IF($C101>=0.9,$D101*$E101," ")," ") -> 3
A102: 3 | B102: Dips (with weights) | D102: 6 | E102: 5
A103: 4 | B103: Lat muscles | D103: 8 | E103: 4
A104: 5 | B104: Good morning | D104: 5 | E104: 5
A106: 6 day (Saturday) | C106: % | D106: reps | E106: sets | F106: weight
A107: 1 | B107: Bench press narrow grip | C107: 0.5 | D107: 4 | E107: 1 | F107: =Max!$B$3*C107 -> 42.5 | I107: =D107*E107 -> 4 | J107: =F107*I107 -> 170 | R107: =IF(ISNUMBER(SEARCH("bench",$B107)),IF($C107>=0.5,IF($C107<0.6,$D107*$E107," ")," ")," ") -> 4 | S107: =IF(ISNUMBER(SEARCH("bench",$B107)),IF($C107>=0.6,IF($C107<0.7,$D107*$E107," ")," ")," ") | T107: =IF(ISNUMBER(SEARCH("bench",$B107)),IF($C107>=0.7,IF($C107<0.8,$D107*$E107," ")," ")," ") | U107: =IF(ISNUMBER(SEARCH("bench",$B107)),IF($C107>=0.8,IF($C107<0.9,$D107*$E107," ")," ")," ") | V107: =IF(ISNUMBER(SEARCH("bench",$B107)),IF($C107>=0.9,$D107*$E107," ")," ") | W107: =IF(ISNUMBER(SEARCH("deadlift",$B107)),IF($C107>=0.5,IF($C107<0.6,$D107*$E107," ")," ")," ") | X107: =IF(ISNUMBER(SEARCH("deadlift",$B107)),IF($C107>=0.6,IF($C107<0.7,$D107*$E107," ")," ")," ") | Y107: =IF(ISNUMBER(SEARCH("deadlift",$B107)),IF($C107>=0.7,IF($C107<0.8,$D107*$E107," ")," ")," ") | Z107: =IF(ISNUMBER(SEARCH("deadlift",$B107)),IF($C107>=0.8,IF($C107<0.9,$D107*$E107," ")," ")," ") | AA107: =IF(ISNUMBER(SEARCH("deadlift",$B107)),IF($C107>=0.9,$D107*$E107," ")," ")
B108: Bench press narrow grip | C108: 0.6 | D108: 3 | E108: 1 | F108: =Max!$B$3*C108 -> 51 | I108: =D108*E108 -> 3 | J108: =F108*I108 -> 153 | R108: =IF(ISNUMBER(SEARCH("bench",$B108)),IF($C108>=0.5,IF($C108<0.6,$D108*$E108," ")," ")," ") | S108: =IF(ISNUMBER(SEARCH("bench",$B108)),IF($C108>=0.6,IF($C108<0.7,$D108*$E108," ")," ")," ") -> 3 | T108: =IF(ISNUMBER(SEARCH("bench",$B108)),IF($C108>=0.7,IF($C108<0.8,$D108*$E108," ")," ")," ") | U108: =IF(ISNUMBER(SEARCH("bench",$B108)),IF($C108>=0.8,IF($C108<0.9,$D108*$E108," ")," ")," ") | V108: =IF(ISNUMBER(SEARCH("bench",$B108)),IF($C108>=0.9,$D108*$E108," ")," ") | W108: =IF(ISNUMBER(SEARCH("deadlift",$B108)),IF($C108>=0.5,IF($C108<0.6,$D108*$E108," ")," ")," ") | X108: =IF(ISNUMBER(SEARCH("deadlift",$B108)),IF($C108>=0.6,IF($C108<0.7,$D108*$E108," ")," ")," ") | Y108: =IF(ISNUMBER(SEARCH("deadlift",$B108)),IF($C108>=0.7,IF($C108<0.8,$D108*$E108," ")," ")," ") | Z108: =IF(ISNUMBER(SEARCH("deadlift",$B108)),IF($C108>=0.8,IF($C108<0.9,$D108*$E108," ")," ")," ") | AA108: =IF(ISNUMBER(SEARCH("deadlift",$B108)),IF($C108>=0.9,$D108*$E108," ")," ")
...

Sheet 4 day Prep (2)
B1: Sheiko
B2: Preparatory Period for Class 1 & CMS
A5: week 1 | M5: squat | R5: bench | W5: deadlift
A6: 1 day (Monday) | C6: % | D6: reps | E6: sets | F6: weight | M6: 50-59 | N6: 60-69 | O6: 70-79 | P6: 80-89 | Q6: 90+ | R6: 50-59 | S6: 60-69 | T6: 70-79 | U6: 80-89 | V6: 90+ | W6: 50-59 | X6: 60-69 | Y6: 70-79 | Z6: 80-89 | AA6: 90+
A7: 1 | B7: Bench press | C7: 0.5 | D7: 5 | E7: 1 | F7: =Max!$B$3*C7 -> 42.5 | I7: =D7*E7 -> 5 | J7: =F7*I7 -> 212.5 | R7: =IF(ISNUMBER(SEARCH("bench",$B7)),IF($C7>=0.5,IF($C7<0.6,$D7*$E7," ")," ")," ") -> 5 | S7: =IF(ISNUMBER(SEARCH("bench",$B7)),IF($C7>=0.6,IF($C7<0.7,$D7*$E7," ")," ")," ") | T7: =IF(ISNUMBER(SEARCH("bench",$B7)),IF($C7>=0.7,IF($C7<0.8,$D7*$E7," ")," ")," ") | U7: =IF(ISNUMBER(SEARCH("bench",$B7)),IF($C7>=0.8,IF($C7<0.9,$D7*$E7," ")," ")," ") | V7: =IF(ISNUMBER(SEARCH("bench",$B7)),IF($C7>=0.9,$D7*$E7," ")," ")
B8: Bench press | C8: 0.6 | D8: 4 | E8: 1 | F8: =Max!$B$3*C8 -> 51 | I8: =D8*E8 -> 4 | J8: =F8*I8 -> 204 | R8: =IF(ISNUMBER(SEARCH("bench",$B8)),IF($C8>=0.5,IF($C8<0.6,$D8*$E8," ")," ")," ") | S8: =IF(ISNUMBER(SEARCH("bench",$B8)),IF($C8>=0.6,IF($C8<0.7,$D8*$E8," ")," ")," ") -> 4 | T8: =IF(ISNUMBER(SEARCH("bench",$B8)),IF($C8>=0.7,IF($C8<0.8,$D8*$E8," ")," ")," ") | U8: =IF(ISNUMBER(SEARCH("bench",$B8)),IF($C8>=0.8,IF($C8<0.9,$D8*$E8," ")," ")," ") | V8: =IF(ISNUMBER(SEARCH("bench",$B8)),IF($C8>=0.9,$D8*$E8," ")," ")
B9: Bench press | C9: 0.7 | D9: 3 | E9: 1 | F9: =Max!$B$3*C9 -> 59.5 | I9: =D9*E9 -> 3 | J9: =F9*I9 -> 178.5 | R9: =IF(ISNUMBER(SEARCH("bench",$B9)),IF($C9>=0.5,IF($C9<0.6,$D9*$E9," ")," ")," ") | S9: =IF(ISNUMBER(SEARCH("bench",$B9)),IF($C9>=0.6,IF($C9<0.7,$D9*$E9," ")," ")," ") | T9: =IF(ISNUMBER(SEARCH("bench",$B9)),IF($C9>=0.7,IF($C9<0.8,$D9*$E9," ")," ")," ") -> 3 | U9: =IF(ISNUMBER(SEARCH("bench",$B9)),IF($C9>=0.8,IF($C9<0.9,$D9*$E9," ")," ")," ") | V9: =IF(ISNUMBER(SEARCH("bench",$B9)),IF($C9>=0.9,$D9*$E9," ")," ")
B10: Bench press | C10: 0.8 | D10: 3 | E10: 4 | F10: =Max!$B$3*C10 -> 68 | I10: =D10*E10 -> 12 | J10: =F10*I10 -> 816 | R10: =IF(ISNUMBER(SEARCH("bench",$B10)),IF($C10>=0.5,IF($C10<0.6,$D10*$E10," ")," ")," ") | S10: =IF(ISNUMBER(SEARCH("bench",$B10)),IF($C10>=0.6,IF($C10<0.7,$D10*$E10," ")," ")," ") | T10: =IF(ISNUMBER(SEARCH("bench",$B10)),IF($C10>=0.7,IF($C10<0.8,$D10*$E10," ")," ")," ") | U10: =IF(ISNUMBER(SEARCH("bench",$B10)),IF($C10>=0.8,IF($C10<0.9,$D10*$E10," ")," ")," ") -> 12 | V10: =IF(ISNUMBER(SEARCH("bench",$B10)),IF($C10>=0.9,$D10*$E10," ")," ")
A11: 2 | B11: Squat | C11: 0.5 | D11: 5 | E11: 1 | F11: =Max!$B$2*C11 -> 100 | G11: =D11*E11 -> 5 | H11: =F11*G11 -> 500 | M11: =IF(ISNUMBER(SEARCH("squat",$B11)),IF($C11>=0.5,IF($C11<0.6,$D11*$E11," ")," ")," ") -> 5 | N11: =IF(ISNUMBER(SEARCH("squat",$B11)),IF($C11>=0.6,IF($C11<0.7,$D11*$E11," ")," ")," ") | O11: =IF(ISNUMBER(SEARCH("squat",$B11)),IF($C11>=0.7,IF($C11<0.8,$D11*$E11," ")," ")," ") | P11: =IF(ISNUMBER(SEARCH("squat",$B11)),IF($C11>=0.8,IF($C11<0.9,$D11*$E11," ")," ")," ") | Q11: =IF(ISNUMBER(SEARCH("squat",$B11)),IF($C11>=0.9,$D11*$E11," ")," ")
B12: Squat | C12: 0.6 | D12: 5 | E12: 1 | F12: =Max!$B$2*C12 -> 120 | G12: =D12*E12 -> 5 | H12: =F12*G12 -> 600 | M12: =IF(ISNUMBER(SEARCH("squat",$B12)),IF($C12>=0.5,IF($C12<0.6,$D12*$E12," ")," ")," ") | N12: =IF(ISNUMBER(SEARCH("squat",$B12)),IF($C12>=0.6,IF($C12<0.7,$D12*$E12," ")," ")," ") -> 5 | O12: =IF(ISNUMBER(SEARCH("squat",$B12)),IF($C12>=0.7,IF($C12<0.8,$D12*$E12," ")," ")," ") | P12: =IF(ISNUMBER(SEARCH("squat",$B12)),IF($C12>=0.8,IF($C12<0.9,$D12*$E12," ")," ")," ") | Q12: =IF(ISNUMBER(SEARCH("squat",$B12)),IF($C12>=0.9,$D12*$E12," ")," ")
B13: Squat | C13: 0.7 | D13: 3 | E13: 1 | F13: =Max!$B$2*C13 -> 140 | G13: =D13*E13 -> 3 | H13: =F13*G13 -> 420 | M13: =IF(ISNUMBER(SEARCH("squat",$B13)),IF($C13>=0.5,IF($C13<0.6,$D13*$E13," ")," ")," ") | N13: =IF(ISNUMBER(SEARCH("squat",$B13)),IF($C13>=0.6,IF($C13<0.7,$D13*$E13," ")," ")," ") | O13: =IF(ISNUMBER(SEARCH("squat",$B13)),IF($C13>=0.7,IF($C13<0.8,$D13*$E13," ")," ")," ") -> 3 | P13: =IF(ISNUMBER(SEARCH("squat",$B13)),IF($C13>=0.8,IF($C13<0.9,$D13*$E13," ")," ")," ") | Q13: =IF(ISNUMBER(SEARCH("squat",$B13)),IF($C13>=0.9,$D13*$E13," ")," ")
B14: Squat | C14: 0.7 | D14: 7 | E14: 1 | F14: =Max!$B$2*C14 -> 140 | G14: =D14*E14 -> 7 | H14: =F14*G14 -> 980 | M14: =IF(ISNUMBER(SEARCH("squat",$B14)),IF($C14>=0.5,IF($C14<0.6,$D14*$E14," ")," ")," ") | N14: =IF(ISNUMBER(SEARCH("squat",$B14)),IF($C14>=0.6,IF($C14<0.7,$D14*$E14," ")," ")," ") | O14: =IF(ISNUMBER(SEARCH("squat",$B14)),IF($C14>=0.7,IF($C14<0.8,$D14*$E14," ")," ")," ") -> 7 | P14: =IF(ISNUMBER(SEARCH("squat",$B14)),IF($C14>=0.8,IF($C14<0.9,$D14*$E14," ")," ")," ") | Q14: =IF(ISNUMBER(SEARCH("squat",$B14)),IF($C14>=0.9,$D14*$E14," ")," ")
B15: Squat | C15: 0.7 | D15: 4 | E15: 1 | F15: =Max!$B$2*C15 -> 140 | G15: =D15*E15 -> 4 | H15: =F15*G15 -> 560 | M15: =IF(ISNUMBER(SEARCH("squat",$B15)),IF($C15>=0.5,IF($C15<0.6,$D15*$E15," ")," ")," ") | N15: =IF(ISNUMBER(SEARCH("squat",$B15)),IF($C15>=0.6,IF($C15<0.7,$D15*$E15," ")," ")," ") | O15: =IF(ISNUMBER(SEARCH("squat",$B15)),IF($C15>=0.7,IF($C15<0.8,$D15*$E15," ")," ")," ") -> 4 | P15: =IF(ISNUMBER(SEARCH("squat",$B15)),IF($C15>=0.8,IF($C15<0.9,$D15*$E15," ")," ")," ") | Q15: =IF(ISNUMBER(SEARCH("squat",$B15)),IF($C15>=0.9,$D15*$E15," ")," ")
B16: Squat | C16: 0.7 | D16: 8 | E16: 1 | F16: =Max!$B$2*C16 -> 140 | G16: =D16*E16 -> 8 | H16: =F16*G16 -> 1120 | M16: =IF(ISNUMBER(SEARCH("squat",$B16)),IF($C16>=0.5,IF($C16<0.6,$D16*$E16," ")," ")," ") | N16: =IF(ISNUMBER(SEARCH("squat",$B16)),IF($C16>=0.6,IF($C16<0.7,$D16*$E16," ")," ")," ") | O16: =IF(ISNUMBER(SEARCH("squat",$B16)),IF($C16>=0.7,IF($C16<0.8,$D16*$E16," ")," ")," ") -> 8 | P16: =IF(ISNUMBER(SEARCH("squat",$B16)),IF($C16>=0.8,IF($C16<0.9,$D16*$E16," ")," ")," ") | Q16: =IF(ISNUMBER(SEARCH("squat",$B16)),IF($C16>=0.9,$D16*$E16," ")," ")
B17: Squat | C17: 0.7 | D17: 2 | E17: 1 | F17: =Max!$B$2*C17 -> 140 | G17: =D17*E17 -> 2 | H17: =F17*G17 -> 280 | M17: =IF(ISNUMBER(SEARCH("squat",$B17)),IF($C17>=0.5,IF($C17<0.6,$D17*$E17," ")," ")," ") | N17: =IF(ISNUMBER(SEARCH("squat",$B17)),IF($C17>=0.6,IF($C17<0.7,$D17*$E17," ")," ")," ") | O17: =IF(ISNUMBER(SEARCH("squat",$B17)),IF($C17>=0.7,IF($C17<0.8,$D17*$E17," ")," ")," ") -> 2 | P17: =IF(ISNUMBER(SEARCH("squat",$B17)),IF($C17>=0.8,IF($C17<0.9,$D17*$E17," ")," ")," ") | Q17: =IF(ISNUMBER(SEARCH("squat",$B17)),IF($C17>=0.9,$D17*$E17," ")," ")
B18: Squat | C18: 0.7 | D18: 5 | E18: 1 | F18: =Max!$B$2*C18 -> 140 | G18: =D18*E18 -> 5 | H18: =F18*G18 -> 700 | M18: =IF(ISNUMBER(SEARCH("squat",$B18)),IF($C18>=0.5,IF($C18<0.6,$D18*$E18," ")," ")," ") | N18: =IF(ISNUMBER(SEARCH("squat",$B18)),IF($C18>=0.6,IF($C18<0.7,$D18*$E18," ")," ")," ") | O18: =IF(ISNUMBER(SEARCH("squat",$B18)),IF($C18>=0.7,IF($C18<0.8,$D18*$E18," ")," ")," ") -> 5 | P18: =IF(ISNUMBER(SEARCH("squat",$B18)),IF($C18>=0.8,IF($C18<0.9,$D18*$E18," ")," ")," ") | Q18: =IF(ISNUMBER(SEARCH("squat",$B18)),IF($C18>=0.9,$D18*$E18," ")," ")
A19: 3 | B19: Bench press w/board | C19: 0.6 | D19: 3 | E19: 1 | F19: =Max!$B$3*C19 -> 51 | I19: =D19*E19 -> 3 | J19: =F19*I19 -> 153 | R19: =IF(ISNUMBER(SEARCH("bench",$B19)),IF($C19>=0.5,IF($C19<0.6,$D19*$E19," ")," ")," ") | S19: =IF(ISNUMBER(SEARCH("bench",$B19)),IF($C19>=0.6,IF($C19<0.7,$D19*$E19," ")," ")," ") -> 3 | T19: =IF(ISNUMBER(SEARCH("bench",$B19)),IF($C19>=0.7,IF($C19<0.8,$D19*$E19," ")," ")," ") | U19: =IF(ISNUMBER(SEARCH("bench",$B19)),IF($C19>=0.8,IF($C19<0.9,$D19*$E19," ")," ")," ") | V19: =IF(ISNUMBER(SEARCH("bench",$B19)),IF($C19>=0.9,$D19*$E19," ")," ")
B20: Bench press w/board | C20: 0.7 | D20: 3 | E20: 1 | F20: =Max!$B$3*C20 -> 59.5 | I20: =D20*E20 -> 3 | J20: =F20*I20 -> 178.5 | R20: =IF(ISNUMBER(SEARCH("bench",$B20)),IF($C20>=0.5,IF($C20<0.6,$D20*$E20," ")," ")," ") | S20: =IF(ISNUMBER(SEARCH("bench",$B20)),IF($C20>=0.6,IF($C20<0.7,$D20*$E20," ")," ")," ") | T20: =IF(ISNUMBER(SEARCH("bench",$B20)),IF($C20>=0.7,IF($C20<0.8,$D20*$E20," ")," ")," ") -> 3 | U20: =IF(ISNUMBER(SEARCH("bench",$B20)),IF($C20>=0.8,IF($C20<0.9,$D20*$E20," ")," ")," ") | V20: =IF(ISNUMBER(SEARCH("bench",$B20)),IF($C20>=0.9,$D20*$E20," ")," ")
B21: Bench press w/board | C21: 0.8 | D21: 3 | E21: 2 | F21: =Max!$B$3*C21 -> 68 | I21: =D21*E21 -> 6 | J21: =F21*I21 -> 408 | R21: =IF(ISNUMBER(SEARCH("bench",$B21)),IF($C21>=0.5,IF($C21<0.6,$D21*$E21," ")," ")," ") | S21: =IF(ISNUMBER(SEARCH("bench",$B21)),IF($C21>=0.6,IF($C21<0.7,$D21*$E21," ")," ")," ") | T21: =IF(ISNUMBER(SEARCH("bench",$B21)),IF($C21>=0.7,IF($C21<0.8,$D21*$E21," ")," ")," ") | U21: =IF(ISNUMBER(SEARCH("bench",$B21)),IF($C21>=0.8,IF($C21<0.9,$D21*$E21," ")," ")," ") -> 6 | V21: =IF(ISNUMBER(SEARCH("bench",$B21)),IF($C21>=0.9,$D21*$E21," ")," ")
B22: Bench press w/board | C22: 0.85 | D22: 2 | E22: 3 | F22: =Max!$B$3*C22 -> 72.25 | I22: =D22*E22 -> 6 | J22: =F22*I22 -> 433.5 | R22: =IF(ISNUMBER(SEARCH("bench",$B22)),IF($C22>=0.5,IF($C22<0.6,$D22*$E22," ")," ")," ") | S22: =IF(ISNUMBER(SEARCH("bench",$B22)),IF($C22>=0.6,IF($C22<0.7,$D22*$E22," ")," ")," ") | T22: =IF(ISNUMBER(SEARCH("bench",$B22)),IF($C22>=0.7,IF($C22<0.8,$D22*$E22," ")," ")," ") | U22: =IF(ISNUMBER(SEARCH("bench",$B22)),IF($C22>=0.8,IF($C22<0.9,$D22*$E22," ")," ")," ") -> 6 | V22: =IF(ISNUMBER(SEARCH("bench",$B22)),IF($C22>=0.9,$D22*$E22," ")," ")
A23: 4 | B23: Chest Muscles | D23: 8 | E23: 4
A24: 5 | B24: Abs | D24: 8 | E24: 3
A26: 3 day (Wednesday) | C26: % | D26: reps | E26: sets | F26: weight
A27: 1 | B27: Deficit deadlift | C27: 0.5 | D27: 3 | E27: 1 | F27: =Max!$B$4*C27 -> 80 | K27: =D27*E27 -> 3 | L27: =F27*K27 -> 240 | W27: =IF(ISNUMBER(SEARCH("deadlift",$B27)),IF($C27>=0.5,IF($C27<0.6,$D27*$E27," ")," ")," ") -> 3 | X27: =IF(ISNUMBER(SEARCH("deadlift",$B27)),IF($C27>=0.6,IF($C27<0.7,$D27*$E27," ")," ")," ") | Y27: =IF(ISNUMBER(SEARCH("deadlift",$B27)),IF($C27>=0.7,IF($C27<0.8,$D27*$E27," ")," ")," ") | Z27: =IF(ISNUMBER(SEARCH("deadlift",$B27)),IF($C27>=0.8,IF($C27<0.9,$D27*$E27," ")," ")," ") | AA27: =IF(ISNUMBER(SEARCH("deadlift",$B27)),IF($C27>=0.9,$D27*$E27," ")," ")
B28: Deficit deadlift | C28: 0.6 | D28: 3 | E28: 1 | F28: =Max!$B$4*C28 -> 96 | K28: =D28*E28 -> 3 | L28: =F28*K28 -> 288 | W28: =IF(ISNUMBER(SEARCH("deadlift",$B28)),IF($C28>=0.5,IF($C28<0.6,$D28*$E28," ")," ")," ") | X28: =IF(ISNUMBER(SEARCH("deadlift",$B28)),IF($C28>=0.6,IF($C28<0.7,$D28*$E28," ")," ")," ") -> 3 | Y28: =IF(ISNUMBER(SEARCH("deadlift",$B28)),IF($C28>=0.7,IF($C28<0.8,$D28*$E28," ")," ")," ") | Z28: =IF(ISNUMBER(SEARCH("deadlift",$B28)),IF($C28>=0.8,IF($C28<0.9,$D28*$E28," ")," ")," ") | AA28: =IF(ISNUMBER(SEARCH("deadlift",$B28)),IF($C28>=0.9,$D28*$E28," ")," ")
B29: Deficit deadlift | C29: 0.7 | D29: 2 | E29: 4 | F29: =Max!$B$4*C29 -> 112 | K29: =D29*E29 -> 8 | L29: =F29*K29 -> 896 | W29: =IF(ISNUMBER(SEARCH("deadlift",$B29)),IF($C29>=0.5,IF($C29<0.6,$D29*$E29," ")," ")," ") | X29: =IF(ISNUMBER(SEARCH("deadlift",$B29)),IF($C29>=0.6,IF($C29<0.7,$D29*$E29," ")," ")," ") | Y29: =IF(ISNUMBER(SEARCH("deadlift",$B29)),IF($C29>=0.7,IF($C29<0.8,$D29*$E29," ")," ")," ") -> 8 | Z29: =IF(ISNUMBER(SEARCH("deadlift",$B29)),IF($C29>=0.8,IF($C29<0.9,$D29*$E29," ")," ")," ") | AA29: =IF(ISNUMBER(SEARCH("deadlift",$B29)),IF($C29>=0.9,$D29*$E29," ")," ")
A30: 2 | B30: Bench press with chains | C30: 0.5 | D30: 3 | E30: 1 | F30: =Max!$B$3*C30 -> 42.5 | I30: =D30*E30 -> 3 | J30: =F30*I30 -> 127.5 | R30: =IF(ISNUMBER(SEARCH("bench",$B30)),IF($C30>=0.5,IF($C30<0.6,$D30*$E30," ")," ")," ") -> 3 | S30: =IF(ISNUMBER(SEARCH("bench",$B30)),IF($C30>=0.6,IF($C30<0.7,$D30*$E30," ")," ")," ") | T30: =IF(ISNUMBER(SEARCH("bench",$B30)),IF($C30>=0.7,IF($C30<0.8,$D30*$E30," ")," ")," ") | U30: =IF(ISNUMBER(SEARCH("bench",$B30)),IF($C30>=0.8,IF($C30<0.9,$D30*$E30," ")," ")," ") | V30: =IF(ISNUMBER(SEARCH("bench",$B30)),IF($C30>=0.9,$D30*$E30," ")," ")
B31: Bench press with chains | C31: 0.6 | D31: 3 | E31: 1 | F31: =Max!$B$3*C31 -> 51 | I31: =D31*E31 -> 3 | J31: =F31*I31 -> 153 | R31: =IF(ISNUMBER(SEARCH("bench",$B31)),IF($C31>=0.5,IF($C31<0.6,$D31*$E31," ")," ")," ") | S31: =IF(ISNUMBER(SEARCH("bench",$B31)),IF($C31>=0.6,IF($C31<0.7,$D31*$E31," ")," ")," ") -> 3 | T31: =IF(ISNUMBER(SEARCH("bench",$B31)),IF($C31>=0.7,IF($C31<0.8,$D31*$E31," ")," ")," ") | U31: =IF(ISNUMBER(SEARCH("bench",$B31)),IF($C31>=0.8,IF($C31<0.9,$D31*$E31," ")," ")," ") | V31: =IF(ISNUMBER(SEARCH("bench",$B31)),IF($C31>=0.9,$D31*$E31," ")," ")
B32: Bench press with chains | C32: 0.7 | D32: 3 | E32: 1 | F32: =Max!$B$3*C32 -> 59.5 | I32: =D32*E32 -> 3 | J32: =F32*I32 -> 178.5 | R32: =IF(ISNUMBER(SEARCH("bench",$B32)),IF($C32>=0.5,IF($C32<0.6,$D32*$E32," ")," ")," ") | S32: =IF(ISNUMBER(SEARCH("bench",$B32)),IF($C32>=0.6,IF($C32<0.7,$D32*$E32," ")," ")," ") | T32: =IF(ISNUMBER(SEARCH("bench",$B32)),IF($C32>=0.7,IF($C32<0.8,$D32*$E32," ")," ")," ") -> 3 | U32: =IF(ISNUMBER(SEARCH("bench",$B32)),IF($C32>=0.8,IF($C32<0.9,$D32*$E32," ")," ")," ") | V32: =IF(ISNUMBER(SEARCH("bench",$B32)),IF($C32>=0.9,$D32*$E32," ")," ")
B33: Bench press with chains | C33: 0.75 | D33: 2 | E33: 4 | F33: =Max!$B$3*C33 -> 63.75 | I33: =D33*E33 -> 8 | J33: =F33*I33 -> 510 | R33: =IF(ISNUMBER(SEARCH("bench",$B33)),IF($C33>=0.5,IF($C33<0.6,$D33*$E33," ")," ")," ") | S33: =IF(ISNUMBER(SEARCH("bench",$B33)),IF($C33>=0.6,IF($C33<0.7,$D33*$E33," ")," ")," ") | T33: =IF(ISNUMBER(SEARCH("bench",$B33)),IF($C33>=0.7,IF($C33<0.8,$D33*$E33," ")," ")," ") -> 8 | U33: =IF(ISNUMBER(SEARCH("bench",$B33)),IF($C33>=0.8,IF($C33<0.9,$D33*$E33," ")," ")," ") | V33: =IF(ISNUMBER(SEARCH("bench",$B33)),IF($C33>=0.9,$D33*$E33," ")," ")
A34: 3 | B34: Deadlift off boxes, bar is at 5 cm below knees | C34: 0.6 | D34: 3 | E34: 1 | F34: =Max!$B$4*C34 -> 96 | K34: =D34*E34 -> 3 | L34: =F34*K34 -> 288 | W34: =IF(ISNUMBER(SEARCH("deadlift",$B34)),IF($C34>=0.5,IF($C34<0.6,$D34*$E34," ")," ")," ") | X34: =IF(ISNUMBER(SEARCH("deadlift",$B34)),IF($C34>=0.6,IF($C34<0.7,$D34*$E34," ")," ")," ") -> 3 | Y34: =IF(ISNUMBER(SEARCH("deadlift",$B34)),IF($C34>=0.7,IF($C34<0.8,$D34*$E34," ")," ")," ") | Z34: =IF(ISNUMBER(SEARCH("deadlift",$B34)),IF($C34>=0.8,IF($C34<0.9,$D34*$E34," ")," ")," ") | AA34: =IF(ISNUMBER(SEARCH("deadlift",$B34)),IF($C34>=0.9,$D34*$E34," ")," ")
B35: Deadlift off boxes, bar is at 5 cm below knees | C35: 0.7 | D35: 3 | E35: 1 | F35: =Max!$B$4*C35 -> 112 | K35: =D35*E35 -> 3 | L35: =F35*K35 -> 336 | W35: =IF(ISNUMBER(SEARCH("deadlift",$B35)),IF($C35>=0.5,IF($C35<0.6,$D35*$E35," ")," ")," ") | X35: =IF(ISNUMBER(SEARCH("deadlift",$B35)),IF($C35>=0.6,IF($C35<0.7,$D35*$E35," ")," ")," ") | Y35: =IF(ISNUMBER(SEARCH("deadlift",$B35)),IF($C35>=0.7,IF($C35<0.8,$D35*$E35," ")," ")," ") -> 3 | Z35: =IF(ISNUMBER(SEARCH("deadlift",$B35)),IF($C35>=0.8,IF($C35<0.9,$D35*$E35," ")," ")," ") | AA35: =IF(ISNUMBER(SEARCH("deadlift",$B35)),IF($C35>=0.9,$D35*$E35," ")," ")
B36: Deadlift off boxes, bar is at 5 cm below knees | C36: 0.8 | D36: 3 | E36: 2 | F36: =Max!$B$4*C36 -> 128 | K36: =D36*E36 -> 6 | L36: =F36*K36 -> 768 | W36: =IF(ISNUMBER(SEARCH("deadlift",$B36)),IF($C36>=0.5,IF($C36<0.6,$D36*$E36," ")," ")," ") | X36: =IF(ISNUMBER(SEARCH("deadlift",$B36)),IF($C36>=0.6,IF($C36<0.7,$D36*$E36," ")," ")," ") | Y36: =IF(ISNUMBER(SEARCH("deadlift",$B36)),IF($C36>=0.7,IF($C36<0.8,$D36*$E36," ")," ")," ") | Z36: =IF(ISNUMBER(SEARCH("deadlift",$B36)),IF($C36>=0.8,IF($C36<0.9,$D36*$E36," ")," ")," ") -> 6 | AA36: =IF(ISNUMBER(SEARCH("deadlift",$B36)),IF($C36>=0.9,$D36*$E36," ")," ")
B37: Deadlift off boxes, bar is at 5 cm below knees | C37: 0.85 | D37: 3 | E37: 3 | F37: =Max!$B$4*C37 -> 136 | K37: =D37*E37 -> 9 | L37: =F37*K37 -> 1224 | W37: =IF(ISNUMBER(SEARCH("deadlift",$B37)),IF($C37>=0.5,IF($C37<0.6,$D37*$E37," ")," ")," ") | X37: =IF(ISNUMBER(SEARCH("deadlift",$B37)),IF($C37>=0.6,IF($C37<0.7,$D37*$E37," ")," ")," ") | Y37: =IF(ISNUMBER(SEARCH("deadlift",$B37)),IF($C37>=0.7,IF($C37<0.8,$D37*$E37," ")," ")," ") | Z37: =IF(ISNUMBER(SEARCH("deadlift",$B37)),IF($C37>=0.8,IF($C37<0.9,$D37*$E37," ")," ")," ") -> 9 | AA37: =IF(ISNUMBER(SEARCH("deadlift",$B37)),IF($C37>=0.9,$D37*$E37," ")," ")
A38: 4 | B38: Lat Muscles | D38: 6 | E38: 5
A39: 5 | B39: Dips | D39: 5 | E39: 5
A40: 6 | B40: Goodmorning | D40: 5 | E40: 5
A42: 5 day (Friday) | C42: % | D42: reps | E42: sets | F42: weight
A43: 1 | B43: Bench press | C43: 0.55 | D43: 5 | E43: 1 | F43: =Max!$B$3*C43 -> 46.75 | I43: =D43*E43 -> 5 | J43: =F43*I43 -> 233.75 | R43: =IF(ISNUMBER(SEARCH("bench",$B43)),IF($C43>=0.5,IF($C43<0.6,$D43*$E43," ")," ")," ") -> 5 | S43: =IF(ISNUMBER(SEARCH("bench",$B43)),IF($C43>=0.6,IF($C43<0.7,$D43*$E43," ")," ")," ") | T43: =IF(ISNUMBER(SEARCH("bench",$B43)),IF($C43>=0.7,IF($C43<0.8,$D43*$E43," ")," ")," ") | U43: =IF(ISNUMBER(SEARCH("bench",$B43)),IF($C43>=0.8,IF($C43<0.9,$D43*$E43," ")," ")," ") | V43: =IF(ISNUMBER(SEARCH("bench",$B43)),IF($C43>=0.9,$D43*$E43," ")," ")
B44: Bench press | C44: 0.65 | D44: 4 | E44: 1 | F44: =Max!$B$3*C44 -> 55.25 | I44: =D44*E44 -> 4 | J44: =F44*I44 -> 221 | R44: =IF(ISNUMBER(SEARCH("bench",$B44)),IF($C44>=0.5,IF($C44<0.6,$D44*$E44," ")," ")," ") | S44: =IF(ISNUMBER(SEARCH("bench",$B44)),IF($C44>=0.6,IF($C44<0.7,$D44*$E44," ")," ")," ") -> 4 | T44: =IF(ISNUMBER(SEARCH("bench",$B44)),IF($C44>=0.7,IF($C44<0.8,$D44*$E44," ")," ")," ") | U44: =IF(ISNUMBER(SEARCH("bench",$B44)),IF($C44>=0.8,IF($C44<0.9,$D44*$E44," ")," ")," ") | V44: =IF(ISNUMBER(SEARCH("bench",$B44)),IF($C44>=0.9,$D44*$E44," ")," ")
B45: Bench press | C45: 0.75 | D45: 3 | E45: 1 | F45: =Max!$B$3*C45 -> 63.75 | I45: =D45*E45 -> 3 | J45: =F45*I45 -> 191.25 | R45: =IF(ISNUMBER(SEARCH("bench",$B45)),IF($C45>=0.5,IF($C45<0.6,$D45*$E45," ")," ")," ") | S45: =IF(ISNUMBER(SEARCH("bench",$B45)),IF($C45>=0.6,IF($C45<0.7,$D45*$E45," ")," ")," ") | T45: =IF(ISNUMBER(SEARCH("bench",$B45)),IF($C45>=0.7,IF($C45<0.8,$D45*$E45," ")," ")," ") -> 3 | U45: =IF(ISNUMBER(SEARCH("bench",$B45)),IF($C45>=0.8,IF($C45<0.9,$D45*$E45," ")," ")," ") | V45: =IF(ISNUMBER(SEARCH("bench",$B45)),IF($C45>=0.9,$D45*$E45," ")," ")
B46: Bench press | C46: 0.85 | D46: 2 | E46: 4 | F46: =Max!$B$3*C46 -> 72.25 | I46: =D46*E46 -> 8 | J46: =F46*I46 -> 578 | R46: =IF(ISNUMBER(SEARCH("bench",$B46)),IF($C46>=0.5,IF($C46<0.6,$D46*$E46," ")," ")," ") | S46: =IF(ISNUMBER(SEARCH("bench",$B46)),IF($C46>=0.6,IF($C46<0.7,$D46*$E46," ")," ")," ") | T46: =IF(ISNUMBER(SEARCH("bench",$B46)),IF($C46>=0.7,IF($C46<0.8,$D46*$E46," ")," ")," ") | U46: =IF(ISNUMBER(SEARCH("bench",$B46)),IF($C46>=0.8,IF($C46<0.9,$D46*$E46," ")," ")," ") -> 8 | V46: =IF(ISNUMBER(SEARCH("bench",$B46)),IF($C46>=0.9,$D46*$E46," ")," ")
A47: 2 | B47: Squat | C47: 0.5 | D47: 5 | E47: 1 | F47: =Max!$B$2*C47 -> 100 | G47: =D47*E47 -> 5 | H47: =F47*G47 -> 500 | M47: =IF(ISNUMBER(SEARCH("squat",$B47)),IF($C47>=0.5,IF($C47<0.6,$D47*$E47," ")," ")," ") -> 5 | N47: =IF(ISNUMBER(SEARCH("squat",$B47)),IF($C47>=0.6,IF($C47<0.7,$D47*$E47," ")," ")," ") | O47: =IF(ISNUMBER(SEARCH("squat",$B47)),IF($C47>=0.7,IF($C47<0.8,$D47*$E47," ")," ")," ") | P47: =IF(ISNUMBER(SEARCH("squat",$B47)),IF($C47>=0.8,IF($C47<0.9,$D47*$E47," ")," ")," ") | Q47: =IF(ISNUMBER(SEARCH("squat",$B47)),IF($C47>=0.9,$D47*$E47," ")," ")
B48: Squat | C48: 0.6 | D48: 4 | E48: 1 | F48: =Max!$B$2*C48 -> 120 | G48: =D48*E48 -> 4 | H48: =F48*G48 -> 480 | M48: =IF(ISNUMBER(SEARCH("squat",$B48)),IF($C48>=0.5,IF($C48<0.6,$D48*$E48," ")," ")," ") | N48: =IF(ISNUMBER(SEARCH("squat",$B48)),IF($C48>=0.6,IF($C48<0.7,$D48*$E48," ")," ")," ") -> 4 | O48: =IF(ISNUMBER(SEARCH("squat",$B48)),IF($C48>=0.7,IF($C48<0.8,$D48*$E48," ")," ")," ") | P48: =IF(ISNUMBER(SEARCH("squat",$B48)),IF($C48>=0.8,IF($C48<0.9,$D48*$E48," ")," ")," ") | Q48: =IF(ISNUMBER(SEARCH("squat",$B48)),IF($C48>=0.9,$D48*$E48," ")," ")
B49: Squat | C49: 0.7 | D49: 3 | E49: 1 | F49: =Max!$B$2*C49 -> 140 | G49: =D49*E49 -> 3 | H49: =F49*G49 -> 420 | M49: =IF(ISNUMBER(SEARCH("squat",$B49)),IF($C49>=0.5,IF($C49<0.6,$D49*$E49," ")," ")," ") | N49: =IF(ISNUMBER(SEARCH("squat",$B49)),IF($C49>=0.6,IF($C49<0.7,$D49*$E49," ")," ")," ") | O49: =IF(ISNUMBER(SEARCH("squat",$B49)),IF($C49>=0.7,IF($C49<0.8,$D49*$E49," ")," ")," ") -> 3 | P49: =IF(ISNUMBER(SEARCH("squat",$B49)),IF($C49>=0.8,IF($C49<0.9,$D49*$E49," ")," ")," ") | Q49: =IF(ISNUMBER(SEARCH("squat",$B49)),IF($C49>=0.9,$D49*$E49," ")," ")
B50: Squat | C50: 0.8 | D50: 2 | E50: 4 | F50: =Max!$B$2*C50 -> 160 | G50: =D50*E50 -> 8 | H50: =F50*G50 -> 1280 | M50: =IF(ISNUMBER(SEARCH("squat",$B50)),IF($C50>=0.5,IF($C50<0.6,$D50*$E50," ")," ")," ") | N50: =IF(ISNUMBER(SEARCH("squat",$B50)),IF($C50>=0.6,IF($C50<0.7,$D50*$E50," ")," ")," ") | O50: =IF(ISNUMBER(SEARCH("squat",$B50)),IF($C50>=0.7,IF($C50<0.8,$D50*$E50," ")," ")," ") | P50: =IF(ISNUMBER(SEARCH("squat",$B50)),IF($C50>=0.8,IF($C50<0.9,$D50*$E50," ")," ")," ") -> 8 | Q50: =IF(ISNUMBER(SEARCH("squat",$B50)),IF($C50>=0.9,$D50*$E50," ")," ")
A51: 3 | B51: Bench press | C51: 0.5 | D51: 4 | E51: 1 | F51: =Max!$B$3*C51 -> 42.5 | I51: =D51*E51 -> 4 | J51: =F51*I51 -> 170 | R51: =IF(ISNUMBER(SEARCH("bench",$B51)),IF($C51>=0.5,IF($C51<0.6,$D51*$E51," ")," ")," ") -> 4 | S51: =IF(ISNUMBER(SEARCH("bench",$B51)),IF($C51>=0.6,IF($C51<0.7,$D51*$E51," ")," ")," ") | T51: =IF(ISNUMBER(SEARCH("bench",$B51)),IF($C51>=0.7,IF($C51<0.8,$D51*$E51," ")," ")," ") | U51: =IF(ISNUMBER(SEARCH("bench",$B51)),IF($C51>=0.8,IF($C51<0.9,$D51*$E51," ")," ")," ") | V51: =IF(ISNUMBER(SEARCH("bench",$B51)),IF($C51>=0.9,$D51*$E51," ")," ")
B52: Bench press | C52: 0.6 | D52: 4 | E52: 1 | F52: =Max!$B$3*C52 -> 51 | I52: =D52*E52 -> 4 | J52: =F52*I52 -> 204 | R52: =IF(ISNUMBER(SEARCH("bench",$B52)),IF($C52>=0.5,IF($C52<0.6,$D52*$E52," ")," ")," ") | S52: =IF(ISNUMBER(SEARCH("bench",$B52)),IF($C52>=0.6,IF($C52<0.7,$D52*$E52," ")," ")," ") -> 4 | T52: =IF(ISNUMBER(SEARCH("bench",$B52)),IF($C52>=0.7,IF($C52<0.8,$D52*$E52," ")," ")," ") | U52: =IF(ISNUMBER(SEARCH("bench",$B52)),IF($C52>=0.8,IF($C52<0.9,$D52*$E52," ")," ")," ") | V52: =IF(ISNUMBER(SEARCH("bench",$B52)),IF($C52>=0.9,$D52*$E52," ")," ")
B53: Bench press | C53: 0.7 | D53: 4 | E53: 4 | F53: =Max!$B$3*C53 -> 59.5 | I53: =D53*E53 -> 16 | J53: =F53*I53 -> 952 | R53: =IF(ISNUMBER(SEARCH("bench",$B53)),IF($C53>=0.5,IF($C53<0.6,$D53*$E53," ")," ")," ") | S53: =IF(ISNUMBER(SEARCH("bench",$B53)),IF($C53>=0.6,IF($C53<0.7,$D53*$E53," ")," ")," ") | T53: =IF(ISNUMBER(SEARCH("bench",$B53)),IF($C53>=0.7,IF($C53<0.8,$D53*$E53," ")," ")," ") -> 16 | U53: =IF(ISNUMBER(SEARCH("bench",$B53)),IF($C53>=0.8,IF($C53<0.9,$D53*$E53," ")," ")," ") | V53: =IF(ISNUMBER(SEARCH("bench",$B53)),IF($C53>=0.9,$D53*$E53," ")," ")
A54: 4 | B54: Chest Muscles | D54: 6 | E54: 5
A55: 5 | B55: Abs | D55: 10 | E55: 3
A57: 6 day (Saturday) | C57: % | D57: reps | E57: sets | F57: weight
A58: 1 | B58: Deadlift off boxes, bar is at 5 cm below knees | C58: 0.6 | D58: 3 | E58: 1 | F58: =Max!$B$4*C58 -> 96 | K58: =D58*E58 -> 3 | L58: =F58*K58 -> 288 | W58: =IF(ISNUMBER(SEARCH("deadlift",$B58)),IF($C58>=0.5,IF($C58<0.6,$D58*$E58," ")," ")," ") | X58: =IF(ISNUMBER(SEARCH("deadlift",$B58)),IF($C58>=0.6,IF($C58<0.7,$D58*$E58," ")," ")," ") -> 3 | Y58: =IF(ISNUMBER(SEARCH("deadlift",$B58)),IF($C58>=0.7,IF($C58<0.8,$D58*$E58," ")," ")," ") | Z58: =IF(ISNUMBER(SEARCH("deadlift",$B58)),IF($C58>=0.8,IF($C58<0.9,$D58*$E58," ")," ")," ") | AA58: =IF(ISNUMBER(SEARCH("deadlift",$B58)),IF($C58>=0.9,$D58*$E58," ")," ")
B59: Deadlift off boxes, bar is at 5 cm below knees | C59: 0.7 | D59: 3 | E59: 1 | F59: =Max!$B$4*C59 -> 112 | K59: =D59*E59 -> 3 | L59: =F59*K59 -> 336 | W59: =IF(ISNUMBER(SEARCH("deadlift",$B59)),IF($C59>=0.5,IF($C59<0.6,$D59*$E59," ")," ")," ") | X59: =IF(ISNUMBER(SEARCH("deadlift",$B59)),IF($C59>=0.6,IF($C59<0.7,$D59*$E59," ")," ")," ") | Y59: =IF(ISNUMBER(SEARCH("deadlift",$B59)),IF($C59>=0.7,IF($C59<0.8,$D59*$E59," ")," ")," ") -> 3 | Z59: =IF(ISNUMBER(SEARCH("deadlift",$B59)),IF($C59>=0.8,IF($C59<0.9,$D59*$E59," ")," ")," ") | AA59: =IF(ISNUMBER(SEARCH("deadlift",$B59)),IF($C59>=0.9,$D59*$E59," ")," ")
B60: Deadlift off boxes, bar is at 5 cm below knees | C60: 0.8 | D60: 3 | E60: 2 | F60: =Max!$B$4*C60 -> 128 | K60: =D60*E60 -> 6 | L60: =F60*K60 -> 768 | W60: =IF(ISNUMBER(SEARCH("deadlift",$B60)),IF($C60>=0.5,IF($C60<0.6,$D60*$E60," ")," ")," ") | X60: =IF(ISNUMBER(SEARCH("deadlift",$B60)),IF($C60>=0.6,IF($C60<0.7,$D60*$E60," ")," ")," ") | Y60: =IF(ISNUMBER(SEARCH("deadlift",$B60)),IF($C60>=0.7,IF($C60<0.8,$D60*$E60," ")," ")," ") | Z60: =IF(ISNUMBER(SEARCH("deadlift",$B60)),IF($C60>=0.8,IF($C60<0.9,$D60*$E60," ")," ")," ") -> 6 | AA60: =IF(ISNUMBER(SEARCH("deadlift",$B60)),IF($C60>=0.9,$D60*$E60," ")," ")
B61: Deadlift off boxes, bar is at 5 cm below knees | C61: 0.85 | D61: 3 | E61: 4 | F61: =Max!$B$4*C61 -> 136 | K61: =D61*E61 -> 12 | L61: =F61*K61 -> 1632 | W61: =IF(ISNUMBER(SEARCH("deadlift",$B61)),IF($C61>=0.5,IF($C61<0.6,$D61*$E61," ")," ")," ") | X61: =IF(ISNUMBER(SEARCH("deadlift",$B61)),IF($C61>=0.6,IF($C61<0.7,$D61*$E61," ")," ")," ") | Y61: =IF(ISNUMBER(SEARCH("deadlift",$B61)),IF($C61>=0.7,IF($C61<0.8,$D61*$E61," ")," ")," ") | Z61: =IF(ISNUMBER(SEARCH("deadlift",$B61)),IF($C61>=0.8,IF($C61<0.9,$D61*$E61," ")," ")," ") -> 12 | AA61: =IF(ISNUMBER(SEARCH("deadlift",$B61)),IF($C61>=0.9,$D61*$E61," ")," ")
A62: 2 | B62: Incline Shoulder Press | D62: 3 | E62: 5
A63: 3 | B63: Delts | D63: 6 | E63: 4
A64: 4 | B64: Lat Muscles | D64: 6 | E64: 5
A65: 5 | B65: Hyperextension | D65: 8 | E65: 4
G66: =SUM(G7:G65) -> 59 | H66: =SUM(H7:H65) -> 7840 | I66: =SUM(I7:I65) -> 103 | J66: =SUM(J7:J65) -> 6103 | K66: =SUM(K7:K65) -> 59 | L66: =SUM(L7:L65) -> 7064 | M66: =SUM(M7:M65) -> 10 | N66: =SUM(N7:N65) -> 9 | ... AA66: =SUM(AA7:AA65) -> 0
A67: week 2
A68: 1 day (Monday) | C68: % | D68: reps | E68: sets | F68: weight
A69: 1 | B69: Bench press | C69: 0.5 | D69: 5 | E69: 1 | F69: =Max!$B$3*C69 -> 42.5 | I69: =D69*E69 -> 5 | J69: =F69*I69 -> 212.5 | R69: =IF(ISNUMBER(SEARCH("bench",$B69)),IF($C69>=0.5,IF($C69<0.6,$D69*$E69," ")," ")," ") -> 5 | S69: =IF(ISNUMBER(SEARCH("bench",$B69)),IF($C69>=0.6,IF($C69<0.7,$D69*$E69," ")," ")," ") | T69: =IF(ISNUMBER(SEARCH("bench",$B69)),IF($C69>=0.7,IF($C69<0.8,$D69*$E69," ")," ")," ") | U69: =IF(ISNUMBER(SEARCH("bench",$B69)),IF($C69>=0.8,IF($C69<0.9,$D69*$E69," ")," ")," ") | V69: =IF(ISNUMBER(SEARCH("bench",$B69)),IF($C69>=0.9,$D69*$E69," ")," ")
B70: Bench press | C70: 0.6 | D70: 4 | E70: 1 | F70: =Max!$B$3*C70 -> 51 | I70: =D70*E70 -> 4 | J70: =F70*I70 -> 204 | R70: =IF(ISNUMBER(SEARCH("bench",$B70)),IF($C70>=0.5,IF($C70<0.6,$D70*$E70," ")," ")," ") | S70: =IF(ISNUMBER(SEARCH("bench",$B70)),IF($C70>=0.6,IF($C70<0.7,$D70*$E70," ")," ")," ") -> 4 | T70: =IF(ISNUMBER(SEARCH("bench",$B70)),IF($C70>=0.7,IF($C70<0.8,$D70*$E70," ")," ")," ") | U70: =IF(ISNUMBER(SEARCH("bench",$B70)),IF($C70>=0.8,IF($C70<0.9,$D70*$E70," ")," ")," ") | V70: =IF(ISNUMBER(SEARCH("bench",$B70)),IF($C70>=0.9,$D70*$E70," ")," ")
B71: Bench press | C71: 0.7 | D71: 3 | E71: 1 | F71: =Max!$B$3*C71 -> 59.5 | I71: =D71*E71 -> 3 | J71: =F71*I71 -> 178.5 | R71: =IF(ISNUMBER(SEARCH("bench",$B71)),IF($C71>=0.5,IF($C71<0.6,$D71*$E71," ")," ")," ") | S71: =IF(ISNUMBER(SEARCH("bench",$B71)),IF($C71>=0.6,IF($C71<0.7,$D71*$E71," ")," ")," ") | T71: =IF(ISNUMBER(SEARCH("bench",$B71)),IF($C71>=0.7,IF($C71<0.8,$D71*$E71," ")," ")," ") -> 3 | U71: =IF(ISNUMBER(SEARCH("bench",$B71)),IF($C71>=0.8,IF($C71<0.9,$D71*$E71," ")," ")," ") | V71: =IF(ISNUMBER(SEARCH("bench",$B71)),IF($C71>=0.9,$D71*$E71," ")," ")
B72: Bench press | C72: 0.8 | D72: 2 | E72: 4 | F72: =Max!$B$3*C72 -> 68 | I72: =D72*E72 -> 8 | J72: =F72*I72 -> 544 | R72: =IF(ISNUMBER(SEARCH("bench",$B72)),IF($C72>=0.5,IF($C72<0.6,$D72*$E72," ")," ")," ") | S72: =IF(ISNUMBER(SEARCH("bench",$B72)),IF($C72>=0.6,IF($C72<0.7,$D72*$E72," ")," ")," ") | T72: =IF(ISNUMBER(SEARCH("bench",$B72)),IF($C72>=0.7,IF($C72<0.8,$D72*$E72," ")," ")," ") | U72: =IF(ISNUMBER(SEARCH("bench",$B72)),IF($C72>=0.8,IF($C72<0.9,$D72*$E72," ")," ")," ") -> 8 | V72: =IF(ISNUMBER(SEARCH("bench",$B72)),IF($C72>=0.9,$D72*$E72," ")," ")
A73: 2 | B73: Squat | C73: 0.5 | D73: 5 | E73: 1 | F73: =Max!$B$2*C73 -> 100 | G73: =D73*E73 -> 5 | H73: =F73*G73 -> 500 | M73: =IF(ISNUMBER(SEARCH("squat",$B73)),IF($C73>=0.5,IF($C73<0.6,$D73*$E73," ")," ")," ") -> 5 | N73: =IF(ISNUMBER(SEARCH("squat",$B73)),IF($C73>=0.6,IF($C73<0.7,$D73*$E73," ")," ")," ") | O73: =IF(ISNUMBER(SEARCH("squat",$B73)),IF($C73>=0.7,IF($C73<0.8,$D73*$E73," ")," ")," ") | P73: =IF(ISNUMBER(SEARCH("squat",$B73)),IF($C73>=0.8,IF($C73<0.9,$D73*$E73," ")," ")," ") | Q73: =IF(ISNUMBER(SEARCH("squat",$B73)),IF($C73>=0.9,$D73*$E73," ")," ")
B74: Squat | C74: 0.6 | D74: 4 | E74: 1 | F74: =Max!$B$2*C74 -> 120 | G74: =D74*E74 -> 4 | H74: =F74*G74 -> 480 | M74: =IF(ISNUMBER(SEARCH("squat",$B74)),IF($C74>=0.5,IF($C74<0.6,$D74*$E74," ")," ")," ") | N74: =IF(ISNUMBER(SEARCH("squat",$B74)),IF($C74>=0.6,IF($C74<0.7,$D74*$E74," ")," ")," ") -> 4 | O74: =IF(ISNUMBER(SEARCH("squat",$B74)),IF($C74>=0.7,IF($C74<0.8,$D74*$E74," ")," ")," ") | P74: =IF(ISNUMBER(SEARCH("squat",$B74)),IF($C74>=0.8,IF($C74<0.9,$D74*$E74," ")," ")," ") | Q74: =IF(ISNUMBER(SEARCH("squat",$B74)),IF($C74>=0.9,$D74*$E74," ")," ")
B75: Squat | C75: 0.7 | D75: 3 | E75: 1 | F75: =Max!$B$2*C75 -> 140 | G75: =D75*E75 -> 3 | H75: =F75*G75 -> 420 | M75: =IF(ISNUMBER(SEARCH("squat",$B75)),IF($C75>=0.5,IF($C75<0.6,$D75*$E75," ")," ")," ") | N75: =IF(ISNUMBER(SEARCH("squat",$B75)),IF($C75>=0.6,IF($C75<0.7,$D75*$E75," ")," ")," ") | O75: =IF(ISNUMBER(SEARCH("squat",$B75)),IF($C75>=0.7,IF($C75<0.8,$D75*$E75," ")," ")," ") -> 3 | P75: =IF(ISNUMBER(SEARCH("squat",$B75)),IF($C75>=0.8,IF($C75<0.9,$D75*$E75," ")," ")," ") | Q75: =IF(ISNUMBER(SEARCH("squat",$B75)),IF($C75>=0.9,$D75*$E75," ")," ")
B76: Squat | C76: 0.8 | D76: 2 | E76: 4 | F76: =Max!$B$2*C76 -> 160 | G76: =D76*E76 -> 8 | H76: =F76*G76 -> 1280 | M76: =IF(ISNUMBER(SEARCH("squat",$B76)),IF($C76>=0.5,IF($C76<0.6,$D76*$E76," ")," ")," ") | N76: =IF(ISNUMBER(SEARCH("squat",$B76)),IF($C76>=0.6,IF($C76<0.7,$D76*$E76," ")," ")," ") | O76: =IF(ISNUMBER(SEARCH("squat",$B76)),IF($C76>=0.7,IF($C76<0.8,$D76*$E76," ")," ")," ") | P76: =IF(ISNUMBER(SEARCH("squat",$B76)),IF($C76>=0.8,IF($C76<0.9,$D76*$E76," ")," ")," ") -> 8 | Q76: =IF(ISNUMBER(SEARCH("squat",$B76)),IF($C76>=0.9,$D76*$E76," ")," ")
A77: 3 | B77: Bench press w/chains | C77: 0.5 | D77: 3 | E77: 1 | F77: =Max!$B$3*C77 -> 42.5 | I77: =D77*E77 -> 3 | J77: =F77*I77 -> 127.5 | R77: =IF(ISNUMBER(SEARCH("bench",$B77)),IF($C77>=0.5,IF($C77<0.6,$D77*$E77," ")," ")," ") -> 3 | S77: =IF(ISNUMBER(SEARCH("bench",$B77)),IF($C77>=0.6,IF($C77<0.7,$D77*$E77," ")," ")," ") | T77: =IF(ISNUMBER(SEARCH("bench",$B77)),IF($C77>=0.7,IF($C77<0.8,$D77*$E77," ")," ")," ") | U77: =IF(ISNUMBER(SEARCH("bench",$B77)),IF($C77>=0.8,IF($C77<0.9,$D77*$E77," ")," ")," ") | V77: =IF(ISNUMBER(SEARCH("bench",$B77)),IF($C77>=0.9,$D77*$E77," ")," ")
B78: Bench press w/chains | C78: 0.6 | D78: 3 | E78: 1 | F78: =Max!$B$3*C78 -> 51 | I78: =D78*E78 -> 3 | J78: =F78*I78 -> 153 | R78: =IF(ISNUMBER(SEARCH("bench",$B78)),IF($C78>=0.5,IF($C78<0.6,$D78*$E78," ")," ")," ") | S78: =IF(ISNUMBER(SEARCH("bench",$B78)),IF($C78>=0.6,IF($C78<0.7,$D78*$E78," ")," ")," ") -> 3 | T78: =IF(ISNUMBER(SEARCH("bench",$B78)),IF($C78>=0.7,IF($C78<0.8,$D78*$E78," ")," ")," ") | U78: =IF(ISNUMBER(SEARCH("bench",$B78)),IF($C78>=0.8,IF($C78<0.9,$D78*$E78," ")," ")," ") | V78: =IF(ISNUMBER(SEARCH("bench",$B78)),IF($C78>=0.9,$D78*$E78," ")," ")
B79: Bench press w/chains | C79: 0.7 | D79: 3 | E79: 1 | F79: =Max!$B$3*C79 -> 59.5 | I79: =D79*E79 -> 3 | J79: =F79*I79 -> 178.5 | R79: =IF(ISNUMBER(SEARCH("bench",$B79)),IF($C79>=0.5,IF($C79<0.6,$D79*$E79," ")," ")," ") | S79: =IF(ISNUMBER(SEARCH("bench",$B79)),IF($C79>=0.6,IF($C79<0.7,$D79*$E79," ")," ")," ") | T79: =IF(ISNUMBER(SEARCH("bench",$B79)),IF($C79>=0.7,IF($C79<0.8,$D79*$E79," ")," ")," ") -> 3 | U79: =IF(ISNUMBER(SEARCH("bench",$B79)),IF($C79>=0.8,IF($C79<0.9,$D79*$E79," ")," ")," ") | V79: =IF(ISNUMBER(SEARCH("bench",$B79)),IF($C79>=0.9,$D79*$E79," ")," ")
B80: Bench press w/chains | C80: 0.75 | D80: 2 | E80: 4 | F80: =Max!$B$3*C80 -> 63.75 | I80: =D80*E80 -> 8 | J80: =F80*I80 -> 510 | R80: =IF(ISNUMBER(SEARCH("bench",$B80)),IF($C80>=0.5,IF($C80<0.6,$D80*$E80," ")," ")," ") | S80: =IF(ISNUMBER(SEARCH("bench",$B80)),IF($C80>=0.6,IF($C80<0.7,$D80*$E80," ")," ")," ") | T80: =IF(ISNUMBER(SEARCH("bench",$B80)),IF($C80>=0.7,IF($C80<0.8,$D80*$E80," ")," ")," ") -> 8 | U80: =IF(ISNUMBER(SEARCH("bench",$B80)),IF($C80>=0.8,IF($C80<0.9,$D80*$E80," ")," ")," ") | V80: =IF(ISNUMBER(SEARCH("bench",$B80)),IF($C80>=0.9,$D80*$E80," ")," ")
A81: 4 | B81: Chest Muscles | D81: 8 | E81: 5
A82: 5 | B82: Good morning | D82: 5 | E82: 5
A84: 3 day (Wednesday) | C84: % | D84: reps | E84: sets | F84: weight
A85: 1 | B85: Deadlift to knees | C85: 0.5 | D85: 3 | E85: 1 | F85: =Max!$B$4*C85 -> 80 | K85: =D85*E85 -> 3 | L85: =F85*K85 -> 240 | W85: =IF(ISNUMBER(SEARCH("deadlift",$B85)),IF($C85>=0.5,IF($C85<0.6,$D85*$E85," ")," ")," ") -> 3 | X85: =IF(ISNUMBER(SEARCH("deadlift",$B85)),IF($C85>=0.6,IF($C85<0.7,$D85*$E85," ")," ")," ") | Y85: =IF(ISNUMBER(SEARCH("deadlift",$B85)),IF($C85>=0.7,IF($C85<0.8,$D85*$E85," ")," ")," ") | Z85: =IF(ISNUMBER(SEARCH("deadlift",$B85)),IF($C85>=0.8,IF($C85<0.9,$D85*$E85," ")," ")," ") | AA85: =IF(ISNUMBER(SEARCH("deadlift",$B85)),IF($C85>=0.9,$D85*$E85," ")," ")
B86: Deadlift to knees | C86: 0.6 | D86: 3 | E86: 1 | F86: =Max!$B$4*C86 -> 96 | K86: =D86*E86 -> 3 | L86: =F86*K86 -> 288 | W86: =IF(ISNUMBER(SEARCH("deadlift",$B86)),IF($C86>=0.5,IF($C86<0.6,$D86*$E86," ")," ")," ") | X86: =IF(ISNUMBER(SEARCH("deadlift",$B86)),IF($C86>=0.6,IF($C86<0.7,$D86*$E86," ")," ")," ") -> 3 | Y86: =IF(ISNUMBER(SEARCH("deadlift",$B86)),IF($C86>=0.7,IF($C86<0.8,$D86*$E86," ")," ")," ") | Z86: =IF(ISNUMBER(SEARCH("deadlift",$B86)),IF($C86>=0.8,IF($C86<0.9,$D86*$E86," ")," ")," ") | AA86: =IF(ISNUMBER(SEARCH("deadlift",$B86)),IF($C86>=0.9,$D86*$E86," ")," ")
B87: Deadlift to knees | C87: 0.7 | D87: 2 | E87: 4 | F87: =Max!$B$4*C87 -> 112 | K87: =D87*E87 -> 8 | L87: =F87*K87 -> 896 | W87: =IF(ISNUMBER(SEARCH("deadlift",$B87)),IF($C87>=0.5,IF($C87<0.6,$D87*$E87," ")," ")," ") | X87: =IF(ISNUMBER(SEARCH("deadlift",$B87)),IF($C87>=0.6,IF($C87<0.7,$D87*$E87," ")," ")," ") | Y87: =IF(ISNUMBER(SEARCH("deadlift",$B87)),IF($C87>=0.7,IF($C87<0.8,$D87*$E87," ")," ")," ") -> 8 | Z87: =IF(ISNUMBER(SEARCH("deadlift",$B87)),IF($C87>=0.8,IF($C87<0.9,$D87*$E87," ")," ")," ") | AA87: =IF(ISNUMBER(SEARCH("deadlift",$B87)),IF($C87>=0.9,$D87*$E87," ")," ")
A88: 2 | B88: Bench press w/board | C88: 0.55 | D88: 5 | E88: 1 | F88: =Max!$B$3*C88 -> 46.75 | I88: =D88*E88 -> 5 | J88: =F88*I88 -> 233.75 | R88: =IF(ISNUMBER(SEARCH("bench",$B88)),IF($C88>=0.5,IF($C88<0.6,$D88*$E88," ")," ")," ") -> 5 | S88: =IF(ISNUMBER(SEARCH("bench",$B88)),IF($C88>=0.6,IF($C88<0.7,$D88*$E88," ")," ")," ") | T88: =IF(ISNUMBER(SEARCH("bench",$B88)),IF($C88>=0.7,IF($C88<0.8,$D88*$E88," ")," ")," ") | U88: =IF(ISNUMBER(SEARCH("bench",$B88)),IF($C88>=0.8,IF($C88<0.9,$D88*$E88," ")," ")," ") | V88: =IF(ISNUMBER(SEARCH("bench",$B88)),IF($C88>=0.9,$D88*$E88," ")," ")
B89: Bench press w/board | C89: 0.65 | D89: 4 | E89: 1 | F89: =Max!$B$3*C89 -> 55.25 | I89: =D89*E89 -> 4 | J89: =F89*I89 -> 221 | R89: =IF(ISNUMBER(SEARCH("bench",$B89)),IF($C89>=0.5,IF($C89<0.6,$D89*$E89," ")," ")," ") | S89: =IF(ISNUMBER(SEARCH("bench",$B89)),IF($C89>=0.6,IF($C89<0.7,$D89*$E89," ")," ")," ") -> 4 | T89: =IF(ISNUMBER(SEARCH("bench",$B89)),IF($C89>=0.7,IF($C89<0.8,$D89*$E89," ")," ")," ") | U89: =IF(ISNUMBER(SEARCH("bench",$B89)),IF($C89>=0.8,IF($C89<0.9,$D89*$E89," ")," ")," ") | V89: =IF(ISNUMBER(SEARCH("bench",$B89)),IF($C89>=0.9,$D89*$E89," ")," ")
B90: Bench press w/board | C90: 0.75 | D90: 4 | E90: 2 | F90: =Max!$B$3*C90 -> 63.75 | I90: =D90*E90 -> 8 | J90: =F90*I90 -> 510 | R90: =IF(ISNUMBER(SEARCH("bench",$B90)),IF($C90>=0.5,IF($C90<0.6,$D90*$E90," ")," ")," ") | S90: =IF(ISNUMBER(SEARCH("bench",$B90)),IF($C90>=0.6,IF($C90<0.7,$D90*$E90," ")," ")," ") | T90: =IF(ISNUMBER(SEARCH("bench",$B90)),IF($C90>=0.7,IF($C90<0.8,$D90*$E90," ")," ")," ") -> 8 | U90: =IF(ISNUMBER(SEARCH("bench",$B90)),IF($C90>=0.8,IF($C90<0.9,$D90*$E90," ")," ")," ") | V90: =IF(ISNUMBER(SEARCH("bench",$B90)),IF($C90>=0.9,$D90*$E90," ")," ")
B91: Bench press w/board | C91: 0.85 | D91: 3 | E91: 2 | F91: =Max!$B$3*C91 -> 72.25 | I91: =D91*E91 -> 6 | J91: =F91*I91 -> 433.5 | R91: =IF(ISNUMBER(SEARCH("bench",$B91)),IF($C91>=0.5,IF($C91<0.6,$D91*$E91," ")," ")," ") | S91: =IF(ISNUMBER(SEARCH("bench",$B91)),IF($C91>=0.6,IF($C91<0.7,$D91*$E91," ")," ")," ") | T91: =IF(ISNUMBER(SEARCH("bench",$B91)),IF($C91>=0.7,IF($C91<0.8,$D91*$E91," ")," ")," ") | U91: =IF(ISNUMBER(SEARCH("bench",$B91)),IF($C91>=0.8,IF($C91<0.9,$D91*$E91," ")," ")," ") -> 6 | V91: =IF(ISNUMBER(SEARCH("bench",$B91)),IF($C91>=0.9,$D91*$E91," ")," ")
B92: Bench press w/board | C92: 0.9 | D92: 2 | E92: 3 | F92: =Max!$B$3*C92 -> 76.5 | I92: =D92*E92 -> 6 | J92: =F92*I92 -> 459 | R92: =IF(ISNUMBER(SEARCH("bench",$B92)),IF($C92>=0.5,IF($C92<0.6,$D92*$E92," ")," ")," ") | S92: =IF(ISNUMBER(SEARCH("bench",$B92)),IF($C92>=0.6,IF($C92<0.7,$D92*$E92," ")," ")," ") | T92: =IF(ISNUMBER(SEARCH("bench",$B92)),IF($C92>=0.7,IF($C92<0.8,$D92*$E92," ")," ")," ") | U92: =IF(ISNUMBER(SEARCH("bench",$B92)),IF($C92>=0.8,IF($C92<0.9,$D92*$E92," ")," ")," ") | V92: =IF(ISNUMBER(SEARCH("bench",$B92)),IF($C92>=0.9,$D92*$E92," ")," ") -> 6
A93: 3 | B93: Deadlift w/chains | C93: 0.5 | D93: 3 | E93: 1 | F93: =Max!$B$4*C93 -> 80 | K93: =D93*E93 -> 3 | L93: =F93*K93 -> 240 | W93: =IF(ISNUMBER(SEARCH("deadlift",$B93)),IF($C93>=0.5,IF($C93<0.6,$D93*$E93," ")," ")," ") -> 3 | X93: =IF(ISNUMBER(SEARCH("deadlift",$B93)),IF($C93>=0.6,IF($C93<0.7,$D93*$E93," ")," ")," ") | Y93: =IF(ISNUMBER(SEARCH("deadlift",$B93)),IF($C93>=0.7,IF($C93<0.8,$D93*$E93," ")," ")," ") | Z93: =IF(ISNUMBER(SEARCH("deadlift",$B93)),IF($C93>=0.8,IF($C93<0.9,$D93*$E93," ")," ")," ") | AA93: =IF(ISNUMBER(SEARCH("deadlift",$B93)),IF($C93>=0.9,$D93*$E93," ")," ")
B94: Deadlift w/chains | C94: 0.6 | D94: 3 | E94: 1 | F94: =Max!$B$4*C94 -> 96 | K94: =D94*E94 -> 3 | L94: =F94*K94 -> 288 | W94: =IF(ISNUMBER(SEARCH("deadlift",$B94)),IF($C94>=0.5,IF($C94<0.6,$D94*$E94," ")," ")," ") | X94: =IF(ISNUMBER(SEARCH("deadlift",$B94)),IF($C94>=0.6,IF($C94<0.7,$D94*$E94," ")," ")," ") -> 3 | Y94: =IF(ISNUMBER(SEARCH("deadlift",$B94)),IF($C94>=0.7,IF($C94<0.8,$D94*$E94," ")," ")," ") | Z94: =IF(ISNUMBER(SEARCH("deadlift",$B94)),IF($C94>=0.8,IF($C94<0.9,$D94*$E94," ")," ")," ") | AA94: =IF(ISNUMBER(SEARCH("deadlift",$B94)),IF($C94>=0.9,$D94*$E94," ")," ")
B95: Deadlift w/chains | C95: 0.7 | D95: 3 | E95: 1 | F95: =Max!$B$4*C95 -> 112 | K95: =D95*E95 -> 3 | L95: =F95*K95 -> 336 | W95: =IF(ISNUMBER(SEARCH("deadlift",$B95)),IF($C95>=0.5,IF($C95<0.6,$D95*$E95," ")," ")," ") | X95: =IF(ISNUMBER(SEARCH("deadlift",$B95)),IF($C95>=0.6,IF($C95<0.7,$D95*$E95," ")," ")," ") | Y95: =IF(ISNUMBER(SEARCH("deadlift",$B95)),IF($C95>=0.7,IF($C95<0.8,$D95*$E95," ")," ")," ") -> 3 | Z95: =IF(ISNUMBER(SEARCH("deadlift",$B95)),IF($C95>=0.8,IF($C95<0.9,$D95*$E95," ")," ")," ") | AA95: =IF(ISNUMBER(SEARCH("deadlift",$B95)),IF($C95>=0.9,$D95*$E95," ")," ")
B96: Deadlift w/chains | C96: 0.75 | D96: 2 | E96: 4 | F96: =Max!$B$4*C96 -> 120 | K96: =D96*E96 -> 8 | L96: =F96*K96 -> 960 | W96: =IF(ISNUMBER(SEARCH("deadlift",$B96)),IF($C96>=0.5,IF($C96<0.6,$D96*$E96," ")," ")," ") | X96: =IF(ISNUMBER(SEARCH("deadlift",$B96)),IF($C96>=0.6,IF($C96<0.7,$D96*$E96," ")," ")," ") | Y96: =IF(ISNUMBER(SEARCH("deadlift",$B96)),IF($C96>=0.7,IF($C96<0.8,$D96*$E96," ")," ")," ") -> 8 | Z96: =IF(ISNUMBER(SEARCH("deadlift",$B96)),IF($C96>=0.8,IF($C96<0.9,$D96*$E96," ")," ")," ") | AA96: =IF(ISNUMBER(SEARCH("deadlift",$B96)),IF($C96>=0.9,$D96*$E96," ")," ")
A97: 4 | B97: Triceps | D97: 6 | E97: 5
A98: 5 | B98: Abs | D98: 10 | E98: 4
A100: 5 day (Friday) | C100: % | D100: reps | E100: sets | F100: weight
A101: 1 | B101: Squat | C101: 0.55 | D101: 5 | E101: 1 | F101: =Max!$B$2*C101 -> 110 | G101: =D101*E101 -> 5 | H101: =F101*G101 -> 550 | M101: =IF(ISNUMBER(SEARCH("squat",$B101)),IF($C101>=0.5,IF($C101<0.6,$D101*$E101," ")," ")," ") -> 5 | N101: =IF(ISNUMBER(SEARCH("squat",$B101)),IF($C101>=0.6,IF($C101<0.7,$D101*$E101," ")," ")," ") | O101: =IF(ISNUMBER(SEARCH("squat",$B101)),IF($C101>=0.7,IF($C101<0.8,$D101*$E101," ")," ")," ") | P101: =IF(ISNUMBER(SEARCH("squat",$B101)),IF($C101>=0.8,IF($C101<0.9,$D101*$E101," ")," ")," ") | Q101: =IF(ISNUMBER(SEARCH("squat",$B101)),IF($C101>=0.9,$D101*$E101," ")," ")
B102: Squat | C102: 0.65 | D102: 4 | E102: 1 | F102: =Max!$B$2*C102 -> 130 | G102: =D102*E102 -> 4 | H102: =F102*G102 -> 520 | M102: =IF(ISNUMBER(SEARCH("squat",$B102)),IF($C102>=0.5,IF($C102<0.6,$D102*$E102," ")," ")," ") | N102: =IF(ISNUMBER(SEARCH("squat",$B102)),IF($C102>=0.6,IF($C102<0.7,$D102*$E102," ")," ")," ") -> 4 | O102: =IF(ISNUMBER(SEARCH("squat",$B102)),IF($C102>=0.7,IF($C102<0.8,$D102*$E102," ")," ")," ") | P102: =IF(ISNUMBER(SEARCH("squat",$B102)),IF($C102>=0.8,IF($C102<0.9,$D102*$E102," ")," ")," ") | Q102: =IF(ISNUMBER(SEARCH("squat",$B102)),IF($C102>=0.9,$D102*$E102," ")," ")
B103: Squat | C103: 0.75 | D103: 3 | E103: 1 | F103: =Max!$B$2*C103 -> 150 | G103: =D103*E103 -> 3 | H103: =F103*G103 -> 450 | M103: =IF(ISNUMBER(SEARCH("squat",$B103)),IF($C103>=0.5,IF($C103<0.6,$D103*$E103," ")," ")," ") | N103: =IF(ISNUMBER(SEARCH("squat",$B103)),IF($C103>=0.6,IF($C103<0.7,$D103*$E103," ")," ")," ") | O103: =IF(ISNUMBER(SEARCH("squat",$B103)),IF($C103>=0.7,IF($C103<0.8,$D103*$E103," ")," ")," ") -> 3 | P103: =IF(ISNUMBER(SEARCH("squat",$B103)),IF($C103>=0.8,IF($C103<0.9,$D103*$E103," ")," ")," ") | Q103: =IF(ISNUMBER(SEARCH("squat",$B103)),IF($C103>=0.9,$D103*$E103," ")," ")
B104: Squat | C104: 0.85 | D104: 2 | E104: 4 | F104: =Max!$B$2*C104 -> 170 | G104: =D104*E104 -> 8 | H104: =F104*G104 -> 1360 | M104: =IF(ISNUMBER(SEARCH("squat",$B104)),IF($C104>=0.5,IF($C104<0.6,$D104*$E104," ")," ")," ") | N104: =IF(ISNUMBER(SEARCH("squat",$B104)),IF($C104>=0.6,IF($C104<0.7,$D104*$E104," ")," ")," ") | O104: =IF(ISNUMBER(SEARCH("squat",$B104)),IF($C104>=0.7,IF($C104<0.8,$D104*$E104," ")," ")," ") | P104: =IF(ISNUMBER(SEARCH("squat",$B104)),IF($C104>=0.8,IF($C104<0.9,$D104*$E104," ")," ")," ") -> 8 | Q104: =IF(ISNUMBER(SEARCH("squat",$B104)),IF($C104>=0.9,$D104*$E104," ")," ")
A105: 2 | B105: Bench press | C105: 0.5 | D105: 5 | E105: 1 | F105: =Max!$B$3*C105 -> 42.5 | I105: =D105*E105 -> 5 | J105: =F105*I105 -> 212.5 | R105: =IF(ISNUMBER(SEARCH("bench",$B105)),IF($C105>=0.5,IF($C105<0.6,$D105*$E105," ")," ")," ") -> 5 | S105: =IF(ISNUMBER(SEARCH("bench",$B105)),IF($C105>=0.6,IF($C105<0.7,$D105*$E105," ")," ")," ") | T105: =IF(ISNUMBER(SEARCH("bench",$B105)),IF($C105>=0.7,IF($C105<0.8,$D105*$E105," ")," ")," ") | U105: =IF(ISNUMBER(SEARCH("bench",$B105)),IF($C105>=0.8,IF($C105<0.9,$D105*$E105," ")," ")," ") | V105: =IF(ISNUMBER(SEARCH("bench",$B105)),IF($C105>=0.9,$D105*$E105," ")," ")
B106: Bench press | C106: 0.6 | D106: 4 | E106: 1 | F106: =Max!$B$3*C106 -> 51 | I106: =D106*E106 -> 4 | J106: =F106*I106 -> 204 | R106: =IF(ISNUMBER(SEARCH("bench",$B106)),IF($C106>=0.5,IF($C106<0.6,$D106*$E106," ")," ")," ") | S106: =IF(ISNUMBER(SEARCH("bench",$B106)),IF($C106>=0.6,IF($C106<0.7,$D106*$E106," ")," ")," ") -> 4 | T106: =IF(ISNUMBER(SEARCH("bench",$B106)),IF($C106>=0.7,IF($C106<0.8,$D106*$E106," ")," ")," ") | U106: =IF(ISNUMBER(SEARCH("bench",$B106)),IF($C106>=0.8,IF($C106<0.9,$D106*$E106," ")," ")," ") | V106: =IF(ISNUMBER(SEARCH("bench",$B106)),IF($C106>=0.9,$D106*$E106," ")," ")
B107: Bench press | C107: 0.7 | D107: 3 | E107: 1 | F107: =Max!$B$3*C107 -> 59.5 | I107: =D107*E107 -> 3 | J107: =F107*I107 -> 178.5 | R107: =IF(ISNUMBER(SEARCH("bench",$B107)),IF($C107>=0.5,IF($C107<0.6,$D107*$E107," ")," ")," ") | S107: =IF(ISNUMBER(SEARCH("bench",$B107)),IF($C107>=0.6,IF($C107<0.7,$D107*$E107," ")," ")," ") | T107: =IF(ISNUMBER(SEARCH("bench",$B107)),IF($C107>=0.7,IF($C107<0.8,$D107*$E107," ")," ")," ") -> 3 | U107: =IF(ISNUMBER(SEARCH("bench",$B107)),IF($C107>=0.8,IF($C107<0.9,$D107*$E107," ")," ")," ") | V107: =IF(ISNUMBER(SEARCH("bench",$B107)),IF($C107>=0.9,$D107*$E107," ")," ")
...

Sheet 4 day Prep (3)
B1: Sheiko
B2: Preparatory Period for Class 1 & CMS
A5: week 1 | M5: squat | R5: bench | W5: deadlift
A6: 1 day (Monday) | C6: % | D6: reps | E6: sets | F6: weight | M6: 50-59 | N6: 60-69 | O6: 70-79 | P6: 80-89 | Q6: 90+ | R6: 50-59 | S6: 60-69 | T6: 70-79 | U6: 80-89 | V6: 90+ | W6: 50-59 | X6: 60-69 | Y6: 70-79 | Z6: 80-89 | AA6: 90+
A7: 1 | B7: Squat | C7: 0.55 | D7: 5 | E7: 1 | F7: =Max!$B$2*C7 -> 110 | G7: =D7*E7 -> 5 | H7: =F7*G7 -> 550 | M7: =IF(ISNUMBER(SEARCH("squat",$B7)),IF($C7>=0.5,IF($C7<0.6,$D7*$E7," ")," ")," ") -> 5 | N7: =IF(ISNUMBER(SEARCH("squat",$B7)),IF($C7>=0.6,IF($C7<0.7,$D7*$E7," ")," ")," ") | O7: =IF(ISNUMBER(SEARCH("squat",$B7)),IF($C7>=0.7,IF($C7<0.8,$D7*$E7," ")," ")," ") | P7: =IF(ISNUMBER(SEARCH("squat",$B7)),IF($C7>=0.8,IF($C7<0.9,$D7*$E7," ")," ")," ") | Q7: =IF(ISNUMBER(SEARCH("squat",$B7)),IF($C7>=0.9,$D7*$E7," ")," ")
B8: Squat | C8: 0.65 | D8: 4 | E8: 1 | F8: =Max!$B$2*C8 -> 130 | G8: =D8*E8 -> 4 | H8: =F8*G8 -> 520 | M8: =IF(ISNUMBER(SEARCH("squat",$B8)),IF($C8>=0.5,IF($C8<0.6,$D8*$E8," ")," ")," ") | N8: =IF(ISNUMBER(SEARCH("squat",$B8)),IF($C8>=0.6,IF($C8<0.7,$D8*$E8," ")," ")," ") -> 4 | O8: =IF(ISNUMBER(SEARCH("squat",$B8)),IF($C8>=0.7,IF($C8<0.8,$D8*$E8," ")," ")," ") | P8: =IF(ISNUMBER(SEARCH("squat",$B8)),IF($C8>=0.8,IF($C8<0.9,$D8*$E8," ")," ")," ") | Q8: =IF(ISNUMBER(SEARCH("squat",$B8)),IF($C8>=0.9,$D8*$E8," ")," ")
B9: Squat | C9: 0.75 | D9: 3 | E9: 1 | F9: =Max!$B$2*C9 -> 150 | G9: =D9*E9 -> 3 | H9: =F9*G9 -> 450 | M9: =IF(ISNUMBER(SEARCH("squat",$B9)),IF($C9>=0.5,IF($C9<0.6,$D9*$E9," ")," ")," ") | N9: =IF(ISNUMBER(SEARCH("squat",$B9)),IF($C9>=0.6,IF($C9<0.7,$D9*$E9," ")," ")," ") | O9: =IF(ISNUMBER(SEARCH("squat",$B9)),IF($C9>=0.7,IF($C9<0.8,$D9*$E9," ")," ")," ") -> 3 | P9: =IF(ISNUMBER(SEARCH("squat",$B9)),IF($C9>=0.8,IF($C9<0.9,$D9*$E9," ")," ")," ") | Q9: =IF(ISNUMBER(SEARCH("squat",$B9)),IF($C9>=0.9,$D9*$E9," ")," ")
B10: Squat | C10: 0.85 | D10: 2 | E10: 3 | F10: =Max!$B$2*C10 -> 170 | G10: =D10*E10 -> 6 | H10: =F10*G10 -> 1020 | M10: =IF(ISNUMBER(SEARCH("squat",$B10)),IF($C10>=0.5,IF($C10<0.6,$D10*$E10," ")," ")," ") | N10: =IF(ISNUMBER(SEARCH("squat",$B10)),IF($C10>=0.6,IF($C10<0.7,$D10*$E10," ")," ")," ") | O10: =IF(ISNUMBER(SEARCH("squat",$B10)),IF($C10>=0.7,IF($C10<0.8,$D10*$E10," ")," ")," ") | P10: =IF(ISNUMBER(SEARCH("squat",$B10)),IF($C10>=0.8,IF($C10<0.9,$D10*$E10," ")," ")," ") -> 6 | Q10: =IF(ISNUMBER(SEARCH("squat",$B10)),IF($C10>=0.9,$D10*$E10," ")," ")
A11: 2 | B11: Bench press | C11: 0.5 | D11: 5 | E11: 1 | F11: =Max!$B$3*C11 -> 42.5 | I11: =D11*E11 -> 5 | J11: =F11*I11 -> 212.5 | R11: =IF(ISNUMBER(SEARCH("bench",$B11)),IF($C11>=0.5,IF($C11<0.6,$D11*$E11," ")," ")," ") -> 5 | S11: =IF(ISNUMBER(SEARCH("bench",$B11)),IF($C11>=0.6,IF($C11<0.7,$D11*$E11," ")," ")," ") | T11: =IF(ISNUMBER(SEARCH("bench",$B11)),IF($C11>=0.7,IF($C11<0.8,$D11*$E11," ")," ")," ") | U11: =IF(ISNUMBER(SEARCH("bench",$B11)),IF($C11>=0.8,IF($C11<0.9,$D11*$E11," ")," ")," ") | V11: =IF(ISNUMBER(SEARCH("bench",$B11)),IF($C11>=0.9,$D11*$E11," ")," ")
B12: Bench press | C12: 0.6 | D12: 4 | E12: 1 | F12: =Max!$B$3*C12 -> 51 | I12: =D12*E12 -> 4 | J12: =F12*I12 -> 204 | R12: =IF(ISNUMBER(SEARCH("bench",$B12)),IF($C12>=0.5,IF($C12<0.6,$D12*$E12," ")," ")," ") | S12: =IF(ISNUMBER(SEARCH("bench",$B12)),IF($C12>=0.6,IF($C12<0.7,$D12*$E12," ")," ")," ") -> 4 | T12: =IF(ISNUMBER(SEARCH("bench",$B12)),IF($C12>=0.7,IF($C12<0.8,$D12*$E12," ")," ")," ") | U12: =IF(ISNUMBER(SEARCH("bench",$B12)),IF($C12>=0.8,IF($C12<0.9,$D12*$E12," ")," ")," ") | V12: =IF(ISNUMBER(SEARCH("bench",$B12)),IF($C12>=0.9,$D12*$E12," ")," ")
B13: Bench press | C13: 0.7 | D13: 3 | E13: 1 | F13: =Max!$B$3*C13 -> 59.5 | I13: =D13*E13 -> 3 | J13: =F13*I13 -> 178.5 | R13: =IF(ISNUMBER(SEARCH("bench",$B13)),IF($C13>=0.5,IF($C13<0.6,$D13*$E13," ")," ")," ") | S13: =IF(ISNUMBER(SEARCH("bench",$B13)),IF($C13>=0.6,IF($C13<0.7,$D13*$E13," ")," ")," ") | T13: =IF(ISNUMBER(SEARCH("bench",$B13)),IF($C13>=0.7,IF($C13<0.8,$D13*$E13," ")," ")," ") -> 3 | U13: =IF(ISNUMBER(SEARCH("bench",$B13)),IF($C13>=0.8,IF($C13<0.9,$D13*$E13," ")," ")," ") | V13: =IF(ISNUMBER(SEARCH("bench",$B13)),IF($C13>=0.9,$D13*$E13," ")," ")
B14: Bench press | C14: 0.8 | D14: 2 | E14: 4 | F14: =Max!$B$3*C14 -> 68 | I14: =D14*E14 -> 8 | J14: =F14*I14 -> 544 | R14: =IF(ISNUMBER(SEARCH("bench",$B14)),IF($C14>=0.5,IF($C14<0.6,$D14*$E14," ")," ")," ") | S14: =IF(ISNUMBER(SEARCH("bench",$B14)),IF($C14>=0.6,IF($C14<0.7,$D14*$E14," ")," ")," ") | T14: =IF(ISNUMBER(SEARCH("bench",$B14)),IF($C14>=0.7,IF($C14<0.8,$D14*$E14," ")," ")," ") | U14: =IF(ISNUMBER(SEARCH("bench",$B14)),IF($C14>=0.8,IF($C14<0.9,$D14*$E14," ")," ")," ") -> 8 | V14: =IF(ISNUMBER(SEARCH("bench",$B14)),IF($C14>=0.9,$D14*$E14," ")," ")
A15: 4 | B15: Squat | C15: 0.5 | D15: 3 | E15: 1 | F15: =Max!$B$2*C15 -> 100 | G15: =D15*E15 -> 3 | H15: =F15*G15 -> 300 | M15: =IF(ISNUMBER(SEARCH("squat",$B15)),IF($C15>=0.5,IF($C15<0.6,$D15*$E15," ")," ")," ") -> 3 | N15: =IF(ISNUMBER(SEARCH("squat",$B15)),IF($C15>=0.6,IF($C15<0.7,$D15*$E15," ")," ")," ") | O15: =IF(ISNUMBER(SEARCH("squat",$B15)),IF($C15>=0.7,IF($C15<0.8,$D15*$E15," ")," ")," ") | P15: =IF(ISNUMBER(SEARCH("squat",$B15)),IF($C15>=0.8,IF($C15<0.9,$D15*$E15," ")," ")," ") | Q15: =IF(ISNUMBER(SEARCH("squat",$B15)),IF($C15>=0.9,$D15*$E15," ")," ")
B16: Squat | C16: 0.6 | D16: 3 | E16: 1 | F16: =Max!$B$2*C16 -> 120 | G16: =D16*E16 -> 3 | H16: =F16*G16 -> 360 | M16: =IF(ISNUMBER(SEARCH("squat",$B16)),IF($C16>=0.5,IF($C16<0.6,$D16*$E16," ")," ")," ") | N16: =IF(ISNUMBER(SEARCH("squat",$B16)),IF($C16>=0.6,IF($C16<0.7,$D16*$E16," ")," ")," ") -> 3 | O16: =IF(ISNUMBER(SEARCH("squat",$B16)),IF($C16>=0.7,IF($C16<0.8,$D16*$E16," ")," ")," ") | P16: =IF(ISNUMBER(SEARCH("squat",$B16)),IF($C16>=0.8,IF($C16<0.9,$D16*$E16," ")," ")," ") | Q16: =IF(ISNUMBER(SEARCH("squat",$B16)),IF($C16>=0.9,$D16*$E16," ")," ")
B17: Squat | C17: 0.7 | D17: 3 | E17: 1 | F17: =Max!$B$2*C17 -> 140 | G17: =D17*E17 -> 3 | H17: =F17*G17 -> 420 | M17: =IF(ISNUMBER(SEARCH("squat",$B17)),IF($C17>=0.5,IF($C17<0.6,$D17*$E17," ")," ")," ") | N17: =IF(ISNUMBER(SEARCH("squat",$B17)),IF($C17>=0.6,IF($C17<0.7,$D17*$E17," ")," ")," ") | O17: =IF(ISNUMBER(SEARCH("squat",$B17)),IF($C17>=0.7,IF($C17<0.8,$D17*$E17," ")," ")," ") -> 3 | P17: =IF(ISNUMBER(SEARCH("squat",$B17)),IF($C17>=0.8,IF($C17<0.9,$D17*$E17," ")," ")," ") | Q17: =IF(ISNUMBER(SEARCH("squat",$B17)),IF($C17>=0.9,$D17*$E17," ")," ")
B18: Squat | C18: 0.8 | D18: 2 | E18: 4 | F18: =Max!$B$2*C18 -> 160 | G18: =D18*E18 -> 8 | H18: =F18*G18 -> 1280 | M18: =IF(ISNUMBER(SEARCH("squat",$B18)),IF($C18>=0.5,IF($C18<0.6,$D18*$E18," ")," ")," ") | N18: =IF(ISNUMBER(SEARCH("squat",$B18)),IF($C18>=0.6,IF($C18<0.7,$D18*$E18," ")," ")," ") | O18: =IF(ISNUMBER(SEARCH("squat",$B18)),IF($C18>=0.7,IF($C18<0.8,$D18*$E18," ")," ")," ") | P18: =IF(ISNUMBER(SEARCH("squat",$B18)),IF($C18>=0.8,IF($C18<0.9,$D18*$E18," ")," ")," ") -> 8 | Q18: =IF(ISNUMBER(SEARCH("squat",$B18)),IF($C18>=0.9,$D18*$E18," ")," ")
A19: 3 | B19: Chest Muscles | D19: 6 | E19: 4
A20: 5 | B20: Goodmorning | D20: 5 | E20: 5
A22: 3 day (Wednesday) | C22: % | D22: reps | E22: sets | F22: weight
A23: 1 | B23: Bench press | C23: 0.5 | D23: 5 | E23: 1 | F23: =Max!$B$3*C23 -> 42.5 | I23: =D23*E23 -> 5 | J23: =F23*I23 -> 212.5 | R23: =IF(ISNUMBER(SEARCH("bench",$B23)),IF($C23>=0.5,IF($C23<0.6,$D23*$E23," ")," ")," ") -> 5 | S23: =IF(ISNUMBER(SEARCH("bench",$B23)),IF($C23>=0.6,IF($C23<0.7,$D23*$E23," ")," ")," ") | T23: =IF(ISNUMBER(SEARCH("bench",$B23)),IF($C23>=0.7,IF($C23<0.8,$D23*$E23," ")," ")," ") | U23: =IF(ISNUMBER(SEARCH("bench",$B23)),IF($C23>=0.8,IF($C23<0.9,$D23*$E23," ")," ")," ") | V23: =IF(ISNUMBER(SEARCH("bench",$B23)),IF($C23>=0.9,$D23*$E23," ")," ")
B24: Bench press | C24: 0.6 | D24: 4 | E24: 1 | F24: =Max!$B$3*C24 -> 51 | I24: =D24*E24 -> 4 | J24: =F24*I24 -> 204 | R24: =IF(ISNUMBER(SEARCH("bench",$B24)),IF($C24>=0.5,IF($C24<0.6,$D24*$E24," ")," ")," ") | S24: =IF(ISNUMBER(SEARCH("bench",$B24)),IF($C24>=0.6,IF($C24<0.7,$D24*$E24," ")," ")," ") -> 4 | T24: =IF(ISNUMBER(SEARCH("bench",$B24)),IF($C24>=0.7,IF($C24<0.8,$D24*$E24," ")," ")," ") | U24: =IF(ISNUMBER(SEARCH("bench",$B24)),IF($C24>=0.8,IF($C24<0.9,$D24*$E24," ")," ")," ") | V24: =IF(ISNUMBER(SEARCH("bench",$B24)),IF($C24>=0.9,$D24*$E24," ")," ")
B25: Bench press | C25: 0.7 | D25: 3 | E25: 1 | F25: =Max!$B$3*C25 -> 59.5 | I25: =D25*E25 -> 3 | J25: =F25*I25 -> 178.5 | R25: =IF(ISNUMBER(SEARCH("bench",$B25)),IF($C25>=0.5,IF($C25<0.6,$D25*$E25," ")," ")," ") | S25: =IF(ISNUMBER(SEARCH("bench",$B25)),IF($C25>=0.6,IF($C25<0.7,$D25*$E25," ")," ")," ") | T25: =IF(ISNUMBER(SEARCH("bench",$B25)),IF($C25>=0.7,IF($C25<0.8,$D25*$E25," ")," ")," ") -> 3 | U25: =IF(ISNUMBER(SEARCH("bench",$B25)),IF($C25>=0.8,IF($C25<0.9,$D25*$E25," ")," ")," ") | V25: =IF(ISNUMBER(SEARCH("bench",$B25)),IF($C25>=0.9,$D25*$E25," ")," ")
B26: Bench press | C26: 0.8 | D26: 2 | E26: 2 | F26: =Max!$B$3*C26 -> 68 | I26: =D26*E26 -> 4 | J26: =F26*I26 -> 272 | R26: =IF(ISNUMBER(SEARCH("bench",$B26)),IF($C26>=0.5,IF($C26<0.6,$D26*$E26," ")," ")," ") | S26: =IF(ISNUMBER(SEARCH("bench",$B26)),IF($C26>=0.6,IF($C26<0.7,$D26*$E26," ")," ")," ") | T26: =IF(ISNUMBER(SEARCH("bench",$B26)),IF($C26>=0.7,IF($C26<0.8,$D26*$E26," ")," ")," ") | U26: =IF(ISNUMBER(SEARCH("bench",$B26)),IF($C26>=0.8,IF($C26<0.9,$D26*$E26," ")," ")," ") -> 4 | V26: =IF(ISNUMBER(SEARCH("bench",$B26)),IF($C26>=0.9,$D26*$E26," ")," ")
B27: Bench press | C27: 0.85 | D27: 1 | E27: 2 | F27: =Max!$B$3*C27 -> 72.25 | I27: =D27*E27 -> 2 | J27: =F27*I27 -> 144.5 | R27: =IF(ISNUMBER(SEARCH("bench",$B27)),IF($C27>=0.5,IF($C27<0.6,$D27*$E27," ")," ")," ") | S27: =IF(ISNUMBER(SEARCH("bench",$B27)),IF($C27>=0.6,IF($C27<0.7,$D27*$E27," ")," ")," ") | T27: =IF(ISNUMBER(SEARCH("bench",$B27)),IF($C27>=0.7,IF($C27<0.8,$D27*$E27," ")," ")," ") | U27: =IF(ISNUMBER(SEARCH("bench",$B27)),IF($C27>=0.8,IF($C27<0.9,$D27*$E27," ")," ")," ") -> 2 | V27: =IF(ISNUMBER(SEARCH("bench",$B27)),IF($C27>=0.9,$D27*$E27," ")," ")
B28: Bench press | C28: 0.8 | D28: 2 | E28: 2 | F28: =Max!$B$3*C28 -> 68 | I28: =D28*E28 -> 4 | J28: =F28*I28 -> 272 | R28: =IF(ISNUMBER(SEARCH("bench",$B28)),IF($C28>=0.5,IF($C28<0.6,$D28*$E28," ")," ")," ") | S28: =IF(ISNUMBER(SEARCH("bench",$B28)),IF($C28>=0.6,IF($C28<0.7,$D28*$E28," ")," ")," ") | T28: =IF(ISNUMBER(SEARCH("bench",$B28)),IF($C28>=0.7,IF($C28<0.8,$D28*$E28," ")," ")," ") | U28: =IF(ISNUMBER(SEARCH("bench",$B28)),IF($C28>=0.8,IF($C28<0.9,$D28*$E28," ")," ")," ") -> 4 | V28: =IF(ISNUMBER(SEARCH("bench",$B28)),IF($C28>=0.9,$D28*$E28," ")," ")
A29: 2 | B29: Deadlift off boxes, bar is 5cm below knees | C29: 0.65 | D29: 3 | E29: 1 | F29: =Max!$B$4*C29 -> 104 | K29: =D29*E29 -> 3 | L29: =F29*K29 -> 312 | W29: =IF(ISNUMBER(SEARCH("deadlift",$B29)),IF($C29>=0.5,IF($C29<0.6,$D29*$E29," ")," ")," ") | X29: =IF(ISNUMBER(SEARCH("deadlift",$B29)),IF($C29>=0.6,IF($C29<0.7,$D29*$E29," ")," ")," ") -> 3 | Y29: =IF(ISNUMBER(SEARCH("deadlift",$B29)),IF($C29>=0.7,IF($C29<0.8,$D29*$E29," ")," ")," ") | Z29: =IF(ISNUMBER(SEARCH("deadlift",$B29)),IF($C29>=0.8,IF($C29<0.9,$D29*$E29," ")," ")," ") | AA29: =IF(ISNUMBER(SEARCH("deadlift",$B29)),IF($C29>=0.9,$D29*$E29," ")," ")
B30: Deadlift off boxes, bar is 5cm below knees | C30: 0.75 | D30: 3 | E30: 1 | F30: =Max!$B$4*C30 -> 120 | K30: =D30*E30 -> 3 | L30: =F30*K30 -> 360 | W30: =IF(ISNUMBER(SEARCH("deadlift",$B30)),IF($C30>=0.5,IF($C30<0.6,$D30*$E30," ")," ")," ") | X30: =IF(ISNUMBER(SEARCH("deadlift",$B30)),IF($C30>=0.6,IF($C30<0.7,$D30*$E30," ")," ")," ") | Y30: =IF(ISNUMBER(SEARCH("deadlift",$B30)),IF($C30>=0.7,IF($C30<0.8,$D30*$E30," ")," ")," ") -> 3 | Z30: =IF(ISNUMBER(SEARCH("deadlift",$B30)),IF($C30>=0.8,IF($C30<0.9,$D30*$E30," ")," ")," ") | AA30: =IF(ISNUMBER(SEARCH("deadlift",$B30)),IF($C30>=0.9,$D30*$E30," ")," ")
B31: Deadlift off boxes, bar is 5cm below knees | C31: 0.85 | D31: 3 | E31: 2 | F31: =Max!$B$4*C31 -> 136 | K31: =D31*E31 -> 6 | L31: =F31*K31 -> 816 | W31: =IF(ISNUMBER(SEARCH("deadlift",$B31)),IF($C31>=0.5,IF($C31<0.6,$D31*$E31," ")," ")," ") | X31: =IF(ISNUMBER(SEARCH("deadlift",$B31)),IF($C31>=0.6,IF($C31<0.7,$D31*$E31," ")," ")," ") | Y31: =IF(ISNUMBER(SEARCH("deadlift",$B31)),IF($C31>=0.7,IF($C31<0.8,$D31*$E31," ")," ")," ") | Z31: =IF(ISNUMBER(SEARCH("deadlift",$B31)),IF($C31>=0.8,IF($C31<0.9,$D31*$E31," ")," ")," ") -> 6 | AA31: =IF(ISNUMBER(SEARCH("deadlift",$B31)),IF($C31>=0.9,$D31*$E31," ")," ")
B32: Deadlift off boxes, bar is 5cm below knees | C32: 0.9 | D32: 2 | E32: 3 | F32: =Max!$B$4*C32 -> 144 | K32: =D32*E32 -> 6 | L32: =F32*K32 -> 864 | W32: =IF(ISNUMBER(SEARCH("deadlift",$B32)),IF($C32>=0.5,IF($C32<0.6,$D32*$E32," ")," ")," ") | X32: =IF(ISNUMBER(SEARCH("deadlift",$B32)),IF($C32>=0.6,IF($C32<0.7,$D32*$E32," ")," ")," ") | Y32: =IF(ISNUMBER(SEARCH("deadlift",$B32)),IF($C32>=0.7,IF($C32<0.8,$D32*$E32," ")," ")," ") | Z32: =IF(ISNUMBER(SEARCH("deadlift",$B32)),IF($C32>=0.8,IF($C32<0.9,$D32*$E32," ")," ")," ") | AA32: =IF(ISNUMBER(SEARCH("deadlift",$B32)),IF($C32>=0.9,$D32*$E32," ")," ") -> 6
A33: 3 | B33: Triceps | D33: 6 | E33: 5
A34: 4 | B34: Lat Muscles | D34: 6 | E34: 5
A35: 5 | B35: Abs | D35: 8 | E35: 4
A37: 5 day (Friday) | C37: % | D37: reps | E37: sets | F37: weight
A38: 1 | B38: Squat | C38: 0.5 | D38: 5 | E38: 1 | F38: =Max!$B$2*C38 -> 100 | G38: =D38*E38 -> 5 | H38: =F38*G38 -> 500 | M38: =IF(ISNUMBER(SEARCH("squat",$B38)),IF($C38>=0.5,IF($C38<0.6,$D38*$E38," ")," ")," ") -> 5 | N38: =IF(ISNUMBER(SEARCH("squat",$B38)),IF($C38>=0.6,IF($C38<0.7,$D38*$E38," ")," ")," ") | O38: =IF(ISNUMBER(SEARCH("squat",$B38)),IF($C38>=0.7,IF($C38<0.8,$D38*$E38," ")," ")," ") | P38: =IF(ISNUMBER(SEARCH("squat",$B38)),IF($C38>=0.8,IF($C38<0.9,$D38*$E38," ")," ")," ") | Q38: =IF(ISNUMBER(SEARCH("squat",$B38)),IF($C38>=0.9,$D38*$E38," ")," ")
B39: Squat | C39: 0.6 | D39: 4 | E39: 1 | F39: =Max!$B$2*C39 -> 120 | G39: =D39*E39 -> 4 | H39: =F39*G39 -> 480 | M39: =IF(ISNUMBER(SEARCH("squat",$B39)),IF($C39>=0.5,IF($C39<0.6,$D39*$E39," ")," ")," ") | N39: =IF(ISNUMBER(SEARCH("squat",$B39)),IF($C39>=0.6,IF($C39<0.7,$D39*$E39," ")," ")," ") -> 4 | O39: =IF(ISNUMBER(SEARCH("squat",$B39)),IF($C39>=0.7,IF($C39<0.8,$D39*$E39," ")," ")," ") | P39: =IF(ISNUMBER(SEARCH("squat",$B39)),IF($C39>=0.8,IF($C39<0.9,$D39*$E39," ")," ")," ") | Q39: =IF(ISNUMBER(SEARCH("squat",$B39)),IF($C39>=0.9,$D39*$E39," ")," ")
B40: Squat | C40: 0.7 | D40: 3 | E40: 1 | F40: =Max!$B$2*C40 -> 140 | G40: =D40*E40 -> 3 | H40: =F40*G40 -> 420 | M40: =IF(ISNUMBER(SEARCH("squat",$B40)),IF($C40>=0.5,IF($C40<0.6,$D40*$E40," ")," ")," ") | N40: =IF(ISNUMBER(SEARCH("squat",$B40)),IF($C40>=0.6,IF($C40<0.7,$D40*$E40," ")," ")," ") | O40: =IF(ISNUMBER(SEARCH("squat",$B40)),IF($C40>=0.7,IF($C40<0.8,$D40*$E40," ")," ")," ") -> 3 | P40: =IF(ISNUMBER(SEARCH("squat",$B40)),IF($C40>=0.8,IF($C40<0.9,$D40*$E40," ")," ")," ") | Q40: =IF(ISNUMBER(SEARCH("squat",$B40)),IF($C40>=0.9,$D40*$E40," ")," ")
B41: Squat | C41: 0.75 | D41: 2 | E41: 4 | F41: =Max!$B$2*C41 -> 150 | G41: =D41*E41 -> 8 | H41: =F41*G41 -> 1200 | M41: =IF(ISNUMBER(SEARCH("squat",$B41)),IF($C41>=0.5,IF($C41<0.6,$D41*$E41," ")," ")," ") | N41: =IF(ISNUMBER(SEARCH("squat",$B41)),IF($C41>=0.6,IF($C41<0.7,$D41*$E41," ")," ")," ") | O41: =IF(ISNUMBER(SEARCH("squat",$B41)),IF($C41>=0.7,IF($C41<0.8,$D41*$E41," ")," ")," ") -> 8 | P41: =IF(ISNUMBER(SEARCH("squat",$B41)),IF($C41>=0.8,IF($C41<0.9,$D41*$E41," ")," ")," ") | Q41: =IF(ISNUMBER(SEARCH("squat",$B41)),IF($C41>=0.9,$D41*$E41," ")," ")
A42: 2 | B42: Bench press | C42: 0.5 | D42: 5 | E42: 1 | F42: =Max!$B$3*C42 -> 42.5 | I42: =D42*E42 -> 5 | J42: =F42*I42 -> 212.5 | R42: =IF(ISNUMBER(SEARCH("bench",$B42)),IF($C42>=0.5,IF($C42<0.6,$D42*$E42," ")," ")," ") -> 5 | S42: =IF(ISNUMBER(SEARCH("bench",$B42)),IF($C42>=0.6,IF($C42<0.7,$D42*$E42," ")," ")," ") | T42: =IF(ISNUMBER(SEARCH("bench",$B42)),IF($C42>=0.7,IF($C42<0.8,$D42*$E42," ")," ")," ") | U42: =IF(ISNUMBER(SEARCH("bench",$B42)),IF($C42>=0.8,IF($C42<0.9,$D42*$E42," ")," ")," ") | V42: =IF(ISNUMBER(SEARCH("bench",$B42)),IF($C42>=0.9,$D42*$E42," ")," ")
B43: Bench press | C43: 0.6 | D43: 4 | E43: 1 | F43: =Max!$B$3*C43 -> 51 | I43: =D43*E43 -> 4 | J43: =F43*I43 -> 204 | R43: =IF(ISNUMBER(SEARCH("bench",$B43)),IF($C43>=0.5,IF($C43<0.6,$D43*$E43," ")," ")," ") | S43: =IF(ISNUMBER(SEARCH("bench",$B43)),IF($C43>=0.6,IF($C43<0.7,$D43*$E43," ")," ")," ") -> 4 | T43: =IF(ISNUMBER(SEARCH("bench",$B43)),IF($C43>=0.7,IF($C43<0.8,$D43*$E43," ")," ")," ") | U43: =IF(ISNUMBER(SEARCH("bench",$B43)),IF($C43>=0.8,IF($C43<0.9,$D43*$E43," ")," ")," ") | V43: =IF(ISNUMBER(SEARCH("bench",$B43)),IF($C43>=0.9,$D43*$E43," ")," ")
B44: Bench press | C44: 0.7 | D44: 3 | E44: 1 | F44: =Max!$B$3*C44 -> 59.5 | I44: =D44*E44 -> 3 | J44: =F44*I44 -> 178.5 | R44: =IF(ISNUMBER(SEARCH("bench",$B44)),IF($C44>=0.5,IF($C44<0.6,$D44*$E44," ")," ")," ") | S44: =IF(ISNUMBER(SEARCH("bench",$B44)),IF($C44>=0.6,IF($C44<0.7,$D44*$E44," ")," ")," ") | T44: =IF(ISNUMBER(SEARCH("bench",$B44)),IF($C44>=0.7,IF($C44<0.8,$D44*$E44," ")," ")," ") -> 3 | U44: =IF(ISNUMBER(SEARCH("bench",$B44)),IF($C44>=0.8,IF($C44<0.9,$D44*$E44," ")," ")," ") | V44: =IF(ISNUMBER(SEARCH("bench",$B44)),IF($C44>=0.9,$D44*$E44," ")," ")
B45: Bench press | C45: 0.75 | D45: 2 | E45: 4 | F45: =Max!$B$3*C45 -> 63.75 | I45: =D45*E45 -> 8 | J45: =F45*I45 -> 510 | R45: =IF(ISNUMBER(SEARCH("bench",$B45)),IF($C45>=0.5,IF($C45<0.6,$D45*$E45," ")," ")," ") | S45: =IF(ISNUMBER(SEARCH("bench",$B45)),IF($C45>=0.6,IF($C45<0.7,$D45*$E45," ")," ")," ") | T45: =IF(ISNUMBER(SEARCH("bench",$B45)),IF($C45>=0.7,IF($C45<0.8,$D45*$E45," ")," ")," ") -> 8 | U45: =IF(ISNUMBER(SEARCH("bench",$B45)),IF($C45>=0.8,IF($C45<0.9,$D45*$E45," ")," ")," ") | V45: =IF(ISNUMBER(SEARCH("bench",$B45)),IF($C45>=0.9,$D45*$E45," ")," ")
A46: 3 | B46: Chest Muscles | D46: 6 | E46: 5
A47: 4 | B47: Dips | D47: 5 | E47: 5
A48: 5 | B48: Goodmorning | D48: 5 | E48: 5
A50: 6 day (Saturday) | C50: % | D50: reps | E50: sets | F50: weight
A51: 1 | B51: Incline shoulder press | D51: 3 | E51: 5
A52: 2 | B52: Deadlift w/pause 5cm above knees | C52: 0.5 | D52: 3 | E52: 1 | F52: =Max!$B$4*C52 -> 80 | K52: =D52*E52 -> 3 | L52: =F52*K52 -> 240 | W52: =IF(ISNUMBER(SEARCH("deadlift",$B52)),IF($C52>=0.5,IF($C52<0.6,$D52*$E52," ")," ")," ") -> 3 | X52: =IF(ISNUMBER(SEARCH("deadlift",$B52)),IF($C52>=0.6,IF($C52<0.7,$D52*$E52," ")," ")," ") | Y52: =IF(ISNUMBER(SEARCH("deadlift",$B52)),IF($C52>=0.7,IF($C52<0.8,$D52*$E52," ")," ")," ") | Z52: =IF(ISNUMBER(SEARCH("deadlift",$B52)),IF($C52>=0.8,IF($C52<0.9,$D52*$E52," ")," ")," ") | AA52: =IF(ISNUMBER(SEARCH("deadlift",$B52)),IF($C52>=0.9,$D52*$E52," ")," ")
B53: Deadlift w/pause 5cm above knees | C53: 0.6 | D53: 3 | E53: 1 | F53: =Max!$B$4*C53 -> 96 | K53: =D53*E53 -> 3 | L53: =F53*K53 -> 288 | W53: =IF(ISNUMBER(SEARCH("deadlift",$B53)),IF($C53>=0.5,IF($C53<0.6,$D53*$E53," ")," ")," ") | X53: =IF(ISNUMBER(SEARCH("deadlift",$B53)),IF($C53>=0.6,IF($C53<0.7,$D53*$E53," ")," ")," ") -> 3 | Y53: =IF(ISNUMBER(SEARCH("deadlift",$B53)),IF($C53>=0.7,IF($C53<0.8,$D53*$E53," ")," ")," ") | Z53: =IF(ISNUMBER(SEARCH("deadlift",$B53)),IF($C53>=0.8,IF($C53<0.9,$D53*$E53," ")," ")," ") | AA53: =IF(ISNUMBER(SEARCH("deadlift",$B53)),IF($C53>=0.9,$D53*$E53," ")," ")
B54: Deadlift w/pause 5cm above knees | C54: 0.7 | D54: 3 | E54: 1 | F54: =Max!$B$4*C54 -> 112 | K54: =D54*E54 -> 3 | L54: =F54*K54 -> 336 | W54: =IF(ISNUMBER(SEARCH("deadlift",$B54)),IF($C54>=0.5,IF($C54<0.6,$D54*$E54," ")," ")," ") | X54: =IF(ISNUMBER(SEARCH("deadlift",$B54)),IF($C54>=0.6,IF($C54<0.7,$D54*$E54," ")," ")," ") | Y54: =IF(ISNUMBER(SEARCH("deadlift",$B54)),IF($C54>=0.7,IF($C54<0.8,$D54*$E54," ")," ")," ") -> 3 | Z54: =IF(ISNUMBER(SEARCH("deadlift",$B54)),IF($C54>=0.8,IF($C54<0.9,$D54*$E54," ")," ")," ") | AA54: =IF(ISNUMBER(SEARCH("deadlift",$B54)),IF($C54>=0.9,$D54*$E54," ")," ")
B55: Deadlift w/pause 5cm above knees | C55: 0.75 | D55: 2 | E55: 4 | F55: =Max!$B$4*C55 -> 120 | K55: =D55*E55 -> 8 | L55: =F55*K55 -> 960 | W55: =IF(ISNUMBER(SEARCH("deadlift",$B55)),IF($C55>=0.5,IF($C55<0.6,$D55*$E55," ")," ")," ") | X55: =IF(ISNUMBER(SEARCH("deadlift",$B55)),IF($C55>=0.6,IF($C55<0.7,$D55*$E55," ")," ")," ") | Y55: =IF(ISNUMBER(SEARCH("deadlift",$B55)),IF($C55>=0.7,IF($C55<0.8,$D55*$E55," ")," ")," ") -> 8 | Z55: =IF(ISNUMBER(SEARCH("deadlift",$B55)),IF($C55>=0.8,IF($C55<0.9,$D55*$E55," ")," ")," ") | AA55: =IF(ISNUMBER(SEARCH("deadlift",$B55)),IF($C55>=0.9,$D55*$E55," ")," ")
A56: 2 | B56: Lat Muscles | D56: 6 | E56: 4
A57: 4 | B57: Hyperextension | D57: 8 | E57: 4
G58: =SUM(G7:G57) -> 55 | H58: =SUM(H7:H57) -> 7500 | I58: =SUM(I7:I57) -> 62 | J58: =SUM(J7:J57) -> 3527.5 | K58: =SUM(K7:K57) -> 35 | L58: =SUM(L7:L57) -> 4176 | M58: =SUM(M7:M57) -> 13 | N58: =SUM(N7:N57) -> 11 | ... AA58: =SUM(AA7:AA57) -> 6
A59: week 2
A60: 1 day (Monday) | C60: % | D60: reps | E60: sets | F60: weight
A61: 1 | B61: Squat | C61: 0.5 | D61: 5 | E61: 1 | F61: =Max!$B$2*C61 -> 100 | G61: =D61*E61 -> 5 | H61: =F61*G61 -> 500 | M61: =IF(ISNUMBER(SEARCH("squat",$B61)),IF($C61>=0.5,IF($C61<0.6,$D61*$E61," ")," ")," ") -> 5 | N61: =IF(ISNUMBER(SEARCH("squat",$B61)),IF($C61>=0.6,IF($C61<0.7,$D61*$E61," ")," ")," ") | O61: =IF(ISNUMBER(SEARCH("squat",$B61)),IF($C61>=0.7,IF($C61<0.8,$D61*$E61," ")," ")," ") | P61: =IF(ISNUMBER(SEARCH("squat",$B61)),IF($C61>=0.8,IF($C61<0.9,$D61*$E61," ")," ")," ") | Q61: =IF(ISNUMBER(SEARCH("squat",$B61)),IF($C61>=0.9,$D61*$E61," ")," ")
B62: Squat | C62: 0.6 | D62: 4 | E62: 1 | F62: =Max!$B$2*C62 -> 120 | G62: =D62*E62 -> 4 | H62: =F62*G62 -> 480 | M62: =IF(ISNUMBER(SEARCH("squat",$B62)),IF($C62>=0.5,IF($C62<0.6,$D62*$E62," ")," ")," ") | N62: =IF(ISNUMBER(SEARCH("squat",$B62)),IF($C62>=0.6,IF($C62<0.7,$D62*$E62," ")," ")," ") -> 4 | O62: =IF(ISNUMBER(SEARCH("squat",$B62)),IF($C62>=0.7,IF($C62<0.8,$D62*$E62," ")," ")," ") | P62: =IF(ISNUMBER(SEARCH("squat",$B62)),IF($C62>=0.8,IF($C62<0.9,$D62*$E62," ")," ")," ") | Q62: =IF(ISNUMBER(SEARCH("squat",$B62)),IF($C62>=0.9,$D62*$E62," ")," ")
B63: Squat | C63: 0.7 | D63: 3 | E63: 1 | F63: =Max!$B$2*C63 -> 140 | G63: =D63*E63 -> 3 | H63: =F63*G63 -> 420 | M63: =IF(ISNUMBER(SEARCH("squat",$B63)),IF($C63>=0.5,IF($C63<0.6,$D63*$E63," ")," ")," ") | N63: =IF(ISNUMBER(SEARCH("squat",$B63)),IF($C63>=0.6,IF($C63<0.7,$D63*$E63," ")," ")," ") | O63: =IF(ISNUMBER(SEARCH("squat",$B63)),IF($C63>=0.7,IF($C63<0.8,$D63*$E63," ")," ")," ") -> 3 | P63: =IF(ISNUMBER(SEARCH("squat",$B63)),IF($C63>=0.8,IF($C63<0.9,$D63*$E63," ")," ")," ") | Q63: =IF(ISNUMBER(SEARCH("squat",$B63)),IF($C63>=0.9,$D63*$E63," ")," ")
B64: Squat | C64: 0.8 | D64: 2 | E64: 1 | F64: =Max!$B$2*C64 -> 160 | G64: =D64*E64 -> 2 | H64: =F64*G64 -> 320 | M64: =IF(ISNUMBER(SEARCH("squat",$B64)),IF($C64>=0.5,IF($C64<0.6,$D64*$E64," ")," ")," ") | N64: =IF(ISNUMBER(SEARCH("squat",$B64)),IF($C64>=0.6,IF($C64<0.7,$D64*$E64," ")," ")," ") | O64: =IF(ISNUMBER(SEARCH("squat",$B64)),IF($C64>=0.7,IF($C64<0.8,$D64*$E64," ")," ")," ") | P64: =IF(ISNUMBER(SEARCH("squat",$B64)),IF($C64>=0.8,IF($C64<0.9,$D64*$E64," ")," ")," ") -> 2 | Q64: =IF(ISNUMBER(SEARCH("squat",$B64)),IF($C64>=0.9,$D64*$E64," ")," ")
B65: Squat | C65: 0.9 | D65: 1 | E65: 1 | F65: =Max!$B$2*C65 -> 180 | G65: =D65*E65 -> 1 | H65: =F65*G65 -> 180 | M65: =IF(ISNUMBER(SEARCH("squat",$B65)),IF($C65>=0.5,IF($C65<0.6,$D65*$E65," ")," ")," ") | N65: =IF(ISNUMBER(SEARCH("squat",$B65)),IF($C65>=0.6,IF($C65<0.7,$D65*$E65," ")," ")," ") | O65: =IF(ISNUMBER(SEARCH("squat",$B65)),IF($C65>=0.7,IF($C65<0.8,$D65*$E65," ")," ")," ") | P65: =IF(ISNUMBER(SEARCH("squat",$B65)),IF($C65>=0.8,IF($C65<0.9,$D65*$E65," ")," ")," ") | Q65: =IF(ISNUMBER(SEARCH("squat",$B65)),IF($C65>=0.9,$D65*$E65," ")," ") -> 1
B66: Squat | C66: 0.95 | D66: 1 | E66: 1 | F66: =Max!$B$2*C66 -> 190 | G66: =D66*E66 -> 1 | H66: =F66*G66 -> 190 | M66: =IF(ISNUMBER(SEARCH("squat",$B66)),IF($C66>=0.5,IF($C66<0.6,$D66*$E66," ")," ")," ") | N66: =IF(ISNUMBER(SEARCH("squat",$B66)),IF($C66>=0.6,IF($C66<0.7,$D66*$E66," ")," ")," ") | O66: =IF(ISNUMBER(SEARCH("squat",$B66)),IF($C66>=0.7,IF($C66<0.8,$D66*$E66," ")," ")," ") | P66: =IF(ISNUMBER(SEARCH("squat",$B66)),IF($C66>=0.8,IF($C66<0.9,$D66*$E66," ")," ")," ") | Q66: =IF(ISNUMBER(SEARCH("squat",$B66)),IF($C66>=0.9,$D66*$E66," ")," ") -> 1
B67: Squat | C67: 100%-105% | D67: 1 | E67: 2-3 | F67: =Max!$B$2*MID(C67,1,4)&"-"&Max!$B$2*MID(C67,6,8) -> 200-210 | G67: 3 | H67: 300 | M67: =IF(ISNUMBER(SEARCH("squat",$B67)),IF($C67>=0.5,IF($C67<0.6,$D67*$E67," ")," ")," ") | N67: =IF(ISNUMBER(SEARCH("squat",$B67)),IF($C67>=0.6,IF($C67<0.7,$D67*$E67," ")," ")," ") | O67: =IF(ISNUMBER(SEARCH("squat",$B67)),IF($C67>=0.7,IF($C67<0.8,$D67*$E67," ")," ")," ") | P67: =IF(ISNUMBER(SEARCH("squat",$B67)),IF($C67>=0.8,IF($C67<0.9,$D67*$E67," ")," ")," ") | Q67: 3
A68: 2 | B68: Bench press | C68: 0.5 | D68: 5 | E68: 1 | F68: =Max!$B$3*C68 -> 42.5 | I68: =D68*E68 -> 5 | J68: =F68*I68 -> 212.5 | R68: =IF(ISNUMBER(SEARCH("bench",$B68)),IF($C68>=0.5,IF($C68<0.6,$D68*$E68," ")," ")," ") -> 5 | S68: =IF(ISNUMBER(SEARCH("bench",$B68)),IF($C68>=0.6,IF($C68<0.7,$D68*$E68," ")," ")," ") | T68: =IF(ISNUMBER(SEARCH("bench",$B68)),IF($C68>=0.7,IF($C68<0.8,$D68*$E68," ")," ")," ") | U68: =IF(ISNUMBER(SEARCH("bench",$B68)),IF($C68>=0.8,IF($C68<0.9,$D68*$E68," ")," ")," ") | V68: =IF(ISNUMBER(SEARCH("bench",$B68)),IF($C68>=0.9,$D68*$E68," ")," ")
B69: Bench press | C69: 0.6 | D69: 4 | E69: 1 | F69: =Max!$B$3*C69 -> 51 | I69: =D69*E69 -> 4 | J69: =F69*I69 -> 204 | R69: =IF(ISNUMBER(SEARCH("bench",$B69)),IF($C69>=0.5,IF($C69<0.6,$D69*$E69," ")," ")," ") | S69: =IF(ISNUMBER(SEARCH("bench",$B69)),IF($C69>=0.6,IF($C69<0.7,$D69*$E69," ")," ")," ") -> 4 | T69: =IF(ISNUMBER(SEARCH("bench",$B69)),IF($C69>=0.7,IF($C69<0.8,$D69*$E69," ")," ")," ") | U69: =IF(ISNUMBER(SEARCH("bench",$B69)),IF($C69>=0.8,IF($C69<0.9,$D69*$E69," ")," ")," ") | V69: =IF(ISNUMBER(SEARCH("bench",$B69)),IF($C69>=0.9,$D69*$E69," ")," ")
B70: Bench press | C70: 0.7 | D70: 3 | E70: 1 | F70: =Max!$B$3*C70 -> 59.5 | I70: =D70*E70 -> 3 | J70: =F70*I70 -> 178.5 | R70: =IF(ISNUMBER(SEARCH("bench",$B70)),IF($C70>=0.5,IF($C70<0.6,$D70*$E70," ")," ")," ") | S70: =IF(ISNUMBER(SEARCH("bench",$B70)),IF($C70>=0.6,IF($C70<0.7,$D70*$E70," ")," ")," ") | T70: =IF(ISNUMBER(SEARCH("bench",$B70)),IF($C70>=0.7,IF($C70<0.8,$D70*$E70," ")," ")," ") -> 3 | U70: =IF(ISNUMBER(SEARCH("bench",$B70)),IF($C70>=0.8,IF($C70<0.9,$D70*$E70," ")," ")," ") | V70: =IF(ISNUMBER(SEARCH("bench",$B70)),IF($C70>=0.9,$D70*$E70," ")," ")
B71: Bench press | C71: 0.75 | D71: 2 | E71: 3 | F71: =Max!$B$3*C71 -> 63.75 | I71: =D71*E71 -> 6 | J71: =F71*I71 -> 382.5 | R71: =IF(ISNUMBER(SEARCH("bench",$B71)),IF($C71>=0.5,IF($C71<0.6,$D71*$E71," ")," ")," ") | S71: =IF(ISNUMBER(SEARCH("bench",$B71)),IF($C71>=0.6,IF($C71<0.7,$D71*$E71," ")," ")," ") | T71: =IF(ISNUMBER(SEARCH("bench",$B71)),IF($C71>=0.7,IF($C71<0.8,$D71*$E71," ")," ")," ") -> 6 | U71: =IF(ISNUMBER(SEARCH("bench",$B71)),IF($C71>=0.8,IF($C71<0.9,$D71*$E71," ")," ")," ") | V71: =IF(ISNUMBER(SEARCH("bench",$B71)),IF($C71>=0.9,$D71*$E71," ")," ")
A72: 3 | B72: Chest Muscles | D72: 5 | E72: 3
A73: 4 | B73: Hyperextension | D73: 8 | E73: 4
A75: 3 day (Wednesday) | C75: % | D75: reps | E75: sets | F75: weight
A76: 1 | B76: Bench press | C76: 0.5 | D76: 5 | E76: 1 | F76: =Max!$B$3*C76 -> 42.5 | I76: =D76*E76 -> 5 | J76: =F76*I76 -> 212.5 | R76: =IF(ISNUMBER(SEARCH("bench",$B76)),IF($C76>=0.5,IF($C76<0.6,$D76*$E76," ")," ")," ") -> 5 | S76: =IF(ISNUMBER(SEARCH("bench",$B76)),IF($C76>=0.6,IF($C76<0.7,$D76*$E76," ")," ")," ") | T76: =IF(ISNUMBER(SEARCH("bench",$B76)),IF($C76>=0.7,IF($C76<0.8,$D76*$E76," ")," ")," ") | U76: =IF(ISNUMBER(SEARCH("bench",$B76)),IF($C76>=0.8,IF($C76<0.9,$D76*$E76," ")," ")," ") | V76: =IF(ISNUMBER(SEARCH("bench",$B76)),IF($C76>=0.9,$D76*$E76," ")," ")
B77: Bench press | C77: 0.6 | D77: 4 | E77: 1 | F77: =Max!$B$3*C77 -> 51 | I77: =D77*E77 -> 4 | J77: =F77*I77 -> 204 | R77: =IF(ISNUMBER(SEARCH("bench",$B77)),IF($C77>=0.5,IF($C77<0.6,$D77*$E77," ")," ")," ") | S77: =IF(ISNUMBER(SEARCH("bench",$B77)),IF($C77>=0.6,IF($C77<0.7,$D77*$E77," ")," ")," ") -> 4 | T77: =IF(ISNUMBER(SEARCH("bench",$B77)),IF($C77>=0.7,IF($C77<0.8,$D77*$E77," ")," ")," ") | U77: =IF(ISNUMBER(SEARCH("bench",$B77)),IF($C77>=0.8,IF($C77<0.9,$D77*$E77," ")," ")," ") | V77: =IF(ISNUMBER(SEARCH("bench",$B77)),IF($C77>=0.9,$D77*$E77," ")," ")
B78: Bench press | C78: 0.7 | D78: 3 | E78: 1 | F78: =Max!$B$3*C78 -> 59.5 | I78: =D78*E78 -> 3 | J78: =F78*I78 -> 178.5 | R78: =IF(ISNUMBER(SEARCH("bench",$B78)),IF($C78>=0.5,IF($C78<0.6,$D78*$E78," ")," ")," ") | S78: =IF(ISNUMBER(SEARCH("bench",$B78)),IF($C78>=0.6,IF($C78<0.7,$D78*$E78," ")," ")," ") | T78: =IF(ISNUMBER(SEARCH("bench",$B78)),IF($C78>=0.7,IF($C78<0.8,$D78*$E78," ")," ")," ") -> 3 | U78: =IF(ISNUMBER(SEARCH("bench",$B78)),IF($C78>=0.8,IF($C78<0.9,$D78*$E78," ")," ")," ") | V78: =IF(ISNUMBER(SEARCH("bench",$B78)),IF($C78>=0.9,$D78*$E78," ")," ")
B79: Bench press | C79: 0.8 | D79: 2 | E79: 1 | F79: =Max!$B$3*C79 -> 68 | I79: =D79*E79 -> 2 | J79: =F79*I79 -> 136 | R79: =IF(ISNUMBER(SEARCH("bench",$B79)),IF($C79>=0.5,IF($C79<0.6,$D79*$E79," ")," ")," ") | S79: =IF(ISNUMBER(SEARCH("bench",$B79)),IF($C79>=0.6,IF($C79<0.7,$D79*$E79," ")," ")," ") | T79: =IF(ISNUMBER(SEARCH("bench",$B79)),IF($C79>=0.7,IF($C79<0.8,$D79*$E79," ")," ")," ") | U79: =IF(ISNUMBER(SEARCH("bench",$B79)),IF($C79>=0.8,IF($C79<0.9,$D79*$E79," ")," ")," ") -> 2 | V79: =IF(ISNUMBER(SEARCH("bench",$B79)),IF($C79>=0.9,$D79*$E79," ")," ")
B80: Bench press | C80: 0.9 | D80: 1 | E80: 1 | F80: =Max!$B$3*C80 -> 76.5 | I80: =D80*E80 -> 1 | J80: =F80*I80 -> 76.5 | R80: =IF(ISNUMBER(SEARCH("bench",$B80)),IF($C80>=0.5,IF($C80<0.6,$D80*$E80," ")," ")," ") | S80: =IF(ISNUMBER(SEARCH("bench",$B80)),IF($C80>=0.6,IF($C80<0.7,$D80*$E80," ")," ")," ") | T80: =IF(ISNUMBER(SEARCH("bench",$B80)),IF($C80>=0.7,IF($C80<0.8,$D80*$E80," ")," ")," ") | U80: =IF(ISNUMBER(SEARCH("bench",$B80)),IF($C80>=0.8,IF($C80<0.9,$D80*$E80," ")," ")," ") | V80: =IF(ISNUMBER(SEARCH("bench",$B80)),IF($C80>=0.9,$D80*$E80," ")," ") -> 1
B81: Bench press | C81: 0.95 | D81: 1 | E81: 1 | F81: =Max!$B$3*C81 -> 80.75 | I81: =D81*E81 -> 1 | J81: =F81*I81 -> 80.75 | R81: =IF(ISNUMBER(SEARCH("bench",$B81)),IF($C81>=0.5,IF($C81<0.6,$D81*$E81," ")," ")," ") | S81: =IF(ISNUMBER(SEARCH("bench",$B81)),IF($C81>=0.6,IF($C81<0.7,$D81*$E81," ")," ")," ") | T81: =IF(ISNUMBER(SEARCH("bench",$B81)),IF($C81>=0.7,IF($C81<0.8,$D81*$E81," ")," ")," ") | U81: =IF(ISNUMBER(SEARCH("bench",$B81)),IF($C81>=0.8,IF($C81<0.9,$D81*$E81," ")," ")," ") | V81: =IF(ISNUMBER(SEARCH("bench",$B81)),IF($C81>=0.9,$D81*$E81," ")," ") -> 1
B82: Bench press | C82: 100%-105% | D82: 1 | E82: 2-3 | F82: =Max!$B$3*MID(C82,1,4)&"-"&Max!$B$3*MID(C82,6,8) -> 85-89,25 | I82: 3 | J82: 300 | R82: =IF(ISNUMBER(SEARCH("bench",$B82)),IF($C82>=0.5,IF($C82<0.6,$D82*$E82," ")," ")," ") | S82: =IF(ISNUMBER(SEARCH("bench",$B82)),IF($C82>=0.6,IF($C82<0.7,$D82*$E82," ")," ")," ") | T82: =IF(ISNUMBER(SEARCH("bench",$B82)),IF($C82>=0.7,IF($C82<0.8,$D82*$E82," ")," ")," ") | U82: =IF(ISNUMBER(SEARCH("bench",$B82)),IF($C82>=0.8,IF($C82<0.9,$D82*$E82," ")," ")," ") | V82: 3
A83: 2 | B83: Deadlift up to knees | C83: 0.5 | D83: 5 | E83: 1 | F83: =Max!$B$3*C83 -> 42.5 | K83: =D83*E83 -> 5 | L83: =F83*K83 -> 212.5 | W83: =IF(ISNUMBER(SEARCH("deadlift",$B83)),IF($C83>=0.5,IF($C83<0.6,$D83*$E83," ")," ")," ") -> 5 | X83: =IF(ISNUMBER(SEARCH("deadlift",$B83)),IF($C83>=0.6,IF($C83<0.7,$D83*$E83," ")," ")," ") | Y83: =IF(ISNUMBER(SEARCH("deadlift",$B83)),IF($C83>=0.7,IF($C83<0.8,$D83*$E83," ")," ")," ") | Z83: =IF(ISNUMBER(SEARCH("deadlift",$B83)),IF($C83>=0.8,IF($C83<0.9,$D83*$E83," ")," ")," ") | AA83: =IF(ISNUMBER(SEARCH("deadlift",$B83)),IF($C83>=0.9,$D83*$E83," ")," ")
B84: Deadlift up to knees | C84: 0.6 | D84: 4 | E84: 1 | F84: =Max!$B$3*C84 -> 51 | K84: =D84*E84 -> 4 | L84: =F84*K84 -> 204 | W84: =IF(ISNUMBER(SEARCH("deadlift",$B84)),IF($C84>=0.5,IF($C84<0.6,$D84*$E84," ")," ")," ") | X84: =IF(ISNUMBER(SEARCH("deadlift",$B84)),IF($C84>=0.6,IF($C84<0.7,$D84*$E84," ")," ")," ") -> 4 | Y84: =IF(ISNUMBER(SEARCH("deadlift",$B84)),IF($C84>=0.7,IF($C84<0.8,$D84*$E84," ")," ")," ") | Z84: =IF(ISNUMBER(SEARCH("deadlift",$B84)),IF($C84>=0.8,IF($C84<0.9,$D84*$E84," ")," ")," ") | AA84: =IF(ISNUMBER(SEARCH("deadlift",$B84)),IF($C84>=0.9,$D84*$E84," ")," ")
B85: Deadlift up to knees | C85: 0.7 | D85: 3 | E85: 1 | F85: =Max!$B$3*C85 -> 59.5 | K85: =D85*E85 -> 3 | L85: =F85*K85 -> 178.5 | W85: =IF(ISNUMBER(SEARCH("deadlift",$B85)),IF($C85>=0.5,IF($C85<0.6,$D85*$E85," ")," ")," ") | X85: =IF(ISNUMBER(SEARCH("deadlift",$B85)),IF($C85>=0.6,IF($C85<0.7,$D85*$E85," ")," ")," ") | Y85: =IF(ISNUMBER(SEARCH("deadlift",$B85)),IF($C85>=0.7,IF($C85<0.8,$D85*$E85," ")," ")," ") -> 3 | Z85: =IF(ISNUMBER(SEARCH("deadlift",$B85)),IF($C85>=0.8,IF($C85<0.9,$D85*$E85," ")," ")," ") | AA85: =IF(ISNUMBER(SEARCH("deadlift",$B85)),IF($C85>=0.9,$D85*$E85," ")," ")
B86: Deadlift up to knees | C86: 0.8 | D86: 2 | E86: 1 | F86: =Max!$B$3*C86 -> 68 | K86: =D86*E86 -> 2 | L86: =F86*K86 -> 136 | W86: =IF(ISNUMBER(SEARCH("deadlift",$B86)),IF($C86>=0.5,IF($C86<0.6,$D86*$E86," ")," ")," ") | X86: =IF(ISNUMBER(SEARCH("deadlift",$B86)),IF($C86>=0.6,IF($C86<0.7,$D86*$E86," ")," ")," ") | Y86: =IF(ISNUMBER(SEARCH("deadlift",$B86)),IF($C86>=0.7,IF($C86<0.8,$D86*$E86," ")," ")," ") | Z86: =IF(ISNUMBER(SEARCH("deadlift",$B86)),IF($C86>=0.8,IF($C86<0.9,$D86*$E86," ")," ")," ") -> 2 | AA86: =IF(ISNUMBER(SEARCH("deadlift",$B86)),IF($C86>=0.9,$D86*$E86," ")," ")
B87: Deadlift up to knees | C87: 0.9 | D87: 1 | E87: 1 | F87: =Max!$B$3*C87 -> 76.5 | K87: =D87*E87 -> 1 | L87: =F87*K87 -> 76.5 | W87: =IF(ISNUMBER(SEARCH("deadlift",$B87)),IF($C87>=0.5,IF($C87<0.6,$D87*$E87," ")," ")," ") | X87: =IF(ISNUMBER(SEARCH("deadlift",$B87)),IF($C87>=0.6,IF($C87<0.7,$D87*$E87," ")," ")," ") | Y87: =IF(ISNUMBER(SEARCH("deadlift",$B87)),IF($C87>=0.7,IF($C87<0.8,$D87*$E87," ")," ")," ") | Z87: =IF(ISNUMBER(SEARCH("deadlift",$B87)),IF($C87>=0.8,IF($C87<0.9,$D87*$E87," ")," ")," ") | AA87: =IF(ISNUMBER(SEARCH("deadlift",$B87)),IF($C87>=0.9,$D87*$E87," ")," ") -> 1
B88: Deadlift up to knees | C88: 0.95 | D88: 1 | E88: 1 | F88: =Max!$B$3*C88 -> 80.75 | K88: =D88*E88 -> 1 | L88: =F88*K88 -> 80.75 | W88: =IF(ISNUMBER(SEARCH("deadlift",$B88)),IF($C88>=0.5,IF($C88<0.6,$D88*$E88," ")," ")," ") | X88: =IF(ISNUMBER(SEARCH("deadlift",$B88)),IF($C88>=0.6,IF($C88<0.7,$D88*$E88," ")," ")," ") | Y88: =IF(ISNUMBER(SEARCH("deadlift",$B88)),IF($C88>=0.7,IF($C88<0.8,$D88*$E88," ")," ")," ") | Z88: =IF(ISNUMBER(SEARCH("deadlift",$B88)),IF($C88>=0.8,IF($C88<0.9,$D88*$E88," ")," ")," ") | AA88: =IF(ISNUMBER(SEARCH("deadlift",$B88)),IF($C88>=0.9,$D88*$E88," ")," ") -> 1
B89: Deadlift up to knees | C89: 100%-105% | D89: 1 | E89: 2-3 | F89: =Max!$B$4*MID(C89,1,4)&"-"&Max!$B$4*MID(C89,6,8) -> 160-168 | K89: 3 | L89: 300 | W89: =IF(ISNUMBER(SEARCH("deadlift",$B89)),IF($C89>=0.5,IF($C89<0.6,$D89*$E89," ")," ")," ") | X89: =IF(ISNUMBER(SEARCH("deadlift",$B89)),IF($C89>=0.6,IF($C89<0.7,$D89*$E89," ")," ")," ") | Y89: =IF(ISNUMBER(SEARCH("deadlift",$B89)),IF($C89>=0.7,IF($C89<0.8,$D89*$E89," ")," ")," ") | Z89: =IF(ISNUMBER(SEARCH("deadlift",$B89)),IF($C89>=0.8,IF($C89<0.9,$D89*$E89," ")," ")," ") | AA89: 3
A90: 3 | B90: Delts | D90: 6 | E90: 4
A91: 4 | B91: Lat Muscles | D91: 6 | E91: 4
A93: 5 day (Friday) | C93: % | D93: reps | E93: sets | F93: weight
A94: 1 | B94: Squat | C94: 0.5 | D94: 5 | E94: 1 | F94: =Max!$B$2*C94 -> 100 | G94: =D94*E94 -> 5 | H94: =F94*G94 -> 500 | M94: =IF(ISNUMBER(SEARCH("squat",$B94)),IF($C94>=0.5,IF($C94<0.6,$D94*$E94," ")," ")," ") -> 5 | N94: =IF(ISNUMBER(SEARCH("squat",$B94)),IF($C94>=0.6,IF($C94<0.7,$D94*$E94," ")," ")," ") | O94: =IF(ISNUMBER(SEARCH("squat",$B94)),IF($C94>=0.7,IF($C94<0.8,$D94*$E94," ")," ")," ") | P94: =IF(ISNUMBER(SEARCH("squat",$B94)),IF($C94>=0.8,IF($C94<0.9,$D94*$E94," ")," ")," ") | Q94: =IF(ISNUMBER(SEARCH("squat",$B94)),IF($C94>=0.9,$D94*$E94," ")," ")
B95: Squat | C95: 0.6 | D95: 4 | E95: 1 | F95: =Max!$B$2*C95 -> 120 | G95: =D95*E95 -> 4 | H95: =F95*G95 -> 480 | M95: =IF(ISNUMBER(SEARCH("squat",$B95)),IF($C95>=0.5,IF($C95<0.6,$D95*$E95," ")," ")," ") | N95: =IF(ISNUMBER(SEARCH("squat",$B95)),IF($C95>=0.6,IF($C95<0.7,$D95*$E95," ")," ")," ") -> 4 | O95: =IF(ISNUMBER(SEARCH("squat",$B95)),IF($C95>=0.7,IF($C95<0.8,$D95*$E95," ")," ")," ") | P95: =IF(ISNUMBER(SEARCH("squat",$B95)),IF($C95>=0.8,IF($C95<0.9,$D95*$E95," ")," ")," ") | Q95: =IF(ISNUMBER(SEARCH("squat",$B95)),IF($C95>=0.9,$D95*$E95," ")," ")
B96: Squat | C96: 0.7 | D96: 3 | E96: 1 | F96: =Max!$B$2*C96 -> 140 | G96: =D96*E96 -> 3 | H96: =F96*G96 -> 420 | M96: =IF(ISNUMBER(SEARCH("squat",$B96)),IF($C96>=0.5,IF($C96<0.6,$D96*$E96," ")," ")," ") | N96: =IF(ISNUMBER(SEARCH("squat",$B96)),IF($C96>=0.6,IF($C96<0.7,$D96*$E96," ")," ")," ") | O96: =IF(ISNUMBER(SEARCH("squat",$B96)),IF($C96>=0.7,IF($C96<0.8,$D96*$E96," ")," ")," ") -> 3 | P96: =IF(ISNUMBER(SEARCH("squat",$B96)),IF($C96>=0.8,IF($C96<0.9,$D96*$E96," ")," ")," ") | Q96: =IF(ISNUMBER(SEARCH("squat",$B96)),IF($C96>=0.9,$D96*$E96," ")," ")
B97: Squat | C97: 0.8 | D97: 2 | E97: 4 | F97: =Max!$B$2*C97 -> 160 | G97: =D97*E97 -> 8 | H97: =F97*G97 -> 1280 | M97: =IF(ISNUMBER(SEARCH("squat",$B97)),IF($C97>=0.5,IF($C97<0.6,$D97*$E97," ")," ")," ") | N97: =IF(ISNUMBER(SEARCH("squat",$B97)),IF($C97>=0.6,IF($C97<0.7,$D97*$E97," ")," ")," ") | O97: =IF(ISNUMBER(SEARCH("squat",$B97)),IF($C97>=0.7,IF($C97<0.8,$D97*$E97," ")," ")," ") | P97: =IF(ISNUMBER(SEARCH("squat",$B97)),IF($C97>=0.8,IF($C97<0.9,$D97*$E97," ")," ")," ") -> 8 | Q97: =IF(ISNUMBER(SEARCH("squat",$B97)),IF($C97>=0.9,$D97*$E97," ")," ")
A98: 2 | B98: Bench press | C98: 0.5 | D98: 5 | E98: 1 | F98: =Max!$B$3*C98 -> 42.5 | I98: =D98*E98 -> 5 | J98: =F98*I98 -> 212.5 | R98: =IF(ISNUMBER(SEARCH("bench",$B98)),IF($C98>=0.5,IF($C98<0.6,$D98*$E98," ")," ")," ") -> 5 | S98: =IF(ISNUMBER(SEARCH("bench",$B98)),IF($C98>=0.6,IF($C98<0.7,$D98*$E98," ")," ")," ") | T98: =IF(ISNUMBER(SEARCH("bench",$B98)),IF($C98>=0.7,IF($C98<0.8,$D98*$E98," ")," ")," ") | U98: =IF(ISNUMBER(SEARCH("bench",$B98)),IF($C98>=0.8,IF($C98<0.9,$D98*$E98," ")," ")," ") | V98: =IF(ISNUMBER(SEARCH("bench",$B98)),IF($C98>=0.9,$D98*$E98," ")," ")
B99: Bench press | C99: 0.6 | D99: 4 | E99: 1 | F99: =Max!$B$3*C99 -> 51 | I99: =D99*E99 -> 4 | J99: =F99*I99 -> 204 | R99: =IF(ISNUMBER(SEARCH("bench",$B99)),IF($C99>=0.5,IF($C99<0.6,$D99*$E99," ")," ")," ") | S99: =IF(ISNUMBER(SEARCH("bench",$B99)),IF($C99>=0.6,IF($C99<0.7,$D99*$E99," ")," ")," ") -> 4 | T99: =IF(ISNUMBER(SEARCH("bench",$B99)),IF($C99>=0.7,IF($C99<0.8,$D99*$E99," ")," ")," ") | U99: =IF(ISNUMBER(SEARCH("bench",$B99)),IF($C99>=0.8,IF($C99<0.9,$D99*$E99," ")," ")," ") | V99: =IF(ISNUMBER(SEARCH("bench",$B99)),IF($C99>=0.9,$D99*$E99," ")," ")
B100: Bench press | C100: 0.7 | D100: 3 | E100: 1 | F100: =Max!$B$3*C100 -> 59.5 | I100: =D100*E100 -> 3 | J100: =F100*I100 -> 178.5 | R100: =IF(ISNUMBER(SEARCH("bench",$B100)),IF($C100>=0.5,IF($C100<0.6,$D100*$E100," ")," ")," ") | S100: =IF(ISNUMBER(SEARCH("bench",$B100)),IF($C100>=0.6,IF($C100<0.7,$D100*$E100," ")," ")," ") | T100: =IF(ISNUMBER(SEARCH("bench",$B100)),IF($C100>=0.7,IF($C100<0.8,$D100*$E100," ")," ")," ") -> 3 | U100: =IF(ISNUMBER(SEARCH("bench",$B100)),IF($C100>=0.8,IF($C100<0.9,$D100*$E100," ")," ")," ") | V100: =IF(ISNUMBER(SEARCH("bench",$B100)),IF($C100>=0.9,$D100*$E100," ")," ")
B101: Bench press | C101: 0.75 | D101: 3 | E101: 5 | F101: =Max!$B$3*C101 -> 63.75 | I101: =D101*E101 -> 15 | J101: =F101*I101 -> 956.25 | R101: =IF(ISNUMBER(SEARCH("bench",$B101)),IF($C101>=0.5,IF($C101<0.6,$D101*$E101," ")," ")," ") | S101: =IF(ISNUMBER(SEARCH("bench",$B101)),IF($C101>=0.6,IF($C101<0.7,$D101*$E101," ")," ")," ") | T101: =IF(ISNUMBER(SEARCH("bench",$B101)),IF($C101>=0.7,IF($C101<0.8,$D101*$E101," ")," ")," ") -> 15 | U101: =IF(ISNUMBER(SEARCH("bench",$B101)),IF($C101>=0.8,IF($C101<0.9,$D101*$E101," ")," ")," ") | V101: =IF(ISNUMBER(SEARCH("bench",$B101)),IF($C101>=0.9,$D101*$E101," ")," ")
A102: 4 | B102: Squat | C102: 0.5 | D102: 5 | E102: 1 | F102: =Max!$B$2*C102 -> 100 | G102: =D102*E102 -> 5 | H102: =F102*G102 -> 500 | M102: =IF(ISNUMBER(SEARCH("squat",$B102)),IF($C102>=0.5,IF($C102<0.6,$D102*$E102," ")," ")," ") -> 5 | N102: =IF(ISNUMBER(SEARCH("squat",$B102)),IF($C102>=0.6,IF($C102<0.7,$D102*$E102," ")," ")," ") | O102: =IF(ISNUMBER(SEARCH("squat",$B102)),IF($C102>=0.7,IF($C102<0.8,$D102*$E102," ")," ")," ") | P102: =IF(ISNUMBER(SEARCH("squat",$B102)),IF($C102>=0.8,IF($C102<0.9,$D102*$E102," ")," ")," ") | Q102: =IF(ISNUMBER(SEARCH("squat",$B102)),IF($C102>=0.9,$D102*$E102," ")," ")
B103: Squat | C103: 0.6 | D103: 5 | E103: 1 | F103: =Max!$B$2*C103 -> 120 | G103: =D103*E103 -> 5 | H103: =F103*G103 -> 600 | M103: =IF(ISNUMBER(SEARCH("squat",$B103)),IF($C103>=0.5,IF($C103<0.6,$D103*$E103," ")," ")," ") | N103: =IF(ISNUMBER(SEARCH("squat",$B103)),IF($C103>=0.6,IF($C103<0.7,$D103*$E103," ")," ")," ") -> 5 | O103: =IF(ISNUMBER(SEARCH("squat",$B103)),IF($C103>=0.7,IF($C103<0.8,$D103*$E103," ")," ")," ") | P103: =IF(ISNUMBER(SEARCH("squat",$B103)),IF($C103>=0.8,IF($C103<0.9,$D103*$E103," ")," ")," ") | Q103: =IF(ISNUMBER(SEARCH("squat",$B103)),IF($C103>=0.9,$D103*$E103," ")," ")
B104: Squat | C104: 0.7 | D104: 5 | E104: 4 | F104: =Max!$B$2*C104 -> 140 | G104: =D104*E104 -> 20 | H104: =F104*G104 -> 2800 | M104: =IF(ISNUMBER(SEARCH("squat",$B104)),IF($C104>=0.5,IF($C104<0.6,$D104*$E104," ")," ")," ") | N104: =IF(ISNUMBER(SEARCH("squat",$B104)),IF($C104>=0.6,IF($C104<0.7,$D104*$E104," ")," ")," ") | O104: =IF(ISNUMBER(SEARCH("squat",$B104)),IF($C104>=0.7,IF($C104<0.8,$D104*$E104," ")," ")," ") -> 20 | P104: =IF(ISNUMBER(SEARCH("squat",$B104)),IF($C104>=0.8,IF($C104<0.9,$D104*$E104," ")," ")," ") | Q104: =IF(ISNUMBER(SEARCH("squat",$B104)),IF($C104>=0.9,$D104*$E104," ")," ")
A105: 3 | B105: Chest Muscles | D105: 8 | E105: 5
A106: 5 | B106: Abs | D106: 8 | E106: 4
A108: 6 day (Saturday) | C108: % | D108: reps | E108: sets | F108: weight
...

Sheet 4 day Comp
B1: Sheiko
B2: Competition Period for Class 1 & CMS
A5: week 1 | M5: squat | R5: bench | W5: deadlift
A6: 1 day (Monday) | C6: % | D6: reps | E6: sets | F6: weight | M6: 50-59 | N6: 60-69 | O6: 70-79 | P6: 80-89 | Q6: 90+ | R6: 50-59 | S6: 60-69 | T6: 70-79 | U6: 80-89 | V6: 90+ | W6: 50-59 | X6: 60-69 | Y6: 70-79 | Z6: 80-89 | AA6: 90+
A7: 1 | B7: Bench press | C7: 0.55 | D7: 5 | E7: 1 | F7: =Max!$B$3*C7 -> 46.75 | I7: =D7*E7 -> 5 | J7: =I7*F7 -> 233.75 | R7: =IF(ISNUMBER(SEARCH("bench",$B7)),IF($C7>=0.5,IF($C7<0.6,$D7*$E7," ")," ")," ") -> 5 | S7: =IF(ISNUMBER(SEARCH("bench",$B7)),IF($C7>=0.6,IF($C7<0.7,$D7*$E7," ")," ")," ") | T7: =IF(ISNUMBER(SEARCH("bench",$B7)),IF($C7>=0.7,IF($C7<0.8,$D7*$E7," ")," ")," ") | U7: =IF(ISNUMBER(SEARCH("bench",$B7)),IF($C7>=0.8,IF($C7<0.9,$D7*$E7," ")," ")," ") | V7: =IF(ISNUMBER(SEARCH("bench",$B7)),IF($C7>=0.9,$D7*$E7," ")," ")
B8: Bench press | C8: 0.65 | D8: 4 | E8: 1 | F8: =Max!$B$3*C8 -> 55.25 | I8: =D8*E8 -> 4 | J8: =I8*F8 -> 221 | R8: =IF(ISNUMBER(SEARCH("bench",$B8)),IF($C8>=0.5,IF($C8<0.6,$D8*$E8," ")," ")," ") | S8: =IF(ISNUMBER(SEARCH("bench",$B8)),IF($C8>=0.6,IF($C8<0.7,$D8*$E8," ")," ")," ") -> 4 | T8: =IF(ISNUMBER(SEARCH("bench",$B8)),IF($C8>=0.7,IF($C8<0.8,$D8*$E8," ")," ")," ") | U8: =IF(ISNUMBER(SEARCH("bench",$B8)),IF($C8>=0.8,IF($C8<0.9,$D8*$E8," ")," ")," ") | V8: =IF(ISNUMBER(SEARCH("bench",$B8)),IF($C8>=0.9,$D8*$E8," ")," ")
B9: Bench press | C9: 0.75 | D9: 3 | E9: 1 | F9: =Max!$B$3*C9 -> 63.75 | I9: =D9*E9 -> 3 | J9: =I9*F9 -> 191.25 | R9: =IF(ISNUMBER(SEARCH("bench",$B9)),IF($C9>=0.5,IF($C9<0.6,$D9*$E9," ")," ")," ") | S9: =IF(ISNUMBER(SEARCH("bench",$B9)),IF($C9>=0.6,IF($C9<0.7,$D9*$E9," ")," ")," ") | T9: =IF(ISNUMBER(SEARCH("bench",$B9)),IF($C9>=0.7,IF($C9<0.8,$D9*$E9," ")," ")," ") -> 3 | U9: =IF(ISNUMBER(SEARCH("bench",$B9)),IF($C9>=0.8,IF($C9<0.9,$D9*$E9," ")," ")," ") | V9: =IF(ISNUMBER(SEARCH("bench",$B9)),IF($C9>=0.9,$D9*$E9," ")," ")
B10: Bench press | C10: 0.85 | D10: 2 | E10: 3 | F10: =Max!$B$3*C10 -> 72.25 | I10: =D10*E10 -> 6 | J10: =I10*F10 -> 433.5 | R10: =IF(ISNUMBER(SEARCH("bench",$B10)),IF($C10>=0.5,IF($C10<0.6,$D10*$E10," ")," ")," ") | S10: =IF(ISNUMBER(SEARCH("bench",$B10)),IF($C10>=0.6,IF($C10<0.7,$D10*$E10," ")," ")," ") | T10: =IF(ISNUMBER(SEARCH("bench",$B10)),IF($C10>=0.7,IF($C10<0.8,$D10*$E10," ")," ")," ") | U10: =IF(ISNUMBER(SEARCH("bench",$B10)),IF($C10>=0.8,IF($C10<0.9,$D10*$E10," ")," ")," ") -> 6 | V10: =IF(ISNUMBER(SEARCH("bench",$B10)),IF($C10>=0.9,$D10*$E10," ")," ")
A11: 2 | B11: Squat | C11: 0.5 | D11: 5 | E11: 1 | F11: =Max!$B$2*C11 -> 100 | G11: =D11*E11 -> 5 | H11: =G11*F11 -> 500 | M11: =IF(ISNUMBER(SEARCH("squat",$B11)),IF($C11>=0.5,IF($C11<0.6,$D11*$E11," ")," ")," ") -> 5 | N11: =IF(ISNUMBER(SEARCH("squat",$B11)),IF($C11>=0.6,IF($C11<0.7,$D11*$E11," ")," ")," ") | O11: =IF(ISNUMBER(SEARCH("squat",$B11)),IF($C11>=0.7,IF($C11<0.8,$D11*$E11," ")," ")," ") | P11: =IF(ISNUMBER(SEARCH("squat",$B11)),IF($C11>=0.8,IF($C11<0.9,$D11*$E11," ")," ")," ") | Q11: =IF(ISNUMBER(SEARCH("squat",$B11)),IF($C11>=0.9,$D11*$E11," ")," ")
B12: Squat | C12: 0.6 | D12: 4 | E12: 1 | F12: =Max!$B$2*C12 -> 120 | G12: =D12*E12 -> 4 | H12: =G12*F12 -> 480 | M12: =IF(ISNUMBER(SEARCH("squat",$B12)),IF($C12>=0.5,IF($C12<0.6,$D12*$E12," ")," ")," ") | N12: =IF(ISNUMBER(SEARCH("squat",$B12)),IF($C12>=0.6,IF($C12<0.7,$D12*$E12," ")," ")," ") -> 4 | O12: =IF(ISNUMBER(SEARCH("squat",$B12)),IF($C12>=0.7,IF($C12<0.8,$D12*$E12," ")," ")," ") | P12: =IF(ISNUMBER(SEARCH("squat",$B12)),IF($C12>=0.8,IF($C12<0.9,$D12*$E12," ")," ")," ") | Q12: =IF(ISNUMBER(SEARCH("squat",$B12)),IF($C12>=0.9,$D12*$E12," ")," ")
B13: Squat | C13: 0.7 | D13: 3 | E13: 1 | F13: =Max!$B$2*C13 -> 140 | G13: =D13*E13 -> 3 | H13: =G13*F13 -> 420 | M13: =IF(ISNUMBER(SEARCH("squat",$B13)),IF($C13>=0.5,IF($C13<0.6,$D13*$E13," ")," ")," ") | N13: =IF(ISNUMBER(SEARCH("squat",$B13)),IF($C13>=0.6,IF($C13<0.7,$D13*$E13," ")," ")," ") | O13: =IF(ISNUMBER(SEARCH("squat",$B13)),IF($C13>=0.7,IF($C13<0.8,$D13*$E13," ")," ")," ") -> 3 | P13: =IF(ISNUMBER(SEARCH("squat",$B13)),IF($C13>=0.8,IF($C13<0.9,$D13*$E13," ")," ")," ") | Q13: =IF(ISNUMBER(SEARCH("squat",$B13)),IF($C13>=0.9,$D13*$E13," ")," ")
B14: Squat | C14: 0.8 | D14: 3 | E14: 4 | F14: =Max!$B$2*C14 -> 160 | G14: =D14*E14 -> 12 | H14: =G14*F14 -> 1920 | M14: =IF(ISNUMBER(SEARCH("squat",$B14)),IF($C14>=0.5,IF($C14<0.6,$D14*$E14," ")," ")," ") | N14: =IF(ISNUMBER(SEARCH("squat",$B14)),IF($C14>=0.6,IF($C14<0.7,$D14*$E14," ")," ")," ") | O14: =IF(ISNUMBER(SEARCH("squat",$B14)),IF($C14>=0.7,IF($C14<0.8,$D14*$E14," ")," ")," ") | P14: =IF(ISNUMBER(SEARCH("squat",$B14)),IF($C14>=0.8,IF($C14<0.9,$D14*$E14," ")," ")," ") -> 12 | Q14: =IF(ISNUMBER(SEARCH("squat",$B14)),IF($C14>=0.9,$D14*$E14," ")," ")
A15: 3 | B15: Bench press | C15: 0.5 | D15: 5 | E15: 1 | F15: =Max!$B$3*C15 -> 42.5 | I15: =D15*E15 -> 5 | J15: =I15*F15 -> 212.5 | R15: =IF(ISNUMBER(SEARCH("bench",$B15)),IF($C15>=0.5,IF($C15<0.6,$D15*$E15," ")," ")," ") -> 5 | S15: =IF(ISNUMBER(SEARCH("bench",$B15)),IF($C15>=0.6,IF($C15<0.7,$D15*$E15," ")," ")," ") | T15: =IF(ISNUMBER(SEARCH("bench",$B15)),IF($C15>=0.7,IF($C15<0.8,$D15*$E15," ")," ")," ") | U15: =IF(ISNUMBER(SEARCH("bench",$B15)),IF($C15>=0.8,IF($C15<0.9,$D15*$E15," ")," ")," ") | V15: =IF(ISNUMBER(SEARCH("bench",$B15)),IF($C15>=0.9,$D15*$E15," ")," ")
B16: Bench press | C16: 0.6 | D16: 4 | E16: 1 | F16: =Max!$B$3*C16 -> 51 | I16: =D16*E16 -> 4 | J16: =I16*F16 -> 204 | R16: =IF(ISNUMBER(SEARCH("bench",$B16)),IF($C16>=0.5,IF($C16<0.6,$D16*$E16," ")," ")," ") | S16: =IF(ISNUMBER(SEARCH("bench",$B16)),IF($C16>=0.6,IF($C16<0.7,$D16*$E16," ")," ")," ") -> 4 | T16: =IF(ISNUMBER(SEARCH("bench",$B16)),IF($C16>=0.7,IF($C16<0.8,$D16*$E16," ")," ")," ") | U16: =IF(ISNUMBER(SEARCH("bench",$B16)),IF($C16>=0.8,IF($C16<0.9,$D16*$E16," ")," ")," ") | V16: =IF(ISNUMBER(SEARCH("bench",$B16)),IF($C16>=0.9,$D16*$E16," ")," ")
B17: Bench press | C17: 0.7 | D17: 3 | E17: 1 | F17: =Max!$B$3*C17 -> 59.5 | I17: =D17*E17 -> 3 | J17: =I17*F17 -> 178.5 | R17: =IF(ISNUMBER(SEARCH("bench",$B17)),IF($C17>=0.5,IF($C17<0.6,$D17*$E17," ")," ")," ") | S17: =IF(ISNUMBER(SEARCH("bench",$B17)),IF($C17>=0.6,IF($C17<0.7,$D17*$E17," ")," ")," ") | T17: =IF(ISNUMBER(SEARCH("bench",$B17)),IF($C17>=0.7,IF($C17<0.8,$D17*$E17," ")," ")," ") -> 3 | U17: =IF(ISNUMBER(SEARCH("bench",$B17)),IF($C17>=0.8,IF($C17<0.9,$D17*$E17," ")," ")," ") | V17: =IF(ISNUMBER(SEARCH("bench",$B17)),IF($C17>=0.9,$D17*$E17," ")," ")
B18: Bench press | C18: 0.8 | D18: 2 | E18: 4 | F18: =Max!$B$3*C18 -> 68 | I18: =D18*E18 -> 8 | J18: =I18*F18 -> 544 | R18: =IF(ISNUMBER(SEARCH("bench",$B18)),IF($C18>=0.5,IF($C18<0.6,$D18*$E18," ")," ")," ") | S18: =IF(ISNUMBER(SEARCH("bench",$B18)),IF($C18>=0.6,IF($C18<0.7,$D18*$E18," ")," ")," ") | T18: =IF(ISNUMBER(SEARCH("bench",$B18)),IF($C18>=0.7,IF($C18<0.8,$D18*$E18," ")," ")," ") | U18: =IF(ISNUMBER(SEARCH("bench",$B18)),IF($C18>=0.8,IF($C18<0.9,$D18*$E18," ")," ")," ") -> 8 | V18: =IF(ISNUMBER(SEARCH("bench",$B18)),IF($C18>=0.9,$D18*$E18," ")," ")
A19: 4 | B19: Chest Muscles | D19: 8 | E19: 4
A20: 5 | B20: Hyperextension | D20: 8 | E20: 4
A22: 3 day (Wednesday) | C22: % | D22: reps | E22: sets | F22: weight
A23: 1 | B23: Deficit Deadlift | C23: 0.5 | D23: 3 | E23: 1 | F23: =Max!$B$4*C23 -> 80 | K23: =D23*E23 -> 3 | L23: =K23*F23 -> 240 | W23: =IF(ISNUMBER(SEARCH("deadlift",$B23)),IF($C23>=0.5,IF($C23<0.6,$D23*$E23," ")," ")," ") -> 3 | X23: =IF(ISNUMBER(SEARCH("deadlift",$B23)),IF($C23>=0.6,IF($C23<0.7,$D23*$E23," ")," ")," ") | Y23: =IF(ISNUMBER(SEARCH("deadlift",$B23)),IF($C23>=0.7,IF($C23<0.8,$D23*$E23," ")," ")," ") | Z23: =IF(ISNUMBER(SEARCH("deadlift",$B23)),IF($C23>=0.8,IF($C23<0.9,$D23*$E23," ")," ")," ") | AA23: =IF(ISNUMBER(SEARCH("deadlift",$B23)),IF($C23>=0.9,$D23*$E23," ")," ")
B24: Deficit Deadlift | C24: 0.6 | D24: 3 | E24: 1 | F24: =Max!$B$4*C24 -> 96 | K24: =D24*E24 -> 3 | L24: =K24*F24 -> 288 | W24: =IF(ISNUMBER(SEARCH("deadlift",$B24)),IF($C24>=0.5,IF($C24<0.6,$D24*$E24," ")," ")," ") | X24: =IF(ISNUMBER(SEARCH("deadlift",$B24)),IF($C24>=0.6,IF($C24<0.7,$D24*$E24," ")," ")," ") -> 3 | Y24: =IF(ISNUMBER(SEARCH("deadlift",$B24)),IF($C24>=0.7,IF($C24<0.8,$D24*$E24," ")," ")," ") | Z24: =IF(ISNUMBER(SEARCH("deadlift",$B24)),IF($C24>=0.8,IF($C24<0.9,$D24*$E24," ")," ")," ") | AA24: =IF(ISNUMBER(SEARCH("deadlift",$B24)),IF($C24>=0.9,$D24*$E24," ")," ")
B25: Deficit Deadlift | C25: 0.7 | D25: 2 | E25: 2 | F25: =Max!$B$4*C25 -> 112 | K25: =D25*E25 -> 4 | L25: =K25*F25 -> 448 | W25: =IF(ISNUMBER(SEARCH("deadlift",$B25)),IF($C25>=0.5,IF($C25<0.6,$D25*$E25," ")," ")," ") | X25: =IF(ISNUMBER(SEARCH("deadlift",$B25)),IF($C25>=0.6,IF($C25<0.7,$D25*$E25," ")," ")," ") | Y25: =IF(ISNUMBER(SEARCH("deadlift",$B25)),IF($C25>=0.7,IF($C25<0.8,$D25*$E25," ")," ")," ") -> 4 | Z25: =IF(ISNUMBER(SEARCH("deadlift",$B25)),IF($C25>=0.8,IF($C25<0.9,$D25*$E25," ")," ")," ") | AA25: =IF(ISNUMBER(SEARCH("deadlift",$B25)),IF($C25>=0.9,$D25*$E25," ")," ")
A26: 2 | B26: Bench press | C26: 0.5 | D26: 5 | E26: 1 | F26: =Max!$B$3*C26 -> 42.5 | I26: =D26*E26 -> 5 | J26: =I26*F26 -> 212.5 | R26: =IF(ISNUMBER(SEARCH("bench",$B26)),IF($C26>=0.5,IF($C26<0.6,$D26*$E26," ")," ")," ") -> 5 | S26: =IF(ISNUMBER(SEARCH("bench",$B26)),IF($C26>=0.6,IF($C26<0.7,$D26*$E26," ")," ")," ") | T26: =IF(ISNUMBER(SEARCH("bench",$B26)),IF($C26>=0.7,IF($C26<0.8,$D26*$E26," ")," ")," ") | U26: =IF(ISNUMBER(SEARCH("bench",$B26)),IF($C26>=0.8,IF($C26<0.9,$D26*$E26," ")," ")," ") | V26: =IF(ISNUMBER(SEARCH("bench",$B26)),IF($C26>=0.9,$D26*$E26," ")," ")
B27: Bench press | C27: 0.6 | D27: 4 | E27: 1 | F27: =Max!$B$3*C27 -> 51 | I27: =D27*E27 -> 4 | J27: =I27*F27 -> 204 | R27: =IF(ISNUMBER(SEARCH("bench",$B27)),IF($C27>=0.5,IF($C27<0.6,$D27*$E27," ")," ")," ") | S27: =IF(ISNUMBER(SEARCH("bench",$B27)),IF($C27>=0.6,IF($C27<0.7,$D27*$E27," ")," ")," ") -> 4 | T27: =IF(ISNUMBER(SEARCH("bench",$B27)),IF($C27>=0.7,IF($C27<0.8,$D27*$E27," ")," ")," ") | U27: =IF(ISNUMBER(SEARCH("bench",$B27)),IF($C27>=0.8,IF($C27<0.9,$D27*$E27," ")," ")," ") | V27: =IF(ISNUMBER(SEARCH("bench",$B27)),IF($C27>=0.9,$D27*$E27," ")," ")
B28: Bench press | C28: 0.7 | D28: 3 | E28: 1 | F28: =Max!$B$3*C28 -> 59.5 | I28: =D28*E28 -> 3 | J28: =I28*F28 -> 178.5 | R28: =IF(ISNUMBER(SEARCH("bench",$B28)),IF($C28>=0.5,IF($C28<0.6,$D28*$E28," ")," ")," ") | S28: =IF(ISNUMBER(SEARCH("bench",$B28)),IF($C28>=0.6,IF($C28<0.7,$D28*$E28," ")," ")," ") | T28: =IF(ISNUMBER(SEARCH("bench",$B28)),IF($C28>=0.7,IF($C28<0.8,$D28*$E28," ")," ")," ") -> 3 | U28: =IF(ISNUMBER(SEARCH("bench",$B28)),IF($C28>=0.8,IF($C28<0.9,$D28*$E28," ")," ")," ") | V28: =IF(ISNUMBER(SEARCH("bench",$B28)),IF($C28>=0.9,$D28*$E28," ")," ")
